Workbook
Name OLE_LINK1: Мероприятия!$A$3
Name OLE_LINK1: 'Мероприятия (2)'!$A$3
Name OLE_LINK1: 'Мероприятия (3)'!$A$3

Sheet Финансирование
N1: Приложение 3 к постановлению администрации муниципального образования «Город Астрахань» от ____________ №_______ Приложение 2 к муниципальной программе муниципального образования "Город Астрахань" "Энергосбережение и повышение энергетической эффективности в городе Астрахани"
A2: РАСПРЕДЕЛЕНИЕ РАСХОДОВ НА РЕАЛИЗАЦИЮ МУНИЦИПАЛЬНОЙ ПРОГРАММЫ "ЭНЕРГОСБЕРЕЖЕНИЕ И ПОВЫШЕНИЕ ЭНЕРГЕТИЧЕСКОЙ ЭФФЕКТИВНОСТИ В ГОРОДЕ АСТРАХАНИ"
A3: N п/п | B3: Цели, задачи, наименования программных мероприятий | C3: Ответственные исполнители, соисполнители (участники) | D3: Источники финансирования | E3: Коды классификации | I3: Планируемые расходы, руб.
E4: раздел, подраздел | F4: целевая статья | G4: вид расходов | H4: КОСГУ | I4: всего | J4: 2016 год | K4: 2017 год | L4: 2018 год | M4: 2019 год | N4: 2020 год | O4: 2021 год | P4: 2022 год | Q4: 2023 год | R4: 2024 год
B5: Муниципальная программа муниципального образования "Город Астрахань" "Энергосбережение и повышение энергетической эффективности в городе Астрахани"
A6: 1 | B6: Муниципальная программа "Энергосбережение и повышение энергетической эффективности в городе Астрахани" | C6: Управление по коммунальному хозяйству и благоустройству администрации муниципального образования "Город Астрахань" (Управление образования администрации муниципального образования "Город Астрахань", Управление культуры администрации муниципального образования "Город Астрахань", Управление по капитальному строительству администрации муниципального образования "Город Астрахань", МУП г. Астрахани "Астрводоканал", МУП г. Астрахани "Коммунэнерго", МКП г. Астрахани "Горсвет") | D6: Бюджет МО "Город Астрахань", бюджет Астраханской области, внебюджетные источники | E6: х | F6: х | G6: х | H6: х | I6: =SUM(J6:R6) -> 1.5479192e+09 | J6: =J7 -> 55458000 | K6: =K7 -> 4.0405573e+08 | L6: =L7 -> 2.366077e+08 | M6: =M7 -> 1.8584015e+08 | N6: =N7 -> 97913077 | O6: =O7 -> 15319584 | P6: =P7 -> 1.9334056e+08 | Q6: =Q7 -> 2.2914276e+08 | R6: =R7 -> 1.3024166e+08
A7: 2 | B7: Цель 1. Повышение эффективности использования энергетических ресурсов в муниципальном образовании "Город Астрахань" | C7: Управление по коммунальному хозяйству и благоустройству администрации муниципального образования "Город Астрахань" (Управление образования администрации муниципального образования "Город Астрахань", Управление культуры администрации муниципального образования "Город Астрахань", Управление по капитальному строительству администрации муниципального образования "Город Астрахань", МУП г. Астрахани "Астрводоканал", МУП г. Астрахани "Коммунэнерго", МКП г. Астрахани "Горсвет") | D7: Бюджет МО "Город Астрахань", бюджет Астраханской области, внебюджетные источники | E7: х | F7: х | G7: х | H7: х | I7: =SUM(J7:R7) -> 1.5479192e+09 | J7: =J11+J16+J17+J18+J19 -> 55458000 | K7: =K11+K16+K17+K18+K19 -> 4.0405573e+08 | L7: =L11+L16+L17+L18+L19 -> 2.366077e+08 | M7: =M11+M16+M17+M18+M19 -> 1.8584015e+08 | N7: =N11+N16+N17+N18+N19 -> 97913077 | O7: =O11+O16+O17+O18+O19 -> 15319584 | P7: =P11+P16+P17+P18+P19 -> 1.9334056e+08 | Q7: =Q11+Q16+Q17+Q18+Q19 -> 2.2914276e+08 | R7: =R11+R16+R17+R18+R19 -> 1.3024166e+08
D8: Внебюджетные источники | E8: х | F8: х | G8: х | H8: х | I8: =SUM(J8:R8) -> 722071000 | J8: =J32 -> 55458000 | K8: =K32 -> 401440000 | L8: =L32 -> 135173000 | M8: =M32 -> 110000000 | N8: =N32 -> 0 | O8: =O32 -> 0 | P8: =P32 -> 20000000 | Q8: =Q32 -> 0 | R8: =R32 -> 0
D9: Бюджет МО «Город Астрахань» | E9: х | F9: х | G9: х | H9: х | I9: =SUM(J9:R9) -> 4.7490121e+08 | K9: =K21+K33 -> 2615729.4 | L9: =L21+L33 -> 2434702.5 | M9: =M21+M33 -> 41040148 | N9: =N21+N33 -> 9986076.9 | O9: =O21+O33 -> 15319584 | P9: =P21+P33 -> 1.3412056e+08 | Q9: =Q21+Q33 -> 1.3914276e+08 | R9: =R21+R33 -> 1.3024166e+08
D10: Бюджет Астраханской области | E10: х | F10: х | G10: х | H10: х | I10: =SUM(J10:R10) -> 350947000 | J10: =J34 -> 0 | K10: =K34 -> 0 | L10: =L34 -> 99000000 | M10: =M34 -> 34800000 | N10: =N34 -> 87927000 | O10: =O34 -> 0 | P10: =P34 -> 39220000 | Q10: =Q34 -> 90000000 | R10: =R34 -> 0
A11: 3 | B11: Задача 1.1. Формирование системы информационного просвещения населения муниципального образования "Город Астрахань" в области энергосбережения и повышения энергетической эффективности | C11: Управление по коммунальному хозяйству и благоустройству администрации муниципального образования "Город Астрахань" | D11: Не требует финансирования | E11: х | F11: х | G11: х | H11: х | I11: =SUM(J11:R11) -> 0 | J11: =J12 -> 0 | K11: =K12 -> 0 | L11: =L12 -> 0 | M11: =M12 -> 0 | N11: =N12 -> 0 | O11: =O12 -> 0 | P11: =P12 -> 0 | Q11: =Q12 -> 0 | R11: =R12 -> 0
A12: 4 | B12: Основное мероприятие 1.1.1. Повышение информированности общества об энергосберегающих технологиях и стимулирование формирования модели бережливого отношения населения к энергоресурсам | C12: Управление по коммунальному хозяйству и благоустройству администрации муниципального образования "Город Астрахань" | D12: Не требует финансирования | E12: х | F12: х | G12: х | H12: х | I12: =SUM(J12:R12) -> 0 | J12: =J13+J14+J15 -> 0 | K12: =K13+K14+K15 -> 0 | L12: =L13+L14+L15 -> 0 | M12: =M13+M14+M15 -> 0 | N12: =N13+N14+N15 -> 0 | O12: =O13+O14+O15 -> 0 | P12: =P13+P14+P15 -> 0 | Q12: =Q13+Q14+Q15 -> 0 | R12: =R13+R14+R15 -> 0
A13: 5 | B13: Мероприятие 1.1.1.1. Разработка рекомендаций по внедрению энергоэффективных технологий при строительстве, реконструкции и эксплуатации | C13: Управление по коммунальному хозяйству и благоустройству администрации муниципального образования "Город Астрахань" | D13: Не требует финансирования | E13: х | F13: х | G13: х | H13: х | I13: =SUM(J13:R13) -> 0
A14: 6 | B14: Мероприятие 1.1.1.2. Пропаганда сбережения энергии и сохранения энергоресурсов | C14: Управление по коммунальному хозяйству и благоустройству администрации муниципального образования "Город Астрахань" | D14: Не требует финансирования | E14: х | F14: х | G14: х | H14: х | I14: =SUM(J14:R14) -> 0
A15: 7 | B15: Мероприятие 1.1.1.3. Проведение анализа потребления энергоресурсов на территории города Астрахани | C15: Управление по коммунальному хозяйству и благоустройству администрации муниципального образования "Город Астрахань" | D15: Не требует финансирования | E15: х | F15: х | G15: х | H15: х | I15: =SUM(J15:R15) -> 0
A16: 8 | B16: Задача 1.2. Повышение энергетической эффективности на объектах социальной сферы | C16: Управление по коммунальному хозяйству и благоустройству администрации муниципального образования "Город Астрахань" (Управление образования администрации муниципального образования "Город Астрахань", Управление культуры администрации муниципального образования) | D16: Бюджет МО "Город Астрахань" | E16: х | F16: х | G16: х | H16: х | I16: =SUM(J16:R16) -> 4551431.9 | J16: =J21 -> 0 | K16: =K21 -> 2615729.4 | L16: =L21 -> 1935702.5 | M16: =M21 -> 0 | N16: =N21 -> 0 | O16: =O21 -> 0 | P16: =P21 -> 0 | Q16: =Q21 -> 0 | R16: =R21 -> 0
A17: 9 | B17: Задача 1.3. Повышение энергетической эффективности в системах коммунальной инфраструктуры | C17: Управление по коммунальному хозяйству и благоустройству администрации муниципального образования "Город Астрахань», Управление по капитальному строительству администрации муниципального образования "Город Астрахань", МУП г. Астрахани "Астрводоканал", МУП г. Астрахани "Коммунэнерго", МКП г. Астрахани "Горсвет") | D17: Внебюджетные источники | E17: х | F17: х | G17: х | H17: х | I17: =SUM(J17:R17) -> 722071000 | J17: =J32 -> 55458000 | K17: =K32 -> 401440000 | L17: =L32 -> 135173000 | M17: =M32 -> 110000000 | N17: =N32 -> 0 | O17: =O32 -> 0 | P17: =P32 -> 20000000 | Q17: =Q32 -> 0 | R17: =R32 -> 0
D18: Бюджет МО «Город Астрахань» | I18: =SUM(J18:R18) -> 4.7034977e+08 | J18: =J33 -> 0 | K18: =K33 -> 0 | L18: =L33 -> 499000 | M18: =M33 -> 41040148 | N18: =N33 -> 9986076.9 | O18: =O33 -> 15319584 | P18: =P33 -> 1.3412056e+08 | Q18: =Q33 -> 1.3914276e+08 | R18: =R33 -> 1.3024166e+08
D19: Бюджет Астраханской области | E19: х | F19: х | G19: х | H19: х | I19: =SUM(J19:R19) -> 350947000 | J19: =J34 -> 0 | K19: =K34 -> 0 | L19: =L34 -> 99000000 | M19: =M34 -> 34800000 | N19: =N34 -> 87927000 | O19: =O34 -> 0 | P19: =P34 -> 39220000 | Q19: =Q34 -> 90000000 | R19: =R34 -> 0
A20: Подпрограмма 1 "Энергоэффективность социальной сферы"
A21: 10 | B21: Цель 1. Повышение энергетической эффективности на объектах социальной сферы | C21: Управление по коммунальному хозяйству и благоустройству администрации муниципального образования "Город Астрахань", Управление образования администрации муниципального образования "Город Астрахань", Управление культуры администрации муниципального образования | D21: Бюджет МО "Город Астрахань" | E21: х | F21: х | G21: х | H21: х | I21: =SUM(J21:R21) -> 4551431.9 | J21: =J22 -> 0 | K21: =K22 -> 2615729.4 | L21: =L22 -> 1935702.5 | M21: =M22 -> 0 | N21: =N22 -> 0 | O21: =O22 -> 0 | P21: =P22 -> 0 | Q21: =Q22 -> 0 | R21: =R22 -> 0
A22: 11 | B22: Задача 1.1. Оснащение приборами учета муниципальных учреждений социальной сферы | C22: Управление по коммунальному хозяйству и благоустройству администрации муниципального образования "Город Астрахань" (Управление образования администрации муниципального образования "Город Астрахань", Управление культуры администрации муниципального образования) | D22: Бюджет МО "Город Астрахань" | E22: х | F22: х | G22: х | H22: х | I22: =SUM(J22:R22) -> 4551431.9 | J22: =J23+J24+J25+J26 -> 0 | K22: =K23+K24+K25+K26 -> 2615729.4 | L22: =L23+L24+L25+L26 -> 1935702.5 | M22: =M23+M24+M25+M26 -> 0 | N22: =N23+N24+N25+N26 -> 0 | O22: =O23+O24+O25+O26 -> 0 | P22: =P23+P24+P25+P26 -> 0 | Q22: =Q23+Q24+Q25+Q26 -> 0 | R22: =R23+R24+R25+R26 -> 0
A23: 12 | B23: Мероприятие 1.1.1. Реализация полномочий в сфере коммунального хозяйства | C23: Управление по коммунальному хозяйству и благоустройству администрации муниципального образования "Город Астрахань" (Управление образования администрации муниципального образования "Город Астрахань", Управление культуры администрации муниципального образования) | D23: Бюджет МО "Город Астрахань" | E23: х | F23: х | G23: х | H23: х | I23: =SUM(J23:R23) -> 4551431.9 | J23: 0 | K23: 2615729.4 | L23: 1935702.5 | M23: 0 | N23: 0 | O23: 0
A24: 13 | B24: Мероприятие 1.1.2. Проведение семинаров на тему "Практическое внедрение энергосервисных контрактов" | C24: Управление по коммунальному хозяйству и благоустройству администрации муниципального образования "Город Астрахань" | D24: Не требует финансирования | E24: х | F24: х | G24: х | H24: х | I24: =SUM(J24:R24) -> 0
A25: 14 | B25: Мероприятие 1.1.3. Анализ потенциала энергоэффективности муниципальных учреждений | C25: Управление по коммунальному хозяйству и благоустройству администрации муниципального образования "Город Астрахань" | D25: Не требует финансирования | E25: х | F25: х | G25: х | H25: х | I25: =SUM(J25:R25) -> 0
A26: 15 | B26: Мероприятие 1.1.4. Проведение конкурсов по энергосбережению и внедрению инновационных технологий среди учащихся муниципальных образовательных учреждений города Астрахани | C26: Управление по коммунальному хозяйству и благоустройству администрации муниципального образования "Город Астрахань" (Управление образования администрации муниципального образования "Город Астрахань") | D26: Не требует финансирования | E26: х | F26: х | G26: х | H26: х | I26: =SUM(J26:R26) -> 0
B27: Итого по Подпрограмме 1, в том числе по источникам финансирования: | I27: =SUM(J27:R27) -> 4551431.9 | J27: =J21 -> 0 | K27: =K21 -> 2615729.4 | L27: =L21 -> 1935702.5 | M27: =M21 -> 0 | N27: =N21 -> 0 | O27: =O21 -> 0 | P27: =P21 -> 0 | Q27: =Q21 -> 0 | R27: =R21 -> 0
B28: бюджет муниципального образования "Город Астрахань": | I28: =SUM(J28:R28) -> 4551431.9 | J28: 0 | K28: =K21 -> 2615729.4 | L28: =L21 -> 1935702.5 | M28: =M21 -> 0 | N28: =N21 -> 0 | O28: =O21 -> 0 | P28: =P21 -> 0 | Q28: =Q21 -> 0 | R28: =R21 -> 0
B29: внебюджетные источники | I29: =SUM(J29:R29) -> 0 | J29: 0 | K29: 0 | L29: 0 | M29: 0 | N29: 0 | O29: 0 | P29: 0 | Q29: 0 | R29: 0
A30: Подпрограмма 2 "Энергосбережение и повышение энергетической эффективности в системах коммунальной инфраструктуры"
A31: 16 | B31: Цель 1. Повышение энергетической эффективности в системах коммунальной инфраструктуры | C31: Управление по коммунальному хозяйству и благоустройству администрации муниципального образования "Город Астрахань" (МУП г. Астрахани "Астрводоканал", МУП г. Астрахани "Коммунэнерго", МКП г. Астрахани "Горсвет") Управление по капитальному строительству администрации муниципального образования «Город Астрахань» | D31: Всего, в том числе: | E31: х | F31: х | G31: х | H31: х | I31: =SUM(J31:R31) -> 1.5433678e+09 | J31: =SUM(J32:J34) -> 55458000 | K31: =SUM(K32:K34) -> 401440000 | L31: =SUM(L32:L34) -> 234672000 | M31: =SUM(M32:M34) -> 1.8584015e+08 | N31: =SUM(N32:N34) -> 97913077 | O31: =SUM(O32:O34) -> 15319584 | P31: =SUM(P32:P34) -> 1.9334056e+08 | Q31: =SUM(Q32:Q34) -> 2.2914276e+08 | ... U31: =SUM(U32:U34) -> 1.2520328e+08 | V31: =O31-S31 -> -17592433 | W31: =P31-T31 -> 39686197 | X31: =R31-U31 -> 5038372.4
D32: Внебюджетные источники | E32: х | F32: х | G32: х | H32: х | I32: =SUM(J32:R32) -> 722071000 | J32: =J37+J40+J60+J77 -> 55458000 | K32: =K37+K40+K60+K77 -> 401440000 | L32: =L37+L40+L60+L77 -> 135173000 | M32: =M37+M40+M60+M77 -> 110000000 | N32: =N37+N40+N60+N77 -> 0 | O32: =O37+O40+O60+O77 -> 0 | P32: =P37+P40+P60+P77 -> 20000000 | Q32: =Q37+Q40+Q60+Q77 -> 0 | ... U32: =U37+U40+U60+U77 -> 0 | V32: =O32-S32 -> 0 | W32: =P32-T32 -> 0 | X32: =R32-U32 -> 0
D33: Бюджет МО«Город Астрахань» | E33: х | F33: х | G33: х | H33: х | I33: =SUM(J33:R33) -> 4.7034977e+08 | J33: =J38+J41+J61+J78 -> 0 | K33: =K38+K41+K61+K78 -> 0 | L33: =L38+L41+L61+L78 -> 499000 | M33: =M38+M41+M61+M78 -> 41040148 | N33: =N38+N41+N61+N78 -> 9986076.9 | O33: =O38+O41+O61+O78 -> 15319584 | P33: =P38+P41+P61+P78 -> 1.3412056e+08 | Q33: =Q38+Q41+Q61+Q78 -> 1.3914276e+08 | ... U33: =U38+U41+U61+U78 -> 1.2520328e+08 | V33: =O33-S33 -> -17592433 | W33: =P33-T33 -> 466196.6 | X33: =R33-U33 -> 5038372.4
D34: Бюджет Астраханской области | E34: х | F34: х | G34: х | H34: х | I34: =SUM(J34:R34) -> 350947000 | J34: =J39+J42+J62 -> 0 | K34: =K39+K42+K62 -> 0 | L34: =L39+L42+L62 -> 99000000 | M34: =M39+M42+M62 -> 34800000 | N34: =N39+N42+N62 -> 87927000 | O34: =O39+O42+O62 -> 0 | P34: =P39+P42+P62 -> 39220000 | Q34: =Q39+Q42+Q62 -> 90000000 | ... U34: =U39+U42+U62 -> 0 | V34: =O34-S34 -> 0 | W34: =P34-T34 -> 39220000 | X34: =R34-U34 -> 0
I35: =SUM(J35:R35) -> 0 | V35: =O35-S35 -> 0 | W35: =P35-T35 -> 0 | X35: =R35-U35 -> 0
I36: =SUM(J36:R36) -> 0 | V36: =O36-S36 -> 0 | W36: =P36-T36 -> 0 | X36: =R36-U36 -> 0
A37: 17 | B37: Задача 1.1. Повышение энергетической эффективности в сфере водоснабжения и водоотведения | C37: Управление по капитальному строительству администрации муниципального образования «Город Астрахань» | D37: Внебюджетные источники | E37: х | F37: х | G37: х | H37: х | I37: =SUM(J37:R37) -> 0 | J37: 0 | K37: 0 | L37: 0 | M37: 0 | N37: 0 | O37: 0 | P37: 0 | Q37: 0 | R37: 0 | S37: 0 | T37: 0 | U37: 0 | V37: =O37-S37 -> 0 | W37: =P37-T37 -> 0 | X37: =R37-U37 -> 0
D38: Бюджет МО «Город Астрахань» | E38: х | F38: х | G38: х | H38: х | I38: =SUM(J38:R38) -> 1773000 | J38: =J53+J55+J59 -> 0 | K38: =K53+K55+K59 -> 0 | L38: =L53+L55+L59 -> 0 | M38: =M53+M55+M59 -> 0 | N38: =N53+N55+N59 -> 1773000 | O38: =O53+O55+O59 -> 0 | P38: =P53+P55+P59 -> 0 | Q38: =Q53+Q55+Q59 -> 0 | ... U38: =U53+U55+U59 -> 0 | V38: =O38-S38 -> 0 | W38: =P38-T38 -> 0 | X38: =R38-U38 -> 0
D39: Бюджет Астраханской области | E39: х | F39: х | G39: х | H39: х | I39: =SUM(J39:R39) -> 17927000 | J39: =J54+J56 -> 0 | K39: =K54+K56 -> 0 | L39: =L54+L56 -> 0 | M39: =M54+M56 -> 0 | N39: =N54+N56 -> 17927000 | O39: =O54+O56 -> 0 | P39: =P54+P56 -> 0 | Q39: =Q54+Q56 -> 0 | ... U39: =U54+U56 -> 0 | V39: =O39-S39 -> 0 | W39: =P39-T39 -> 0 | X39: =R39-U39 -> 0
C40: Управление по коммунальному хозяйству и благоустройству администрации муниципального образования «Город Астрахань» | D40: Внебюджетные источники | I40: =SUM(J40:R40) -> 711654000 | J40: =J43+J44+J45+J46+J47+J48 -> 50265000 | K40: =K43+K44+K45+K46+K47+K48 -> 400000000 | L40: =L43+L44+L45+L46+L47+L48 -> 131389000 | M40: =M43+M44+M45+M46+M47+M48 -> 110000000 | N40: =N43+N44+N45+N46+N47+N48 -> 0 | O40: =O43+O44+O45+O46+O47+O48 -> 0 | P40: =P43+P44+P45+P46+P47+P48 -> 20000000 | Q40: =Q43+Q44+Q45+Q46+Q47+Q48 -> 0 | ... U40: =U43+U44+U45+U46+U47+U48 -> 0 | V40: =O40-S40 -> 0 | W40: =P40-T40 -> 0 | X40: =R40-U40 -> 0
D41: Бюджет МО «Город Астрахань» | I41: =SUM(J41:R41) -> 37045834 | J41: =J49+J51+J52+J57 -> 0 | K41: =K49+K51+K52+K57 -> 0 | L41: =L49+L51+L52+L57 -> 499000 | M41: =M49+M51+M52+M57 -> 28056173 | N41: =N49+N51+N52+N57 -> 6923076.9 | O41: =O49+O51+O52+O57 -> 1567583.9 | P41: =P49+P51+P52+P57 -> 0 | Q41: =Q49+Q51+Q52+Q57 -> 0 | ... U41: =U49+U51+U52+U57 -> 0 | V41: =O41-S41 -> -16334433 | W41: =P41-T41 -> -6923076.9 | X41: =R41-U41 -> 0
D42: Бюджет Астраханской области | I42: =SUM(J42:R42) -> 169000000 | J42: =J50+J58 -> 0 | K42: =K50+K58 -> 0 | L42: =L50+L58 -> 99000000 | M42: =M50+M58 -> 0 | N42: =N50+N58 -> 70000000 | O42: =O50+O58 -> 0 | P42: =P50+P58 -> 0 | Q42: =Q50+Q58 -> 0 | ... U42: =U50+U58 -> 0 | V42: =O42-S42 -> 0 | W42: =P42-T42 -> 0 | X42: =R42-U42 -> 0
A43: 18 | B43: Мероприятие 1.1.1. Внедрение автоматических станций управления на ПНС и КНС с заменой насосного оборудования (20 ПНС и 3 КНС) | C43: Управление по коммунальному хозяйству и благоустройству администрации муниципального образования "Город Астрахань" (МУП г. Астрахани "Астрводоканал") | D43: Внебюджетные источники | E43: х | F43: х | G43: х | H43: х | I43: =SUM(J43:R43) -> 19834000 | J43: 19834000 | K43: 0 | L43: 0 | M43: 0 | N43: 0 | O43: 0 | P43: 0 | Q43: 0 | R43: 0 | S43: 0 | T43: 0 | U43: 0 | V43: =O43-S43 -> 0 | W43: =P43-T43 -> 0 | X43: =R43-U43 -> 0
A44: 19 | B44: Мероприятие 1.1.2. Внедрение автоматических станций управления на ПНС и КНС с заменой насосного оборудования | C44: Управление по коммунальному хозяйству и благоустройству администрации муниципального образования "Город Астрахань" (МУП г. Астрахани "Астрводоканал") | D44: Внебюджетные источники | E44: х | F44: х | G44: х | H44: х | I44: =SUM(J44:R44) -> 30431000 | J44: 30431000 | K44: 0 | L44: 0 | M44: 0 | N44: 0 | O44: 0 | P44: 0 | Q44: 0 | R44: 0 | S44: 0 | T44: 0 | U44: 0 | V44: =O44-S44 -> 0 | W44: =P44-T44 -> 0 | X44: =R44-U44 -> 0
A45: 20 | B45: Мероприятие 1.1.3. Внедрение автоматических станций управления на КНС с заменой насосного оборудования | C45: Управление по коммунальному хозяйству и благоустройству администрации муниципального образования "Город Астрахань" (МУП г. Астрахани "Астрводоканал") | D45: Внебюджетные источники | E45: х | F45: х | G45: х | H45: х | I45: =SUM(J45:R45) -> 400000000 | J45: 0 | K45: 400000000 | L45: 0 | M45: 0 | N45: 0 | O45: 0 | P45: 0 | Q45: 0 | R45: 0 | S45: 0 | T45: 0 | U45: 0 | V45: =O45-S45 -> 0 | W45: =P45-T45 -> 0 | X45: =R45-U45 -> 0
A46: 21 | B46: Мероприятие 1.1.4. Замена насосного оборудования и запорной арматуры для снижения потерь. Замена пусковой аппаратуры с применением ПЧ на насосах 1 - 2 подъема ЛОСВ, ПОСВ2, ПОСВ1, ВОС (1 - 2 подъемы) | C46: Управление по коммунальному хозяйству и благоустройству администрации муниципального образования "Город Астрахань" (МУП г. Астрахани "Астрводоканал") | D46: Внебюджетные источники | E46: х | F46: х | G46: х | H46: х | I46: =SUM(J46:R46) -> 131389000 | J46: 0 | K46: 0 | L46: 131389000 | M46: 0 | N46: 0 | O46: 0 | P46: 0 | Q46: 0 | R46: 0 | S46: 0 | T46: 0 | U46: 0 | V46: =O46-S46 -> 0 | W46: =P46-T46 -> 0 | X46: =R46-U46 -> 0
A47: 22 | B47: Мероприятие 1.1.5. Внедрение управляемых воздуходувок в системах биологической очистки на очистных сооружениях канализации (СОСК, ЮОСК, ПОСК1) | C47: Управление по коммунальному хозяйству и благоустройству администрации муниципального образования "Город Астрахань" (МУП г. Астрахани "Астрводоканал") | D47: Внебюджетные источники | E47: х | F47: х | G47: х | H47: х | I47: =SUM(J47:R47) -> 110000000 | J47: 0 | K47: 0 | L47: 0 | M47: 110000000 | N47: 0 | O47: 0 | P47: 0 | Q47: 0 | R47: 0 | S47: 0 | T47: 0 | U47: 0 | V47: =O47-S47 -> 0 | W47: =P47-T47 -> 0 | X47: =R47-U47 -> 0
A48: 23 | B48: Мероприятие 1.1.6. Частичная замена насосного оборудования на сооружениях водоснабжения | C48: Управление по коммунальному хозяйству и благоустройству администрации муниципального образования "Город Астрахань" (МУП г. Астрахани "Астрводоканал") | D48: Внебюджетные источники | E48: х | F48: х | G48: х | H48: х | I48: =SUM(J48:R48) -> 20000000 | J48: 0 | K48: 0 | L48: 0 | M48: 0 | N48: 0 | O48: 0 | P48: 20000000 | Q48: 0 | R48: 0 | S48: 0 | T48: 20000000 | U48: 0 | V48: =O48-S48 -> 0 | W48: =P48-T48 -> 0 | X48: =R48-U48 -> 0
A49: 24 | B49: Мероприятие 1.1.7. Приобретение оборудования и материалов для реализации мероприятий, направленных на модернизацию и повышение энергоэффективности водопроводно-канализационного хозяйства | C49: Управление по коммунальному хозяйству и благоустройству администрации муниципального образования "Город Астрахань" | D49: Бюджет МО «Город Астрахань» | I49: =SUM(J49:R49) -> 99000 | J49: 0 | K49: 0 | L49: 99000 | M49: 0 | N49: 0 | O49: 0 | P49: 0 | Q49: 0 | R49: 0 | S49: 0 | T49: 0 | U49: 0 | V49: =O49-S49 -> 0 | W49: =P49-T49 -> 0 | X49: =R49-U49 -> 0
D50: Бюджет Астраханской области | I50: =SUM(J50:R50) -> 99000000 | J50: 0 | K50: 0 | L50: 99000000 | M50: 0 | N50: 0 | O50: 0 | P50: 0 | Q50: 0 | R50: 0 | S50: 0 | T50: 0 | U50: 0 | V50: =O50-S50 -> 0 | W50: =P50-T50 -> 0 | X50: =R50-U50 -> 0
A51: 25 | B51: Мероприятие 1.1.8. Монтаж приобретенного оборудования и материалов для реализации мероприятий, направленных на модернизацию и повышение энергоэффективности водопроводно-канализационного хозяйства | C51: Управление по коммунальному хозяйству и благоустройству администрации муниципального образования "Город Астрахань" | D51: Бюджет МО «Город Астрахань» | I51: =SUM(J51:R51) -> 28356173 | J51: 0 | K51: 0 | L51: 300000 | M51: 28056173 | N51: 0 | O51: 0 | P51: 0 | Q51: 0 | R51: 0 | S51: 0 | T51: 0 | U51: 0 | V51: =O51-S51 -> 0 | W51: =P51-T51 -> 0 | X51: =R51-U51 -> 0
A52: 26 | B52: Мероприятие 1.1.9. Оказание услуг по проведению экспертизы результатов, предусмотренных контрактом, в части их соответствия условиям контракта № 300 от 30.11.2018 | C52: Управление по коммунальному хозяйству и благоустройству администрации муниципального образования "Город Астрахань" | D52: Бюджет МО «Город Астрахань» | I52: =SUM(J52:R52) -> 100000 | J52: 0 | K52: 0 | L52: 100000 | M52: 0 | N52: 0 | O52: 0 | P52: 0 | Q52: 0 | R52: 0 | S52: 0 | T52: 0 | U52: 0 | V52: =O52-S52 -> 0 | W52: =P52-T52 -> 0 | X52: =R52-U52 -> 0
A53: 27 | B53: Мероприятие 1.1.10. Реконструкция системы ливневой канализации с насосной станцией, расположенной по адресу: ул. Бурова, 2 «А», в Кировском районе г. Астрахани, с организацией очистки сброса поверхностных вод | C53: Управление по капитальному строительству администрации муниципального образования "Город Астрахань | D53: Бюджет МО «Город Астрахань» | I53: =SUM(J53:R53) -> 875700 | N53: 875700 | V53: =O53-S53 -> 0 | W53: =P53-T53 -> 0 | X53: =R53-U53 -> 0
D54: Бюджет Астраханской области | I54: =SUM(J54:R54) -> 8854300 | N54: 8854300 | V54: =O54-S54 -> 0 | W54: =P54-T54 -> 0 | X54: =R54-U54 -> 0
A55: 28 | B55: Мероприятие 1.1.11. Реконструкция системы ливневой канализации с насосной станцией, расположенной по адресу: ул. Харьковская, 28 «А», в Советском районе г. Астрахани, с организацией очистки сброса поверхностных вод | C55: Управление по капитальному строительству администрации муниципального образования "Город Астрахань | D55: Бюджет МО «Город Астрахань» | I55: =SUM(J55:R55) -> 897300 | N55: 897300 | V55: =O55-S55 -> 0 | W55: =P55-T55 -> 0 | X55: =R55-U55 -> 0
D56: Бюджет Астраханской области | I56: =SUM(J56:R56) -> 9072700 | N56: 9072700 | V56: =O56-S56 -> 0 | W56: =P56-T56 -> 0 | X56: =R56-U56 -> 0
A57: 29 | B57: Мероприятие 1.1.12. Реализация мероприятий, направленных на обеспечение функционирования объектов водоснабжения и водоотведения (в т.ч. приобретение оборудования, материалов для ремонта водопроводно-канализационных сетей и сооружений, расположенных на территории муниципального образования Астраханской области; приобретение диагностическо-инспекционного оборудования для сетей и сооружений; приобретение специализированной техники; разработку (корректировку) схем водоснабжения и водоотведения; проведение технического аудита муниципальных унитарных предприятий) | C57: Управление по коммунальному хозяйству и благоустройству администрации муниципального образования "Город Астрахань" | D57: Бюджет МО «Город Астрахань» | I57: =SUM(J57:R57) -> 8490660.8 | N57: 6923076.9 | O57: 1567583.9 | P57: 0 | Q57: 0 | R57: 0 | S57: 17902017 | T57: 6923076.9 | U57: 0 | V57: =O57-S57 -> -16334433 | W57: =P57-T57 -> -6923076.9 | X57: =R57-U57 -> 0
D58: Бюджет Астраханской области | I58: =SUM(J58:R58) -> 70000000 | N58: 70000000 | O58: 0 | P58: 0 | Q58: 0 | R58: 0 | S58: 0 | T58: 0 | U58: 0 | V58: =O58-S58 -> 0 | W58: =P58-T58 -> 0 | X58: =R58-U58 -> 0
C59: Управление по капитальному строительству администрации муниципального образования "Город Астрахань | D59: Бюджет МО «Город Астрахань» | I59: =SUM(J59:R59) -> 0 | V59: =O59-S59 -> 0 | W59: =P59-T59 -> 0 | X59: =R59-U59 -> 0
A60: 30 | B60: Задача 1.2. Повышение энергетической эффективности в сфере теплоснабжения | C60: Управление по коммунальному хозяйству и благоустройству администрации муниципального образования "Город Астрахань" (МУП г. Астрахани "Коммунэнерго") | D60: Внебюджетные источники | E60: х | F60: х | G60: х | H60: х | I60: =SUM(J60:R60) -> 8877000 | J60: =J63+J64+J65+J66+J67+J68+J69 -> 5093000 | K60: =K63+K64+K65+K66+K67+K68+K69 -> 0 | L60: =L63+L64+L65+L66+L67+L68+L69 -> 3784000 | M60: =M63+M64+M65+M66+M67+M68+M69 -> 0 | N60: =N63+N64+N65+N66+N67+N68+N69 -> 0 | O60: =O63+O64+O65+O66+O67+O68+O69 -> 0 | P60: =P63+P64+P65+P66+P67+P68+P69 -> 0 | Q60: =Q63+Q64+Q65+Q66+Q67+Q68+Q69 -> 0 | ... U60: =U63+U64+U65+U66+U67+U68+U69 -> 0 | V60: =O60-S60 -> 0 | W60: =P60-T60 -> 0 | X60: =R60-U60 -> 0
D61: Бюджет МО «Город Астрахань» | E61: х | F61: х | G61: х | H61: х | I61: =SUM(J61:R61) -> 45389976 | J61: =J70+J72+J74+J75 -> 0 | K61: =K70+K72+K74+K75 -> 0 | L61: =L70+L72+L74+L75 -> 0 | M61: =M70+M72+M74+M75 -> 12983975 | N61: =N70+N72+N74+N75 -> 1290000 | O61: =O70+O72+O74+O75 -> 13752000 | P61: =P70+P72+P74+P75 -> 5406901.1 | Q61: =Q70+Q72+Q74+Q75 -> 10429100 | R61: =R70+R72+R74+R75 -> 1528000 | S61: =S70+S72+S74 -> 15010000 | T61: =T70+T72+T74 -> 1528000 | U61: =U70+U72+U74 -> 0 | V61: =O61-S61 -> -1258000 | W61: =P61-T61 -> 3878901.1 | X61: =R61-U61 -> 1528000 | Y61: =W61+W62+X61+X62 -> 44626901
D62: Бюджет Астраханской области | E62: х | F62: х | G62: х | H62: х | I62: =SUM(J62:R62) -> 164020000 | J62: =J71+J73+J76 -> 0 | K62: =K71+K73+K76 -> 0 | L62: =L71+L73+L76 -> 0 | M62: =M71+M73+M76 -> 34800000 | N62: =N71+N73+N76 -> 0 | O62: =O71+O73+O76 -> 0 | P62: =P71+P73+P76 -> 39220000 | Q62: =Q71+Q73+Q76 -> 90000000 | R62: =R71+R73+R76 -> 0 | S62: =S71+S73 -> 0 | T62: =T71+T73 -> 0 | U62: =U71+U73 -> 0 | V62: =O62-S62 -> 0 | W62: =P62-T62 -> 39220000 | X62: =R62-U62 -> 0
A63: 31 | B63: Мероприятие 1.2.1. Приобретение новых электродвигателей (с классом изоляции F) и установка на их приводы регуляторов частоты вращения для насосного и тягодутьевого оборудования котельной N Т-1 | C63: Управление по коммунальному хозяйству и благоустройству администрации муниципального образования "Город Астрахань" (МУП г. Астрахани "Коммунэнерго") | D63: Внебюджетные источники | E63: х | F63: х | G63: х | H63: х | I63: =SUM(J63:R63) -> 2607000 | J63: 1287000 | K63: 0 | L63: 1320000 | M63: 0 | N63: 0 | O63: 0 | P63: 0 | Q63: 0 | R63: 0 | S63: 0 | T63: 0 | U63: 0 | V63: =O63-S63 -> 0 | W63: =P63-T63 -> 0 | X63: =R63-U63 -> 0
A64: 32 | B64: Мероприятие 1.2.2. Замена на котельной N Т-2 насоса исходной воды К90 - 85 на энергосберегающий | C64: Управление по коммунальному хозяйству и благоустройству администрации муниципального образования "Город Астрахань" (МУП г. Астрахани "Коммунэнерго") | D64: Внебюджетные источники | E64: х | F64: х | G64: х | H64: х | I64: =SUM(J64:R64) -> 396000 | J64: 198000 | K64: 0 | L64: 198000 | M64: 0 | N64: 0 | O64: 0 | P64: 0 | Q64: 0 | R64: 0 | S64: 0 | T64: 0 | U64: 0 | V64: =O64-S64 -> 0 | W64: =P64-T64 -> 0 | X64: =R64-U64 -> 0
A65: 33 | B65: Мероприятие 1.2.3. Приобретение новых электродвигателей (с классом изоляции F) и установка на их приводы регуляторов частоты вращения для насосного и тягодутьевого оборудования котельной N Т-2 | C65: Управление по коммунальному хозяйству и благоустройству администрации муниципального образования "Город Астрахань" (МУП г. Астрахани "Коммунэнерго") | D65: Внебюджетные источники | E65: х | F65: х | G65: х | H65: х | I65: =SUM(J65:R65) -> 1320000 | J65: 660000 | K65: 0 | L65: 660000 | M65: 0 | N65: 0 | O65: 0 | P65: 0 | Q65: 0 | R65: 0 | S65: 0 | T65: 0 | U65: 0 | V65: =O65-S65 -> 0 | W65: =P65-T65 -> 0 | X65: =R65-U65 -> 0
A66: 34 | B66: Мероприятие 1.2.4. Замена на котельной N Т-6 сетевого насоса ЦН 400 - 105 на энергосберегающий | C66: Управление по коммунальному хозяйству и благоустройству администрации муниципального образования "Город Астрахань" (МУП г. Астрахани "Коммунэнерго") | D66: Внебюджетные источники | E66: х | F66: х | G66: х | H66: х | I66: =SUM(J66:R66) -> 1100000 | J66: 1100000 | K66: 0 | L66: 0 | M66: 0 | N66: 0 | O66: 0 | P66: 0 | Q66: 0 | R66: 0 | S66: 0 | T66: 0 | U66: 0 | V66: =O66-S66 -> 0 | W66: =P66-T66 -> 0 | X66: =R66-U66 -> 0
A67: 35 | B67: Мероприятие 1.2.5. Приобретение новых электродвигателей (с классом изоляции F) и установка на их приводы регуляторов частоты вращения для насосного и тягодутьевого оборудования котельной N Т-6 | C67: Управление по коммунальному хозяйству и благоустройству администрации муниципального образования "Город Астрахань" (МУП г. Астрахани "Коммунэнерго") | D67: Внебюджетные источники | E67: х | F67: х | G67: х | H67: х | I67: =SUM(J67:R67) -> 2508000 | J67: 1254000 | K67: 0 | L67: 1254000 | M67: 0 | N67: 0 | O67: 0 | P67: 0 | Q67: 0 | R67: 0 | S67: 0 | T67: 0 | U67: 0 | V67: =O67-S67 -> 0 | W67: =P67-T67 -> 0 | X67: =R67-U67 -> 0
A68: 36 | B68: Мероприятие 1.2.6. Приобретение новых электродвигателей (с классом изоляции F) и установка на их приводы регуляторов частоты вращения для насосного и тягодутьевого оборудования котельной N Т-44 | C68: Управление по коммунальному хозяйству и благоустройству администрации муниципального образования "Город Астрахань" (МУП г. Астрахани "Коммунэнерго") | D68: Внебюджетные источники | E68: х | F68: х | G68: х | H68: х | I68: =SUM(J68:R68) -> 704000 | J68: 352000 | K68: 0 | L68: 352000 | M68: 0 | N68: 0 | O68: 0 | P68: 0 | Q68: 0 | R68: 0 | S68: 0 | T68: 0 | U68: 0 | V68: =O68-S68 -> 0 | W68: =P68-T68 -> 0 | X68: =R68-U68 -> 0
A69: 37 | B69: Мероприятие 1.2.7. Приобретение переносных газоанализаторов для котельных N Т-1, Т-2, Т-6, Т-44 | C69: Управление по коммунальному хозяйству и благоустройству администрации муниципального образования "Город Астрахань" (МУП г. Астрахани "Коммунэнерго") | D69: Внебюджетные источники | E69: х | F69: х | G69: х | H69: х | I69: =SUM(J69:R69) -> 242000 | J69: 242000 | K69: 0 | L69: 0 | M69: 0 | N69: 0 | O69: 0 | P69: 0 | Q69: 0 | R69: 0 | S69: 0 | T69: 0 | U69: 0 | V69: =O69-S69 -> 0 | W69: =P69-T69 -> 0 | X69: =R69-U69 -> 0
A70: 38 | B70: Мероприятие 1.2.8 Проведение мероприятий по текущему ремонту объектов теплоснабжения, находящих в муниципальной собственности (реконструкция автоматики безопасности зала котлов ДКВР котельной Т-6 по ул. Адм.Нахимова, 60) | C70: Управление по коммунальному хозяйству и благоустройству администрации муниципального образования "Город Астрахань" | D70: Бюджет МО «Город Астрахань» | E70: х | F70: х | G70: х | H70: х | I70: =SUM(J70:R70) -> 841416 | J70: 0 | K70: 0 | L70: 0 | M70: 551416 | N70: 290000 | O70: 0 | P70: 0 | Q70: 0 | R70: 0 | S70: 0 | T70: 0 | U70: 0 | V70: =O70-S70 -> 0 | W70: =P70-T70 -> 0 | X70: =R70-U70 -> 0
D71: Бюджет Астраханской области | E71: х | F71: х | G71: х | H71: х | I71: =SUM(J71:R71) -> 14800000 | J71: 0 | K71: 0 | L71: 0 | M71: 14800000 | N71: 0 | O71: 0 | P71: 0 | Q71: 0 | R71: 0 | S71: 0 | T71: 0 | U71: 0 | V71: =O71-S71 -> 0 | W71: =P71-T71 -> 0 | X71: =R71-U71 -> 0
A72: 39 | B72: Мероприятие 1.2.9. Строительство блочно-модульной котельной по ул. 2-й проезд Мостостроителей в Трусовском районе г. Астрахани, в том числе ПИР | C72: Управление по капитальному строительству администрации муниципального образования "Город Астрахань" | D72: Бюджет МО «Город Астрахань» | E72: х | F72: х | G72: х | H72: х | I72: =SUM(J72:R72) -> 13432559 | J72: 0 | K72: 0 | L72: 0 | M72: 12432559 | N72: 1000000 | O72: 0 | P72: 0 | Q72: 0 | R72: 0 | S72: 0 | T72: 0 | U72: 0 | V72: =O72-S72 -> 0 | W72: =P72-T72 -> 0 | X72: =R72-U72 -> 0
D73: Бюджет Астраханской области | E73: х | F73: х | G73: х | H73: х | I73: =SUM(J73:R73) -> 20000000 | J73: 0 | K73: 0 | L73: 0 | M73: 20000000 | N73: 0 | O73: 0 | P73: 0 | Q73: 0 | R73: 0 | S73: 0 | T73: 0 | U73: 0 | V73: =O73-S73 -> 0 | W73: =P73-T73 -> 0 | X73: =R73-U73 -> 0
A74: 40 | B74: Мероприятие 1.2.10. Разработка (актуализация) схем теплоснабжения | C74: Управление по коммунальному хозяйству и благоустройству администрации муниципального образования "Город Астрахань" | D74: Бюджет МО «Город Астрахань» | E74: х | F74: х | G74: х | H74: х | I74: =SUM(J74:R74) -> 18336000 | O74: 13752000 | P74: 1528000 | Q74: 1528000 | R74: 1528000 | S74: 15010000 | T74: 1528000 | V74: =O74-S74 -> -1258000 | W74: =P74-T74 -> 0 | X74: =R74-U74 -> 1528000
A75: 41 | B75: Мероприятие 1.2.11. Строительство блочно-модульной котельной мощностью 15 МВт по адресу: г. Астрахань, Трусовский район, мкр. "III Интернационал" | C75: Управление по капитальному строительству администрации муниципального образования "Город Астрахань" | D75: Бюджет МО «Город Астрахань» | E75: х | F75: х | G75: х | H75: х | I75: =SUM(J75:S75) -> 12780001 | P75: 3878901.1 | Q75: 8901100 | V75: =O75-S75 -> 0 | W75: =P75-T75 -> 3878901.1 | X75: =R75-U75 -> 0 | Y75: =W75+X75+W76+X76 -> 43098901
D76: Бюджет Астраханской области | E76: х | F76: х | G76: х | H76: х | I76: =SUM(J76:S76) -> 129220000 | P76: =1820000+37400000 -> 39220000 | Q76: 90000000 | V76: =O76-S76 -> 0 | W76: =P76-T76 -> 39220000 | X76: =R76-U76 -> 0 | Y76: =SUM(W75:W76) -> 43098901 | Z76: =SUM(X75:X76) -> 0
A77: 42 | B77: Задача 1.3. Повышение энергетической эффективности в сфере наружного городского освещения | C77: Управление по коммунальному хозяйству и благоустройству администрации муниципального образования "Город Астрахань" (МКП г. Астрахани "Горсвет") | D77: Внебюджетные источники | E77: х | F77: х | G77: х | H77: х | I77: =SUM(J77:R77) -> 1540000 | J77: =J79 -> 100000 | K77: =K79 -> 1440000 | L77: =L79 -> 0 | M77: =M79 -> 0 | N77: =N79 -> 0 | O77: =O79 -> 0 | P77: =P79 -> 0 | Q77: =Q79 -> 0 | ... U77: =U79 -> 0 | V77: =O77-S77 -> 0 | W77: =P77-T77 -> 0 | X77: =R77-U77 -> 0
D78: Бюджет МО «Город Астрахань» | I78: =SUM(J78:R78) -> 3.8614097e+08 | J78: =J81 -> 0 | K78: =K81 -> 0 | L78: =L81 -> 0 | M78: =M81 -> 0 | N78: =N81 -> 0 | O78: =O81 -> 0 | P78: =P81 -> 1.2871366e+08 | Q78: =Q81 -> 1.2871366e+08 | ... U78: =U81 -> 1.2520328e+08 | V78: =O78-S78 -> 0 | W78: =P78-T78 -> 3510372.4 | X78: =R78-U78 -> 3510372.4
A79: 43 | B79: Мероприятие 1.3.1. Перевод электрической котельной на газовое топливо | C79: Управление по коммунальному хозяйству и благоустройству администрации муниципального образования "Город Астрахань" (МКП г. Астрахани "Горсвет") | D79: Внебюджетные источники | E79: х | F79: х | G79: х | H79: х | I79: =SUM(J79:R79) -> 1540000 | J79: 100000 | K79: 1440000 | L79: 0 | M79: 0 | N79: 0 | O79: 0 | P79: 0 | Q79: 0 | R79: 0 | S79: 0 | T79: 0 | U79: 0 | V79: =O79-S79 -> 0 | W79: =P79-T79 -> 0 | X79: =R79-U79 -> 0
A80: 44 | B80: Мероприятие 1.3.2 Реализация мероприятий, направленнных на модернизацию и повышение энергетической эффективности сетей наружного освещения в рамках энергосервисного договора(контракта) | C80: Управление по коммунальному хозяйству и благоустройству администрации муниципального образования "Город Астрахань" (МКП г. Астрахани "Горсвет") | D80: Не требует финансирования | E80: х | F80: х | G80: х | H80: х | I80: =SUM(J80:R80) -> 0 | J80: х | K80: х | L80: х | M80: х | N80: х | O80: х | P80: х | Q80: х | R80: х | S80: х | T80: х | U80: х | V80: =O80-S80 -> #VALUE! | W80: =P80-T80 -> #VALUE! | X80: =R80-U80 -> #VALUE!
A81: 45 | B81: Мероприятие 1.3.3. Услуги по энергосбережению системы уличного освещения муниципального образования "Город Астрахань" (расходы на оплату электрической энергии) | C81: Управление по коммунальному хозяйству и благоустройству администрации муниципального образования "Город Астрахань" | D81: Бюджет МО «Город Астрахань» | E81: х | F81: х | G81: х | H81: х | I81: =SUM(J81:R81) -> 3.8614097e+08 | P81: 1.2871366e+08 | Q81: 1.2871366e+08 | R81: 1.2871366e+08 | T81: 1.2520328e+08 | U81: 1.2520328e+08 | V81: =O81-S81 -> 0 | W81: =P81-T81 -> 3510372.4 | X81: =R81-U81 -> 3510372.4
A82: 46 | B82: Итого по Подпрограмме 2, в том числе по источникам финансирования: | I82: =SUM(J82:R82) -> 1.5433678e+09 | J82: =SUM(J83:J85) -> 55458000 | K82: =SUM(K83:K85) -> 401440000 | L82: =SUM(L83:L85) -> 234672000 | M82: =SUM(M83:M85) -> 1.8584015e+08 | N82: =SUM(N83:N85) -> 97913077 | O82: =SUM(O83:O85) -> 15319584 | P82: =SUM(P83:P85) -> 1.9334056e+08 | Q82: =SUM(Q83:Q85) -> 2.2914276e+08 | ... U82: =SUM(U83:U85) -> 1.2520328e+08 | V82: =O82-S82 -> -17592433 | W82: =P82-T82 -> 39686197 | X82: =R82-U82 -> 5038372.4
B83: бюджет муниципального образования "Город Астрахань" | I83: =SUM(J83:R83) -> 4.7034977e+08 | J83: =J33 -> 0 | K83: =K33 -> 0 | L83: =L33 -> 499000 | M83: =M33 -> 41040148 | N83: =N33 -> 9986076.9 | O83: =O33 -> 15319584 | P83: =P33 -> 1.3412056e+08 | Q83: =Q33 -> 1.3914276e+08 | ... U83: =U33 -> 1.2520328e+08 | V83: =O83-S83 -> -17592433 | W83: =P83-T83 -> 466196.6 | X83: =R83-U83 -> 5038372.4
B84: бюджет Астраханской области | I84: =SUM(J84:R84) -> 350947000 | J84: =J34 -> 0 | K84: =K34 -> 0 | L84: =L34 -> 99000000 | M84: =M34 -> 34800000 | N84: =N34 -> 87927000 | O84: =O34 -> 0 | P84: =P34 -> 39220000 | Q84: =Q34 -> 90000000 | ... U84: =U34 -> 0 | V84: =O84-S84 -> 0 | W84: =P84-T84 -> 39220000 | X84: =R84-U84 -> 0
B85: внебюджетные источники | I85: =SUM(J85:R85) -> 722071000 | J85: =J32 -> 55458000 | K85: =K32 -> 401440000 | L85: =L32 -> 135173000 | M85: =M32 -> 110000000 | N85: =N32 -> 0 | O85: =O32 -> 0 | P85: =P32 -> 20000000 | Q85: =Q32 -> 0 | ... U85: =U32 -> 0 | V85: =O85-S85 -> 0 | W85: =P85-T85 -> 0 | X85: =R85-U85 -> 0
B86: Итого по Программе, в том числе по источникам финансирования: | I86: =SUM(J86:R86) -> 1.5479192e+09 | J86: =SUM(J87:J89) -> 55458000 | K86: =SUM(K87:K89) -> 4.0405573e+08 | L86: =SUM(L87:L89) -> 2.366077e+08 | M86: =SUM(M87:M89) -> 1.8584015e+08 | N86: =SUM(N87:N89) -> 97913077 | O86: =SUM(O87:O89) -> 15319584 | P86: =SUM(P87:P89) -> 1.9334056e+08 | Q86: =SUM(Q87:Q89) -> 2.2914276e+08 | ... U86: =SUM(U87:U89) -> 1.2520328e+08 | V86: =O86-S86 -> -17592433 | W86: =P86-T86 -> 39686197 | X86: =R86-U86 -> 5038372.4
B87: бюджет муниципального образования "Город Астрахань" | I87: =SUM(J87:R87) -> 4.7490121e+08 | J87: =J28+J83 -> 0 | K87: =K28+K83 -> 2615729.4 | L87: =L28+L83 -> 2434702.5 | M87: =M28+M83 -> 41040148 | N87: =N28+N83 -> 9986076.9 | O87: =O28+O83 -> 15319584 | P87: =P28+P83 -> 1.3412056e+08 | Q87: =Q28+Q83 -> 1.3914276e+08 | ... U87: =U28+U83 -> 1.2520328e+08 | V87: =O87-S87 -> -17592433 | W87: =P87-T87 -> 466196.6 | X87: =R87-U87 -> 5038372.4
B88: бюджет Астраханской области | I88: =SUM(J88:R88) -> 350947000 | J88: =J84 -> 0 | K88: =K84 -> 0 | L88: =L84 -> 99000000 | M88: =M84 -> 34800000 | N88: =N84 -> 87927000 | O88: =O84 -> 0 | P88: =P84 -> 39220000 | Q88: =Q84 -> 90000000 | ... U88: =U84 -> 0 | V88: =O88-S88 -> 0 | W88: =P88-T88 -> 39220000 | X88: =R88-U88 -> 0
B89: внебюджетные источники | I89: =SUM(J89:R89) -> 722071000 | J89: =J29+J85 -> 55458000 | K89: =K29+K85 -> 401440000 | L89: =L29+L85 -> 135173000 | M89: =M29+M85 -> 110000000 | N89: =N29+N85 -> 0 | O89: =O29+O85 -> 0 | P89: =P29+P85 -> 20000000 | Q89: =Q29+Q85 -> 0 | ... U89: =U29+U85 -> 0 | V89: =O89-S89 -> 0 | W89: =P89-T89 -> 0 | X89: =R89-U89 -> 0
B92: И.о. начальника управления | H92: С.А. Брюханов
I108: =I6-I86 -> 0 | J108: =J6-J86 -> 0 | K108: =K6-K86 -> 0 | L108: =L6-L86 -> 0 | M108: =M6-M86 -> 0 | N108: =N6-N86 -> 0 | O108: =O6-O86 -> 0 | P108: =P6-P86 -> 0 | ... R108: =R6-R86 -> 0
I109: =SUM(I87:I89) -> 1.5479192e+09
I110: =I109-I6 -> 0 | N110: 1.2890468e+08
N111: =N110-N86 -> 30991598
N113: =N57+N58+N70 -> 77213077 | O113: 97913077
N114: =N53+N54+N55+N72 -> 11627300 | O114: =N88+N87 -> 97913077
N115: =SUM(N113:N114) -> 88840377
N116: =N110-N113 -> 51691598

Sheet Мероприятия
T1: Приложение 2 к постановлению администрации муниципального образования «Город Астрахань» от ____________ №_______ Приложение 2 к муниципальной программе муниципального образования "Город Астрахань" "Энергосбережение и повышение энергетической эффективности в городе Астрахани"
A2: ПЕРЕЧЕНЬ ПРОГРАММНЫХ МЕРОПРИЯТИЙ, ПОКАЗАТЕЛЕЙ (ИНДИКАТОРОВ) И РЕЗУЛЬТАТОВ МУНИЦИПАЛЬНОЙ ПРОГРАММЫ МУНИЦИПАЛЬНОГО ОБРАЗОВАНИЯ "ГОРОД АСТРАХАНЬ" "ЭНЕРГОСБЕРЕЖЕНИЕ И ПОВЫШЕНИЕ ЭНЕРГЕТИЧЕСКОЙ ЭФФЕКТИВНОСТИ В ГОРОДЕ АСТРАХАНИ"
A3: N п/п | B3: Цели, задачи, наименование программных мероприятий | C3: Ответственные исполнители, соисполнители (участники) | D3: Наименование показателя (индикатора) | E3: Ед. изм. | F3: Отчетный 2014 год | G3: Текущий 2015 год | H3: Планируемое значение показателя по годам реализации | Z3: Целевое значение показателя (конечный результат) за весь период реализации программы
H4: 2016 год | J4: 2017 год | L4: 2018 год | N4: 2019 год | P4: 2020 год | R4: 2021 год | T4: 2022 год | V4: 2023 год | X4: 2024 год
H5: всего | I5: в том числе на 01.07 | J5: всего | K5: в том числе на 01.07 | L5: всего | M5: в том числе на 01.07 | N5: всего | O5: в том числе на 01.07 | P5: всего | Q5: в том числе на 01.07 | R5: всего | S5: в том числе на 01.07 | T5: всего | U5: в том числе на 01.07 | V5: всего | W5: в том числе на 01.07 | X5: всего | Y5: в том числе на 01.07
B8: Муниципальная программа муниципального образования "Город Астрахань" "Энергосбережение и повышение энергетической эффективности в городе Астрахани"
A9: 1 | B9: Цель 1. Повышение эффективности использования энергетических ресурсов в муниципальном образовании "Город Астрахань" | C9: Управление по коммунальному хозяйству и благоустройству администрации муниципального образования "Город Астрахань" | D9: Показатель 1. Удельная величина потребления энергоресурсов муниципальными бюджетными учреждениями | E9: Электроэнергии кВт ч на 1 кв. метр | F9: 23.28 | G9: 23.26 | H9: 22.56 | I9: - | J9: 21.82 | K9: - | L9: 21.06 | M9: - | N9: 20.42 | O9: - | P9: 20.4 | Q9: - | R9: 20.33 | S9: - | T9: 20.2 | U9: - | V9: 20.2 | W9: - | X9: 20.2 | Y9: - | Z9: 20.2
E10: холодной воды м3 на 1 кв. метр | F10: 1.68 | G10: 1.65 | H10: 1.63 | I10: - | J10: 1.57 | K10: - | L10: 1.52 | M10: - | N10: 1.48 | O10: - | P10: 1.43 | Q10: - | R10: 1.46 | S10: - | T10: 1.44 | U10: - | V10: 1.44 | W10: - | X10: 1.44 | Y10: - | Z10: 1.44
E11: тепловой энергии Гкал на 1 кв. метр | F11: 0.07 | G11: 0.06 | H11: 0.06 | I11: - | J11: 0.06 | K11: - | L11: 0.06 | M11: - | N11: 0.06 | O11: - | P11: 0.06 | Q11: - | R11: 0.06 | S11: - | T11: 0.06 | U11: - | V11: 0.06 | W11: - | X11: 0.06 | Y11: - | Z11: 0.06
E12: природного газа м3 на 1 человека населения | F12: - | G12: - | H12: - | I12: - | J12: - | K12: - | L12: - | M12: - | N12: - | O12: - | P12: 0.32 | Q12: - | R12: 0.31 | S12: - | T12: 0.31 | U12: - | V12: 0.31 | W12: - | X12: 0.31 | Y12: - | Z12: 0.31
D13: Показатель 2. Доля объема энергоресурсов, расчеты за которые осуществляются с использованием приборов учета, в общем объеме энергоресурсов, потребляемых на территории муниципального образования "Город Астрахань" | E13: Электроэнергия в % | F13: 99.77 | G13: 99.77 | H13: 99.77 | I13: - | J13: 99.77 | K13: - | L13: 99.77 | M13: - | N13: 99.77 | O13: - | P13: 99.77 | Q13: - | R13: 99.77 | S13: - | T13: 99.77 | U13: - | V13: 99.77 | W13: - | X13: 99.77 | Y13: - | Z13: 99.77
E14: тепловая энергия в % | F14: 96.89 | G14: 96.89 | H14: 96.91 | I14: - | J14: 96.71 | K14: - | L14: 96.71 | M14: - | N14: 96.72 | O14: - | P14: 96.73 | Q14: - | R14: 96.74 | S14: - | T14: 96.75 | U14: - | V14: 96.75 | W14: - | X14: 96.75 | Y14: - | Z14: 96.75
E15: холодной воды в % | F15: 60.54 | G15: 60.54 | H15: 61.00 | I15: - | J15: 62.00 | K15: - | L15: 63.00 | M15: - | N15: 64.00 | O15: - | P15: 65.00 | Q15: - | R15: 66 | S15: - | T15: 67 | U15: - | V15: 67 | W15: - | X15: 67 | Y15: - | Z15: 67.00
E16: природного газа в % | F16: 64.94 | G16: 64.94 | H16: 64.94 | I16: - | J16: 66.00 | K16: - | L16: 66.00 | M16: - | N16: 66.00 | O16: - | P16: 67.00 | Q16: - | R16: 67 | S16: - | T16: 67 | U16: - | V16: 67 | W16: - | X16: 67 | Y16: - | Z16: 67.00
A17: 2 | B17: Задача 1.1. Формирование системы информационного просвещения населения муниципального образования "Город Астрахань" в области энергосбережения и повышения энергетической эффективности | C17: Управление по коммунальному хозяйству и благоустройству администрации муниципального образования "Город Астрахань" | D17: Показатель 1. Удельная величина потребления энергоресурсов в многоквартирных домах | E17: электроэнергии в кВт ч на 1 проживающего | F17: 719.68 | G17: 720.2 | H17: 719.53 | I17: - | J17: 712.52 | K17: - | L17: 708.46 | M17: - | N17: 704.92 | O17: - | P17: 701.39 | Q17: - | R17: - | S17: - | T17: - | U17: - | V17: - | W17: - | X17: - | Y17: - | Z17: =P17 -> 701.39
E18: холодной воды в м3 на 1 проживающего | F18: 50.87 | G18: 50.98 | H18: 50.63 | I18: - | J18: 49.37 | K18: - | L18: 48.14 | M18: - | N18: 47.18 | O18: - | P18: 46.23 | Q18: - | R18: - | S18: - | T18: - | U18: - | V18: - | W18: - | X18: - | Y18: - | Z18: =P18 -> 46.23
E19: тепловой энергии в Гкал на 1 кв. метр общей площади | F19: 0.16 | G19: 0.16 | H19: 0.16 | I19: - | J19: 0.16 | K19: - | L19: 0.16 | M19: - | N19: 0.16 | O19: - | P19: 0.16 | Q19: - | R19: - | S19: - | T19: - | U19: - | V19: - | W19: - | X19: - | Y19: - | Z19: =P19 -> 0.16
E20: природного газа м3 на 1 проживающего | F20: 244.77 | G20: 244.77 | H20: 244.77 | I20: - | J20: 244.77 | K20: - | L20: 244.77 | M20: - | N20: 244.77 | O20: - | P20: 244.77 | Q20: - | R20: - | S20: - | T20: - | U20: - | V20: - | W20: - | X20: - | Y20: - | Z20: =P20 -> 244.77
A21: 3 | B21: Основное мероприятие 1.1.1. Повышение информированности общества об энергосберегающих технологиях и стимулирование формирования модели бережливого отношения населения к энергоресурсам | C21: Управление по коммунальному хозяйству и благоустройству администрации муниципального образования "Город Астрахань" | D21: Показатель 1. Уровень осведомленности и грамотности населения в области энергосбережения | E21: % | F21: - | G21: - | H21: 15.00 | I21: - | J21: 25.00 | K21: - | L21: 35.00 | M21: - | N21: 45.00 | O21: - | P21: 55.00 | Q21: - | R21: - | S21: - | T21: - | U21: - | V21: - | W21: - | X21: - | Y21: - | Z21: =P21 -> 55.00
A22: 4 | B22: Мероприятие 1.1.1.1.Разработка рекомендаций по внедрению энергоэффективных технологий при строительстве, реконструкции и эксплуатации | C22: Управление по коммунальному хозяйству и благоустройству администрации муниципального образования "Город Астрахань" | D22: Показатель 1. Количество рекомендательных материалов, определяющих возможности применения энергоэффективных технологий | E22: шт. | F22: - | G22: - | H22: 1 | I22: - | J22: 1 | K22: - | L22: 1 | M22: - | N22: 1 | O22: - | P22: 1 | Q22: - | R22: - | S22: - | T22: - | U22: - | V22: - | W22: - | X22: - | Y22: - | Z22: =H22+J22+L22+N22+P22 -> 5
A23: 5 | B23: Мероприятие 1.1.1.2. Пропаганда сбережения энергии и сохранения энергоресурсов | C23: Управление по коммунальному хозяйству и благоустройству администрации муниципального образования "Город Астрахань" | D23: Показатель 1. Количество проведенных мероприятий, пропагандирующих сбережение энергии и сохранение энергоресурсов | E23: ед. | F23: - | G23: - | H23: 2 | I23: 1 | J23: 2 | K23: 1 | L23: 2 | M23: 1 | N23: 2 | O23: 1 | P23: 2 | Q23: 1 | R23: - | S23: - | T23: - | U23: - | V23: - | W23: - | X23: - | Y23: - | Z23: =H23+J23+L23+N23+P23 -> 10
A24: 6 | B24: Мероприятие 1.1.1.3. Проведение анализа потребления энергоресурсов на территории города Астрахани | C24: Управление по коммунальному хозяйству и благоустройству администрации муниципального образования "Город Астрахань" | D24: Показатель 1. Согласование результатов анализа с министерством жилищно-коммунального хозяйства Астраханской области | E24: да (1)/ нет (0) | F24: 1 | G24: 1 | H24: 1 | I24: - | J24: 1 | K24: - | L24: 1 | M24: - | N24: 1 | O24: - | P24: 1 | Q24: - | R24: - | S24: - | T24: - | U24: - | V24: - | W24: - | X24: - | Y24: - | Z24: 1
A25: 7 | B25: Задача 1.2. Повышение энергетической эффективности на объектах социальной сферы | C25: Управление по коммунальному хозяйству и благоустройству администрации муниципального образования "Город Астрахань" (Управление образования администрации муниципального образования "Город Астрахань", Управление культуры администрации муниципального образования «Город Астрахань») | D25: Показатель 1. Объем потребления тепловой энергии муниципальными учреждениями социальной сферы | E25: т.у.т в год | F25: 24823.51 | G25: 24575.28 | H25: 23838.02 | I25: - | J25: 23122.88 | K25: - | L25: 22429.19 | M25: - | N25: 21756.32 | O25: - | P25: 21103.62 | Q25: - | R25: - | S25: - | T25: - | U25: - | V25: - | W25: - | X25: - | Y25: - | Z25: =P25 -> 21103.62
A26: 8 | B26: Задача 1.3. Повышение энергетической эффективности в системах коммунальной инфраструктуры | C26: Управление по коммунальному хозяйству и благоустройству администрации муниципального образования "Город Астрахань" (МУП г. Астрахани "Астрводоканал", МУП г. Астрахани "Коммунэнерго", МКП г. Астрахани "Горсвет") | D26: Показатель 1. Объем потребления энергоресурсов, используемых в системах коммунальной инфраструктуры | E26: тыс. т.у.т в год | F26: 84.3 | G26: 84.3 | H26: 82.90 | I26: - | J26: 81.60 | K26: - | L26: 79.70 | M26: - | N26: 78.30 | O26: - | P26: 77.80 | Q26: - | R26: 77.1 | S26: - | T26: 76.32 | U26: - | V26: 76.32 | W26: - | X26: 76.32 | Y26: - | Z26: =X26 -> 76.32
A27: Подпрограмма 1 "Энергоэффективность социальной сферы"
A28: 9 | B28: Цель 1. Повышение энергетической эффективности на объектах социальной сферы | C28: Управление по коммунальному хозяйству и благоустройству администрации муниципального образования "Город Астрахань" (Управление образования администрации муниципального образования "Город Астрахань", Управление культуры администрации муниципального образования «Город Астрахань») | D28: Показатель 1. Объем потребления тепловой энергии муниципальными учреждениями социальной сферы | E28: т.у.т в год | F28: 24823.51 | G28: 24575.28 | H28: 23838.02 | I28: - | J28: 23122.88 | K28: - | L28: 22429.19 | M28: - | N28: 21756.32 | O28: - | P28: 21103.62 | Q28: - | R28: - | S28: - | T28: - | U28: - | V28: - | W28: - | X28: - | Y28: - | Z28: =P28 -> 21103.62
A29: 10 | B29: Задача 1.1. Оснащение приборами учета энергетических ресурсов муниципальных учреждений социальной сферы | C29: Управление по коммунальному хозяйству и благоустройству администрации муниципального образования "Город Астрахань" (Управление образования администрации муниципального образования "Город Астрахань", Управление культуры администрации муниципального образования «Город Астрахань») | D29: Показатель 1. Доля объектов социальной сферы, оснащенных приборами учета энергетических ресурсов, в общем количестве учреждений социальной сферы | E29: % | F29: 3.3 | G29: 10.4 | H29: 0 | I29: - | J29: 12.1 | K29: - | L29: 24.6 | M29: - | N29: 31.7 | O29: - | P29: 38.8 | Q29: - | R29: - | S29: - | T29: - | U29: - | V29: - | W29: - | X29: - | Y29: - | Z29: 38.8
A30: 11 | B30: Мероприятие 1.1.1. Реализация полномочий в сфере коммунального хозяйства | C30: Управление по коммунальному хозяйству и благоустройству администрации муниципального образования "Город Астрахань" (Управление образования администрации муниципального образования "Город Астрахань", Управление культуры администрации муниципального образования «Город Астрахань») | D30: Показатель 1. Количество муниципальных учреждений социальной сферы, оснащенных приборами учета энергетических ресурсов энергии в отчетный период | E30: шт. | F30: 6 | G30: 13 | H30: 0 | I30: - | J30: 9 | K30: - | L30: 16 | M30: - | N30: - | O30: - | P30: - | Q30: - | R30: - | S30: - | T30: - | U30: - | V30: - | W30: - | X30: - | Y30: - | Z30: =J30+L30 -> 25
A31: 12 | B31: Мероприятие 1.1.2. Проведение семинаров на тему "Практическое внедрение энергосервисных контрактов" | C31: Управление по коммунальному хозяйству и благоустройству администрации муниципального образования "Город Астрахань" | D31: Показатель 1. Количество муниципальных учреждений социальной сферы, представители которых приняли участие в семинарах | E31: ед. | F31: - | G31: - | H31: 1 | I31: - | J31: 1 | K31: - | L31: 1 | M31: - | N31: 1 | O31: - | P31: 1 | Q31: - | R31: - | S31: - | T31: - | U31: - | V31: - | W31: - | X31: - | Y31: - | Z31: 5
A32: 13 | B32: Мероприятие 1.1.3. Анализ потенциала энергоэффективности муниципальных учреждений | C32: Управление по коммунальному хозяйству и благоустройству администрации муниципального образования "Город Астрахань" | D32: Показатель 1. Количество подготовленных отчетов о проведенных аналитических мероприятиях | E32: ед. | F32: - | G32: - | H32: 10 | I32: - | J32: 12 | K32: - | L32: 14 | M32: - | N32: 16 | O32: - | P32: 18 | Q32: - | R32: - | S32: - | T32: - | U32: - | V32: - | W32: - | X32: - | Y32: - | Z32: 70
A33: 14 | B33: Мероприятие 1.1.4. Проведение конкурсов по энергосбережению и внедрению инновационных технологий среди учащихся муниципальных образовательных учреждений города Астрахани | C33: Управление по коммунальному хозяйству и благоустройству администрации муниципального образования "Город Астрахань" (Управление образования администрации муниципального образования "Город Астрахань") | D33: Показатель 1. Количество проведенных конкурсов по энергосбережению и внедрению инновационных технологий | E33: ед. | F33: - | G33: - | H33: 1 | I33: - | J33: 1 | K33: - | L33: 1 | M33: - | N33: 1 | O33: - | P33: 1 | Q33: - | R33: - | S33: - | T33: - | U33: - | V33: - | W33: - | X33: - | Y33: - | Z33: 5
A35: Подпрограмма 2 "Энергосбережение и повышение энергетической эффективности в системах коммунальной инфраструктуры"
A36: 15 | B36: Цель 1. Повышение энергетической эффективности в системах коммунальной инфраструктуры | C36: Управление по коммунальному хозяйству и благоустройству администрации муниципального образования "Город Астрахань" (МУП г. Астрахани "Астрводоканал", МУП г. Астрахани "Коммунэнерго", МКП г. Астрахани "Горсвет") | D36: Показатель 1. Объем потребления энергоресурсов, используемых в системах коммунальной инфраструктуры | E36: тыс. т.у.т в год | F36: 84.3 | G36: 84.3 | H36: 82.90 | I36: - | J36: 81.60 | K36: - | L36: 79.70 | M36: - | N36: 78.30 | O36: - | P36: 77.80 | Q36: - | R36: 77.1 | S36: - | T36: 76.32 | U36: - | V36: 76.32 | W36: - | X36: 76.32 | Y36: - | Z36: =X36 -> 76.32
A37: 16 | B37: Задача 1.1. Повышение энергетической эффективности в сфере водоснабжения и водоотведения | C37: Управление по коммунальному хозяйству и благоустройству администрации муниципального образования "Город Астрахань" (МУП г. Астрахани "Астрводоканал") | D37: Показатель 1. Объем потребления энергоресурсов, используемых муниципальными предприятиями для водоснабжения и водоотведения | E37: т.у.т в год | F37: 18892.62 | G37: 18892.62 | H37: 17804.34 | I37: - | J37: 16752.62 | K37: - | L37: 14846.81 | M37: - | N37: 13251.26 | O37: - | P37: - | Q37: - | R37: - | S37: - | T37: 11697.47 | U37: - | V37: - | W37: - | X37: - | Y37: - | Z37: =T37 -> 11697.47
D38: Показатель 2. Экономия энергоресурсов, используемых муниципальными предприятиями для водоснабжения и водоотведения | E38: тыс. кВт час | F38: - | G38: - | H38: 3159 | I38: - | J38: 3052.9 | K38: - | L38: 5532.1 | M38: - | N38: 4632.6 | O38: - | P38: - | Q38: - | R38: - | S38: - | T38: 842 | U38: - | V38: - | W38: - | X38: - | Y38: - | Z38: =H38+J38+L38+N38+T38 -> 17218.6
A39: 17 | B39: Мероприятие 1.1.1. Внедрение автоматических станций управления на ПНС и КНС с заменой насосного оборудования (20 ПНС и 3 КНС) | C39: Управление по коммунальному хозяйству и благоустройству администрации муниципального образования "Город Астрахань" (МУП г. Астрахани "Астрводоканал") | D39: Экономия электрической энергии, полученная в результате внедрения автоматических станций управления на ПНС и КНС | E39: тыс. кВт час | F39: - | G39: - | H39: 1629.00 | I39: - | J39: - | K39: - | L39: - | M39: - | N39: - | O39: - | P39: - | Q39: - | R39: - | S39: - | T39: - | U39: - | V39: - | W39: - | X39: - | Y39: - | Z39: 1629.00
A40: 18 | B40: Мероприятие 1.1.2. Внедрение автоматических станций управления на ПНС и КНС с заменой насосного оборудования | C40: Управление по коммунальному хозяйству и благоустройству администрации муниципального образования "Город Астрахань" (МУП г. Астрахани "Астрводоканал") | D40: Показатель 1. Экономия электрической энергии, полученная в результате внедрения автоматических станций управления на ПНС и КНС | E40: тыс. кВт час | F40: - | G40: - | H40: 1530.00 | I40: - | J40: - | K40: - | L40: - | M40: - | N40: - | O40: - | P40: - | Q40: - | R40: - | S40: - | T40: - | U40: - | V40: - | W40: - | X40: - | Y40: - | Z40: 1530.00
A41: 19 | B41: Мероприятие 1.1.3. Внедрение автоматических станций управления на КНС с заменой насосного оборудования | C41: Управление по коммунальному хозяйству и благоустройству администрации муниципального образования "Город Астрахань" (МУП г. Астрахани "Астрводоканал") | D41: Экономия электрической энергии, полученная в результате внедрения автоматических станций управления на КНС | E41: тыс. кВт час | F41: - | G41: - | H41: - | I41: - | J41: 3052.90 | K41: - | L41: - | M41: - | N41: - | O41: - | P41: - | Q41: - | R41: - | S41: - | T41: - | U41: - | V41: - | W41: - | X41: - | Y41: - | Z41: 3052.90
A42: 20 | B42: Мероприятие 1.1.4. Замена насосного оборудования и запорной арматуры для снижения потерь. Замена пусковой аппаратуры с применением ПЧ на насосах 1 - 2 подъема ЛОСВ, ПОСВ2, ПОСВ1, ВОС (1 - 2 подъемы) | C42: Управление по коммунальному хозяйству и благоустройству администрации муниципального образования "Город Астрахань" (МУП г. Астрахани "Астрводоканал") | D42: Показатель 1. Экономия электрической энергии, полученная в результате замены насосного оборудования и запорной арматуры | E42: тыс. кВт час | F42: - | G42: - | H42: - | I42: - | J42: - | K42: - | L42: 5532.10 | M42: - | N42: - | O42: - | P42: - | Q42: - | R42: - | T42: - | U42: - | V42: - | W42: - | X42: - | Y42: - | Z42: 5532.10
A43: 21 | B43: Мероприятие 1.1.5. Внедрение управляемых воздуходувок в системах биологической очистки на очистных сооружениях канализации (СОСК, ЮОСК, ПОСК1) | C43: Управление по коммунальному хозяйству и благоустройству администрации муниципального образования "Город Астрахань" (МУП г. Астрахани "Астрводоканал") | D43: Показатель 1. Экономия электрической энергии, полученная в результате внедрения управляемых воздуходувок в системах биологической очистки на очистных сооружениях канализации | E43: тыс. кВт час | F43: - | G43: - | H43: - | I43: - | J43: - | K43: - | L43: - | M43: - | N43: 4631.50 | O43: - | P43: - | Q43: - | R43: - | S43: - | T43: - | U43: - | V43: - | W43: - | X43: - | Y43: - | Z43: 4631.50
A44: 22 | B44: Мероприятие 1.1.6. Частичная замена насосного оборудования на сооружениях водоснабжения | C44: Управление по коммунальному хозяйству и благоустройству администрации муниципального образования "Город Астрахань" (МУП г. Астрахани "Астрводоканал") | D44: Показатель 1. Экономия электрической энергии, полученная в результате частичной замены насосного оборудования на сооружениях водоснабжения | E44: тыс. кВт час | F44: - | G44: - | H44: - | I44: - | J44: - | K44: - | L44: - | M44: - | N44: - | O44: - | P44: - | Q44: - | R44: - | S44: - | T44: 842 | U44: - | V44: - | W44: - | X44: - | Y44: - | Z44: 842.00
A45: 23 | B45: Мероприятие 1.1.7. Приобретение оборудования и материалов для реализации мероприятий, направленных на модернизацию и повышение энергоэффективности водопроводно-канализационного хозяйства | C45: Управление по коммунальному хозяйству и благоустройству администрации муниципального образования "Город Астрахань» | D45: Показатель 1. Количество канализационно -насосных станций, для которых приобреталось оборудование | E45: шт. | F45: - | G45: - | H45: - | I45: - | J45: - | K45: - | L45: 35 | M45: - | N45: - | O45: - | P45: - | Q45: - | R45: - | S45: - | T45: - | U45: - | V45: - | W45: - | X45: - | Y45: - | Z45: 35
A46: 24 | B46: Мероприятие 1.1.8. Монтаж приобретенного оборудования и материалов для реализации мероприятий, направленных на модернизацию и повышение энергоэффективности водопроводно-канализационного хозяйства | C46: Управление по коммунальному хозяйству и благоустройству администрации муниципального образования "Город Астрахань» | D46: Показатель 1. Количество канализационно-насосных станций, в которых произведен монтаж приобретенного оборудования и материалов для реализации мероприятий, направленных на модернизацию и повышение энергоэффективности водопроводно-канализационного хозяйства | E46: шт | F46: - | G46: - | H46: - | I46: - | J46: - | K46: - | L46: 7 | M46: - | N46: - | O46: - | P46: - | Q46: - | R46: - | S46: - | T46: - | U46: - | V46: - | W46: - | X46: - | Y46: - | Z46: 7
D47: Показатель 2. Снижение расхода электроэнергии | E47: % | F47: - | G47: - | H47: - | I47: - | J47: - | K47: - | L47: - | M47: - | N47: 1.1 | O47: - | P47: - | Q47: - | R47: - | S47: - | T47: - | U47: - | V47: - | W47: - | X47: - | Y47: - | Z47: 1.1
A48: 25 | B48: Мероприятие 1.1.9. Оказание услуг по проведению экспертизы результатов, предусмотренных контрактом, в части их соответствия условиям контракта № 300 от 30.11.2018 | C48: Управление по коммунальному хозяйству и благоустройству администрации муниципального образования "Город Астрахань» | D48: Показатель 1. Количество проведенных экспертиз | E48: шт | F48: - | G48: - | H48: - | I48: - | J48: - | K48: - | L48: 1 | M48: - | N48: - | O48: - | P48: - | Q48: - | R48: - | S48: - | T48: - | U48: - | V48: - | W48: - | X48: - | Y48: - | Z48: 1
A49: 26 | B49: Мероприятие 1.1.10. Реконструкция системы ливневой канализации с насосной станцией, расположенной по адресу: ул. Бурова, 2 «А», в Кировском районе г. Астрахани, с организацией очистки сброса поверхностных вод | C49: Управление по капитальному строительству администрации муниципального образования "Город Астрахань | D49: Показатель 1. Количество разработанных проектов | E49: ед. | F49: - | G49: - | H49: - | I49: - | J49: - | K49: - | L49: - | M49: - | N49: - | O49: - | P49: 1 | Q49: - | R49: - | S49: - | T49: - | U49: - | V49: - | W49: - | X49: - | Y49: - | Z49: 1
A50: 27 | B50: Мероприятие 1.1.11. Реконструкция системы ливневой канализации с насосной станцией, расположенной по адресу: ул. Харьковская, 28 «А», в Советском районе г. Астрахани, с организацией очистки сброса поверхностных вод | C50: Управление по капитальному строительству администрации муниципального образования "Город Астрахань | D50: Показатель 1. Количество разработанных проектов | E50: ед. | F50: - | G50: - | H50: - | I50: - | J50: - | K50: - | L50: - | M50: - | N50: - | O50: - | P50: 1 | Q50: - | R50: - | S50: - | T50: - | U50: - | V50: - | W50: - | X50: - | Y50: - | Z50: 1
A51: 28 | B51: Мероприятие 1.1.12. Реализация мероприятий, направленных на обеспечение функционирования объектов водоснабжения и водоотведения (в т.ч. приобретение оборудования, материалов для ремонта водопроводно-канализационных сетей и сооружений, расположенных на территории муниципального образования Астраханской области; приобретение диагностическо-инспекционного оборудования для сетей и сооружений; приобретение специализированной техники; разработку (корректировку) схем водоснабжения и водоотведения; проведение технического аудита муниципальных унитарных предприятий) | C51: Управление по коммунальному хозяйству и благоустройству администрации муниципального образования "Город Астрахань", Управление по капитальному строительству администрации муниципального образования "Город Астрахань | D51: Показатель 1. Снижение аварийности по сравнению с аналогичным периодом прошлого года | E51: % | F51: - | G51: - | H51: - | I51: - | J51: - | K51: - | L51: - | M51: - | N51: - | O51: - | P51: 0 | Q51: - | R51: 3 | S51: - | T51: - | U51: - | V51: - | W51: - | X51: - | Y51: - | Z51: 3
A52: 29 | B52: Задача 1.2. Повышение энергетической эффективности в сфере теплоснабжения | C52: Управление по коммунальному хозяйству и благоустройству администрации муниципального образования "Город Астрахань" (МУП г. Астрахани "Коммунэнерго") | D52: Показатель 1. Объем потребления энергоресурсов, используемых муниципальными предприятиями для выработки тепловой энергии | E52: т.у.т в год | F52: 58687.28 | G52: 58687.28 | H52: 58415.80 | I52: - | J52: 58920.31 | K52: - | L52: 49720.7 | M52: - | N52: - | O52: - | P52: 40720.3 | Q52: - | R52: - | S52: - | T52: - | U52: - | V52: - | W52: - | X52: - | Y52: - | Z52: 40720.3
D53: Показатель 2. Экономия энергоресурсов, используемых муниципальными предприятиями для выработки тепловой энергии. | E53: тыс. кВт час | F53: - | G53: - | H53: 788.00 | I53: - | J53: 0 | K53: - | L53: 527.00 | M53: - | N53: - | O53: - | P53: 474.3 | Q53: - | R53: - | S53: - | T53: - | U53: - | V53: - | W53: - | X53: - | Y53: - | Z53: 1789.30
A54: 30 | B54: Мероприятие 1.2.1. Приобретение новых электродвигателей (с классом изоляции F) и установка на их приводы регуляторов частоты вращения для насосного и тягодутьевого оборудования котельной N Т-1 | C54: Управление по коммунальному хозяйству и благоустройству администрации муниципального образования "Город Астрахань" (МУП г. Астрахани "Коммунэнерго" | D54: Показатель 1. Экономия электрической энергии, полученная в результате приобретения новых электродвигателей | E54: тыс. кВт час | F54: - | G54: - | H54: 271.00 | I54: - | J54: 0 | K54: - | L54: 271.00 | M54: - | N54: - | O54: - | P54: - | Q54: - | R54: - | S54: - | T54: - | U54: - | V54: - | W54: - | X54: - | Y54: - | Z54: 542
A55: 31 | B55: Мероприятие 1.2.2. Замена на котельной N Т-2 насоса исходной воды К90 - 85 на энергосберегающий | C55: Управление по коммунальному хозяйству и благоустройству администрации муниципального образования "Город Астрахань" (МУП г. Астрахани "Коммунэнерго" | D55: Показатель 1. Экономия электрической энергии, полученная в результате замены на котельной насоса исходной воды | E55: тыс. кВт час | F55: - | G55: - | H55: 13.00 | I55: - | J55: - | K55: - | L55: 13.00 | M55: - | N55: - | O55: - | P55: - | Q55: - | R55: - | S55: - | T55: - | U55: - | V55: - | W55: - | X55: - | Y55: - | Z55: 26.00
A56: 32 | B56: Мероприятие 1.2.3. Приобретение новых электродвигателей (с классом изоляции F) и установка на их приводы регуляторов частоты вращения для насосного и тягодутьевого оборудования котельной N Т-2 | C56: Управление по коммунальному хозяйству и благоустройству администрации муниципального образования "Город Астрахань" (МУП г. Астрахани "Коммунэнерго") | D56: Показатель 1. Экономия электрической энергии, полученная в результате приобретения новых электродвигателей | E56: тыс. кВт час | F56: - | G56: - | H56: 121.00 | I56: - | J56: 0 | K56: - | L56: 121.0 | M56: - | N56: - | O56: - | P56: - | Q56: - | R56: - | S56: - | T56: - | U56: - | V56: - | W56: - | X56: - | Y56: - | Z56: 242
A57: 33 | B57: Мероприятие 1.2.4. Замена на котельной N Т-6 сетевого насоса ЦН 400 - 105 на энергосберегающий | C57: Управление по коммунальному хозяйству и благоустройству администрации муниципального образования "Город Астрахань" (МУП г. Астрахани "Коммунэнерго") | D57: Показатель 1. Экономия электрической энергии, полученная в результате замены на котельной сетевого насоса | E57: тыс. кВт час | F57: - | G57: - | H57: 89.00 | I57: - | J57: - | K57: - | L57: - | M57: - | N57: - | O57: - | P57: - | Q57: - | R57: - | S57: - | T57: - | U57: - | V57: - | W57: - | X57: - | Y57: - | Z57: 89.00
A58: 34 | B58: Мероприятие 1.2.5. Приобретение новых электродвигателей (с классом изоляции F) и установка на их приводы регуляторов частоты вращения для насосного и тягодутьевого оборудования котельной N Т-6 | C58: Управление по коммунальному хозяйству и благоустройству администрации муниципального образования "Город Астрахань" (МУП г. Астрахани "Коммунэнерго" | D58: Показатель 1. Экономия электрической энергии, полученная в результате приобретения новых электродвигателей | E58: тыс. кВт час | F58: - | G58: - | H58: 92.00 | I58: - | J58: 0 | K58: - | L58: 92.00 | M58: - | N58: - | O58: - | P58: - | Q58: - | R58: - | S58: - | T58: - | U58: - | V58: - | W58: - | X58: - | Y58: - | Z58: 184.00
A59: 35 | B59: Мероприятие 1.2.6. Приобретение новых электродвигателей (с классом изоляции F) и установка на их приводы регуляторов частоты вращения для насосного и тягодутьевого оборудования котельной N Т-44 | C59: Управление по коммунальному хозяйству и благоустройству администрации муниципального образования "Город Астрахань" (МУП г. Астрахани "Коммунэнерго") | D59: Показатель 1. Экономия электрической энергии, полученная в результате приобретения новых электродвигателей | E59: тыс. кВт час | F59: - | G59: - | H59: 30.00 | I59: - | J59: 0 | K59: - | L59: 30.00 | M59: - | N59: - | O59: - | P59: - | Q59: - | R59: - | S59: - | T59: - | U59: - | V59: - | W59: - | X59: - | Y59: - | Z59: 60.00
A60: 36 | B60: Мероприятие 1.2.7. Приобретение переносных газоанализаторов для котельных N Т-1, Т-2, Т-6, Т-44 | C60: Управление по коммунальному хозяйству и благоустройству администрации муниципального образования "Город Астрахань" (МУП г. Астрахани "Коммунэнерго") | D60: Показатель 1. Экономия электрической энергии, полученная в результате приобретения переносных газоанализаторов | E60: тыс. кВт час | F60: - | G60: - | H60: 172.00 | I60: - | J60: - | K60: - | L60: - | M60: - | N60: - | O60: - | P60: - | Q60: - | R60: - | S60: - | T60: - | U60: - | V60: - | W60: - | X60: - | Y60: - | Z60: 172.00
A61: 37 | B61: Мероприятие 1.2.8 Проведение мероприятий по текущему ремонту объектов теплоснабжения, находящих в муниципальной собственности (реконструкция автоматики безопасности зала котлов ДКВР котельной Т-6 по ул. Адм.Нахимова, 60) | C61: Управление по коммунальному хозяйству и благоустройству администрации муниципального образования "Город Астрахань" | D61: Показатель 1. Снижение аварийности по сравнению с аналогичным периодом прошлого года | E61: % | F61: - | G61: - | H61: - | I61: - | J61: - | K61: - | L61: - | M61: - | N61: - | O61: - | P61: 3 | Q61: - | R61: - | S61: - | T61: - | U61: - | V61: - | W61: - | X61: - | Y61: - | Z61: 3
A62: 38 | B62: Мероприятие 1.2.9. Строительство блочно-модульной котельной по ул. 2-й проезд Мостостроителей в Трусовском районе г. Астрахани, в том числе ПИР | C62: Управление по капитальному строительству администрации муниципального образования "Город Астрахань" | D62: Показатель 1. Снижение уровня износа объектов коммунальной инфраструктуры | E62: % | F62: - | G62: - | H62: - | I62: - | J62: - | K62: - | L62: - | M62: - | N62: 3 | O62: - | P62: 3 | Q62: - | R62: 3 | S62: - | T62: - | U62: - | V62: - | W62: - | X62: - | Y62: - | Z62: 9
D63: Показатель 2. Снижение потребления топливно-энергетических ресурсов | E63: % | F63: - | G63: - | H63: - | I63: - | J63: - | K63: - | L63: - | M63: - | N63: - | O63: - | P63: 10 | Q63: - | R63: - | S63: - | T63: - | U63: - | V63: - | W63: - | X63: - | Y63: - | Z63: 10
A64: 39 | B64: Мероприятие 1.2.10. Разработка (актуализация) схем теплоснабжения | C64: Управление по коммунальному хозяйству и благоустройству администрации муниципального образования "Город Астрахань" | D64: Показатель 1. Количество разработанных (актуализированных) схем теплоснабжения | E64: ед. | F64: - | G64: - | H64: - | I64: - | J64: - | K64: - | L64: - | M64: - | N64: - | O64: - | P64: - | Q64: - | R64: 1 | S64: - | T64: 1 | U64: - | V64: 1 | W64: - | X64: 1 | Y64: - | Z64: 1
A65: 40 | B65: Мероприятие 1.2.11. Строительство блочно-модульной котельной мощностью 15 МВт по адресу: г. Астрахань, Трусовский район, мкр. "III Интернационал" | C65: Управление по капитальному строительству администрации муниципального образования "Город Астрахань" | D65: Показатель 1. Разработка (корректировка) проектно-сметной документации | E65: ед. | F65: - | G65: - | H65: - | I65: - | J65: - | K65: - | L65: - | M65: - | N65: - | O65: - | P65: - | Q65: - | R65: - | S65: - | T65: 1 | U65: - | V65: - | W65: - | X65: - | Y65: - | Z65: 1
D66: Показатель 2. Снижение уровня износа объектов коммунальной инфраструктуры | E66: % | F66: - | G66: - | H66: - | I66: - | J66: - | K66: - | L66: - | M66: - | N66: - | O66: - | P66: - | Q66: - | R66: - | S66: - | T66: х | V66: х | W66: - | X66: х | Y66: - | Z66: =V66 -> х
D67: Показатель 3. Снижение потребления топливно-энергетический ресурсов | E67: % | F67: - | G67: - | H67: - | I67: - | J67: - | K67: - | L67: - | M67: - | N67: - | O67: - | P67: - | Q67: - | R67: - | S67: - | T67: х | V67: х | W67: - | X67: х | Y67: - | Z67: =V67 -> х
A68: 41 | B68: Задача 1.3. Повышение энергетической эффективности в сфере наружного городского освещения | C68: Управление по коммунальному хозяйству и благоустройству администрации муниципального образования "Город Астрахань" (МКП г. Астрахани "Горсвет") | D68: Показатель 1. Объем потребления энергоресурсов, используемых для обеспечения функционирования системы наружного городского освещения | E68: т.у.т в год | F68: 6722.12 | G68: 6722.12 | H68: 6722.12 | I68: - | J68: 6638.16 | K68: - | L68: 6638.16 | M68: - | N68: 6638.16 | O68: - | P68: 6638.16 | Q68: - | R68: =P68 -> 6638.16 | S68: - | T68: =R68/2 -> 3319.08 | U68: - | V68: =T68 -> 3319.08 | W68: - | X68: =T68 -> 3319.08 | Y68: - | Z68: =X68 -> 3319.08
D69: Показатель 2. Экономия энергоресурсов, используемых для обеспечения функционирования системы наружного городского освещения | E69: тыс. кВт час | F69: - | G69: - | H69: - | I69: - | J69: 243.72 | K69: - | L69: - | M69: - | N69: - | O69: - | P69: - | Q69: - | R69: - | S69: - | T69: 9751.03 | U69: - | V69: - | W69: - | X69: - | Y69: - | Z69: =J69+T69 -> 9994.75
A70: 42 | B70: Мероприятие 1.3.1. Перевод электрической котельной на газовое топливо | C70: Управление по коммунальному хозяйству и благоустройству администрации муниципального образования "Город Астрахань" (МКП г. Астрахани "Горсвет") | D70: Показатель 1. Экономия электрической энергии, полученная в результате перевода электрической котельной на газовое топливо | E70: тыс. кВт час | F70: - | G70: - | H70: - | I70: - | J70: 243.72 | K70: - | L70: - | M70: - | N70: - | O70: - | P70: - | Q70: - | R70: - | S70: - | T70: - | U70: - | V70: - | W70: - | X70: - | Y70: - | Z70: =J70 -> 243.72
A71: 43 | B71: Мероприятие 1.3.2 Реализация мероприятий, направленных на модернизацию и повышение энергетической эффективности сетей наружного освещения в рамках энергосервисного договора (контракта) | C71: Управление по коммунальному хозяйству и благоустройству администрации муниципального образования "Город Астрахань" (МКП г. Астрахани "Горсвет") | D71: Показатель 1. Количество заключенных энергосервисных контрактов | E71: ед | F71: - | G71: - | H71: - | I71: - | J71: - | K71: - | L71: - | M71: - | N71: - | O71: - | P71: - | Q71: - | R71: 1 | S71: - | T71: - | U71: - | V71: - | W71: - | X71: - | Y71: - | Z71: =R71 -> 1
D72: Показатель 2. Количество светоточек, в отношении которых произведены энергосервисные мероприятия | E72: ед | F72: - | G72: - | H72: - | I72: - | J72: - | K72: - | L72: - | M72: - | N72: - | O72: - | P72: - | Q72: - | R72: - | S72: - | T72: 28650 | U72: - | V72: - | W72: - | X72: - | Y72: - | Z72: 28650
D73: Показатель 3. Сокращение годового объема потребления электроэнергии при эксплуатации системы наружного уличного освещения, по отношению к потребленному объему электроэнергии в базовом периоде (2020 год) без учета изменения факторов, оказывающих влияние на объем потребления энергетических ресурсов | E73: % | F73: - | G73: - | H73: - | I73: - | J73: - | K73: - | L73: - | M73: - | N73: - | O73: - | P73: - | Q73: - | R73: - | S73: - | T73: 50 | U73: - | V73: - | W73: - | X73: - | Y73: - | Z73: 50
A74: 44 | B74: Мероприятие 1.3.3 Услуги по энергосбережению системы уличного освещения муниципального образования «Город Астрахань» (расходы на оплату электрической энергии). | C74: Управление по коммунальному хозяйству и благоустройству администрации муниципального образования "Город Астрахань" | D74: Показатель 1. Доля пунктов питания электроэнергии, находящихся в муниципальной собственности, включенных в контракт по оплате электроэнергии | E74: % | F74: - | G74: - | H74: - | I74: - | J74: - | K74: - | L74: - | M74: - | N74: - | O74: - | P74: - | Q74: - | R74: 100 | S74: - | T74: 100 | U74: - | V74: 100 | W74: - | X74: 100 | Y74: - | Z74: 100

Sheet Финансирование (2)
N1: Приложение 3 к постановлению администрации муниципального образования «Городской округ город Астрахань» от ____________ №_______ Приложение 2 к муниципальной программе муниципального образования "Городской округ город Астрахань" "Энергосбережение и повышение энергетической эффективности муниципального образования «Городской округ город Астрахань»"
A2: РАСПРЕДЕЛЕНИЕ РАСХОДОВ НА РЕАЛИЗАЦИЮ МУНИЦИПАЛЬНОЙ ПРОГРАММЫ "ЭНЕРГОСБЕРЕЖЕНИЕ И ПОВЫШЕНИЕ ЭНЕРГЕТИЧЕСКОЙ ЭФФЕКТИВНОСТИ МУНИЦИПАЛЬНОГО ОБРАЗОВАНИЯ "ГОРОДСКОЙ ОКРУГ ГОРОД АСТРАХАНЬ""
A3: N п/п | B3: Цели, задачи, наименования программных мероприятий | C3: Ответственные исполнители, соисполнители (участники) | D3: Источники финансирования | E3: Коды классификации | I3: Планируемые расходы, руб.
E4: раздел, подраздел | F4: целевая статья | G4: вид расходов | H4: КОСГУ | I4: всего | J4: 2016 год | K4: 2017 год | L4: 2018 год | M4: 2019 год | N4: 2020 год | O4: 2021 год | P4: 2022 год | Q4: 2023 год | R4: 2024 год | S4: 2025 год | T4: 2026 год | U4: 2027 год | V4: 2028 год
B5: Муниципальная программа муниципального образования "Городской округ город Астрахань" "Энергосбережение и повышение энергетической эффективности муниципального образования «Городской округ город Астрахань»""
A6: 1 | B6: Муниципальная программа "Энергосбережение и повышение энергетической эффективности в городе Астрахани" | C6: Управление по коммунальному хозяйству и благоустройству администрации муниципального образования "Городской округ город Астрахань" (Управление образования администрации муниципального образования "Городской округ город Астрахань", Управление культуры администрации муниципального образования "Городской округ город Астрахань", Управление по капитальному строительству администрации муниципального образования "Городской округ город Астрахань", МУП г. Астрахани "Астрводоканал", МУП г. Астрахани "Коммунэнерго", МКП г. Астрахани "Горсвет") | D6: Бюджет МО "Городской округ город Астрахань", бюджет Астраханской области, внебюджетные источники | E6: х | F6: х | G6: х | H6: х | I6: =SUM(J6:V6) -> 2.3260087e+09 | J6: =J7 -> 55458000 | K6: =K7 -> 4.0405573e+08 | L6: =L7 -> 2.366077e+08 | M6: =M7 -> 1.8584015e+08 | N6: =N7 -> 97913077 | O6: =O7 -> 15319584 | P6: =P7 -> 1.9334056e+08 | Q6: =Q7 -> 2.3849603e+08 | ... V6: =V7 -> 155000000
A7: 2 | B7: Цель 1. Повышение эффективности использования энергетических ресурсов в муниципальном образовании "Городской округ город Астрахань" | C7: Управление по коммунальному хозяйству и благоустройству администрации муниципального образования "Городской округ город Астрахань" (Управление образования администрации муниципального образования "Городской округ город Астрахань", Управление культуры администрации муниципального образования "Городской округ город Астрахань", Управление по капитальному строительству администрации муниципального образования "Городской округ город Астрахань", МУП г. Астрахани "Астрводоканал", МУП г. Астрахани "Коммунэнерго", МКП г. Астрахани "Горсвет") | D7: Бюджет МО "Городской округ город Астрахань", бюджет Астраханской области, внебюджетные источники | E7: х | F7: х | G7: х | H7: х | I7: =SUM(J7:V7) -> 2.3260087e+09 | J7: =J11+J16+J17+J18+J19 -> 55458000 | K7: =K11+K16+K17+K18+K19 -> 4.0405573e+08 | L7: =L11+L16+L17+L18+L19 -> 2.366077e+08 | M7: =M11+M16+M17+M18+M19 -> 1.8584015e+08 | N7: =N11+N16+N17+N18+N19 -> 97913077 | O7: =O11+O16+O17+O18+O19 -> 15319584 | P7: =P11+P16+P17+P18+P19 -> 1.9334056e+08 | Q7: =Q11+Q16+Q17+Q18+Q19 -> 2.3849603e+08 | R7: 1.6442189e+08 | S7: =S11+S16+S17+S18+S19 -> 1.96656e+08 | T7: =T11+T16+T17+T18+T19 -> 227900000 | U7: =U11+U16+U17+U18+U19 -> 155000000 | V7: =V11+V16+V17+V18+V19 -> 155000000
D8: Внебюджетные источники | E8: х | F8: х | G8: х | H8: х | I8: =SUM(J8:V8) -> 722071000 | J8: =J32 -> 55458000 | K8: =K32 -> 401440000 | L8: =L32 -> 135173000 | M8: =M32 -> 110000000 | N8: =N32 -> 0 | O8: =O32 -> 0 | P8: =P32 -> 20000000 | Q8: =Q32 -> 0 | ... V8: =V32 -> 0
D9: Бюджет МО «Городской округ город Астрахань» | E9: х | F9: х | G9: х | H9: х | I9: =SUM(J9:V9) -> 1.2469979e+09 | J9: 0 | K9: =K21+K33 -> 2615729.4 | L9: =L21+L33 -> 2434702.5 | M9: =M21+M33 -> 41040148 | N9: =N21+N33 -> 9986076.9 | O9: =O21+O33 -> 15319584 | P9: =P21+P33 -> 1.3412056e+08 | Q9: =Q21+Q33 -> 1.4849603e+08 | R9: =R21+R33 -> 1.5842902e+08 | ... V9: =V21+V33 -> 155000000
D10: Бюджет Астраханской области | E10: х | F10: х | G10: х | H10: х | I10: =SUM(J10:V10) -> 3.5693987e+08 | J10: =J34 -> 0 | K10: =K34 -> 0 | L10: =L34 -> 99000000 | M10: =M34 -> 34800000 | N10: =N34 -> 87927000 | O10: =O34 -> 0 | P10: =P34 -> 39220000 | Q10: =Q34 -> 90000000 | ... V10: =V34 -> 0
B11: Задача 1.1. Формирование системы информационного просвещения населения муниципального образования "Городской округ город Астрахань" в области энергосбережения и повышения энергетической эффективности | C11: Управление по коммунальному хозяйству и благоустройству администрации муниципального образования "Городской округ город Астрахань" | D11: Не требует финансирования | E11: х | F11: х | G11: х | H11: х | I11: =SUM(J11:V11) -> 0 | J11: =J12 -> 0 | K11: =K12 -> 0 | L11: =L12 -> 0 | M11: =M12 -> 0 | N11: =N12 -> 0 | O11: =O12 -> 0 | P11: =P12 -> 0 | Q11: =Q12 -> 0 | ... V11: =V12 -> 0
A12: 4 | B12: Основное мероприятие 1.1.1. Повышение информированности общества об энергосберегающих технологиях и стимулирование формирования модели бережливого отношения населения к энергоресурсам | C12: Управление по коммунальному хозяйству и благоустройству администрации муниципального образования "Городской округ город Астрахань" | D12: Не требует финансирования | E12: х | F12: х | G12: х | H12: х | I12: =SUM(J12:V12) -> 0 | J12: =J13+J14+J15 -> 0 | K12: =K13+K14+K15 -> 0 | L12: =L13+L14+L15 -> 0 | M12: =M13 -> 0 | N12: =N13 -> 0 | O12: =O13 -> 0 | P12: =P13+P14+P15 -> 0 | Q12: =Q13 -> 0 | R12: =R13 -> 0 | S12: =S13 -> 0 | T12: =T13 -> 0 | U12: =U13 -> 0 | V12: =V13 -> 0
A13: 5 | B13: Мероприятие 1.1.1.1. Разработка рекомендаций по внедрению энергоэффективных технологий при строительстве, реконструкции и эксплуатации | C13: Управление по коммунальному хозяйству и благоустройству администрации муниципального образования "Городской округ город Астрахань" | D13: Не требует финансирования | E13: х | F13: х | G13: х | H13: х | I13: =SUM(J13:V13) -> 0 | J13: =J14 -> 0 | K13: =K14 -> 0 | L13: =L14 -> 0 | M13: =M14 -> 0 | N13: =N14 -> 0 | O13: =O14 -> 0 | Q13: =Q14 -> 0 | R13: =R14 -> 0 | S13: =S14 -> 0 | T13: =T14 -> 0 | U13: =U14 -> 0 | V13: =V14 -> 0
A14: 6 | B14: Мероприятие 1.1.1.2. Пропаганда сбережения энергии и сохранения энергоресурсов | C14: Управление по коммунальному хозяйству и благоустройству администрации муниципального образования "Городской округ город Астрахань" | D14: Не требует финансирования | E14: х | F14: х | G14: х | H14: х | I14: =SUM(J14:V14) -> 0 | J14: 0 | K14: 0 | L14: 0 | M14: =M15 -> 0 | N14: =N15 -> 0 | O14: =O15 -> 0 | Q14: =Q15 -> 0 | R14: =R15 -> 0 | S14: =S15 -> 0 | T14: =T15 -> 0 | U14: =U15 -> 0 | V14: =V15 -> 0
A15: 7 | B15: Мероприятие 1.1.1.3. Проведение анализа потребления энергоресурсов на территории города Астрахани | C15: Управление по коммунальному хозяйству и благоустройству администрации муниципального образования "Городской округ город Астрахань" | D15: Не требует финансирования | E15: х | F15: х | G15: х | H15: х | I15: =SUM(J15:V15) -> 0 | J15: 0 | K15: 0 | L15: 0 | M15: =M16 -> 0 | N15: =N16 -> 0 | O15: =O16 -> 0 | Q15: =Q16 -> 0 | R15: =R16 -> 0 | S15: =S16 -> 0 | T15: =T16 -> 0 | U15: =U16 -> 0 | V15: =V16 -> 0
A16: 8 | B16: Задача 1.2. Повышение энергетической эффективности на объектах социальной сферы | C16: Управление по коммунальному хозяйству и благоустройству администрации муниципального образования "Городской округ город Астрахань" (Управление образования администрации муниципального образования "Городской округ город Астрахань", Управление культуры администрации муниципального образования) | D16: Бюджет МО "Городской округ город Астрахань" | E16: х | F16: х | G16: х | H16: х | I16: =SUM(J16:V16) -> 4551431.9 | J16: =J21 -> 0 | K16: =K21 -> 2615729.4 | L16: =L21 -> 1935702.5 | M16: =M21 -> 0 | N16: =N21 -> 0 | O16: =O21 -> 0 | P16: =P21 -> 0 | Q16: =Q21 -> 0 | ... V16: =V21 -> 0
A17: 9 | B17: Задача 1.3. Повышение энергетической эффективности в системах коммунальной инфраструктуры | C17: Управление по коммунальному хозяйству и благоустройству администрации муниципального образования "Городской округ город Астрахань», Управление по капитальному строительству администрации муниципального образования "Городской округ город Астрахань", МУП г. Астрахани "Астрводоканал", МУП г. Астрахани "Коммунэнерго", МКП г. Астрахани "Горсвет") | D17: Внебюджетные источники | E17: х | F17: х | G17: х | H17: х | I17: =SUM(J17:V17) -> 722071000 | J17: =J32 -> 55458000 | K17: =K32 -> 401440000 | L17: =L32 -> 135173000 | M17: =M32 -> 110000000 | N17: =N32 -> 0 | O17: =O32 -> 0 | P17: =P32 -> 20000000 | Q17: =Q32 -> 0 | ... V17: =V32 -> 0
D18: Бюджет МО «Городской округ город Астрахань» | I18: =SUM(J18:V18) -> 1.2424464e+09 | J18: =J33 -> 0 | K18: =K33 -> 0 | L18: =L33 -> 499000 | M18: =M33 -> 41040148 | N18: =N33 -> 9986076.9 | O18: =O33 -> 15319584 | P18: =P33 -> 1.3412056e+08 | Q18: =Q33 -> 1.4849603e+08 | ... V18: =V33 -> 155000000
D19: Бюджет Астраханской области | E19: х | F19: х | G19: х | H19: х | I19: =SUM(J19:V19) -> 3.5693987e+08 | J19: =J34 -> 0 | K19: =K34 -> 0 | L19: =L34 -> 99000000 | M19: =M34 -> 34800000 | N19: =N34 -> 87927000 | O19: =O34 -> 0 | P19: =P34 -> 39220000 | Q19: =Q34 -> 90000000 | ... V19: =V34 -> 0
A20: Подпрограмма 1 "Энергоэффективность социальной сферы"
A21: 10 | B21: Цель 1. Повышение энергетической эффективности на объектах социальной сферы | C21: Управление по коммунальному хозяйству и благоустройству администрации муниципального образования "Городской округ город Астрахань", Управление образования администрации муниципального образования "Городской округ город Астрахань", Управление культуры администрации муниципального образования | D21: Бюджет МО "Городской округ город Астрахань" | E21: х | F21: х | G21: х | H21: х | I21: =SUM(J21:V21) -> 4551431.9 | J21: =J22 -> 0 | K21: =K22 -> 2615729.4 | L21: =L22 -> 1935702.5 | M21: =M22 -> 0 | N21: =N22 -> 0 | O21: =O22 -> 0 | P21: =P22 -> 0 | Q21: =Q22 -> 0 | ... V21: =V22 -> 0
A22: 11 | B22: Задача 1.1. Оснащение приборами учета энергетических ресурсов муниципальных учреждений социальной сферы | C22: Управление по коммунальному хозяйству и благоустройству администрации муниципального образования "Городской округ город Астрахань" (Управление образования администрации муниципального образования "Городской округ город Астрахань", Управление культуры администрации муниципального образования) | D22: Бюджет МО "Городской округ город Астрахань" | E22: х | F22: х | G22: х | H22: х | I22: =SUM(J22:V22) -> 4551431.9 | J22: =J23+J24+J25+J26 -> 0 | K22: =K23+K24+K25+K26 -> 2615729.4 | L22: =L23+L24+L25+L26 -> 1935702.5 | M22: =M23+M24+M25+M26 -> 0 | N22: =N23+N24+N25+N26 -> 0 | O22: =O23+O24+O25+O26 -> 0 | P22: =P23+P24+P25+P26 -> 0 | Q22: =Q23+Q24+Q25+Q26 -> 0 | ... V22: =V23+V24+V25+V26 -> 0
A23: 12 | B23: Мероприятие 1.1.1. Реализация полномочий в сфере коммунального хозяйства | C23: Управление по коммунальному хозяйству и благоустройству администрации муниципального образования "Городской округ город Астрахань" (Управление образования администрации муниципального образования "Городской округ город Астрахань", Управление культуры администрации муниципального образования) | D23: Бюджет МО "Городской округ город Астрахань" | E23: х | F23: х | G23: х | H23: х | I23: =SUM(J23:V23) -> 4551431.9 | J23: 0 | K23: 2615729.4 | L23: 1935702.5 | M23: 0 | N23: 0 | O23: 0 | P23: 0 | Q23: 0 | R23: 0 | S23: 0 | T23: 0 | U23: 0 | V23: 0
A24: 13 | B24: Мероприятие 1.1.2. Проведение семинаров на тему "Практическое внедрение энергосервисных контрактов" | C24: Управление по коммунальному хозяйству и благоустройству администрации муниципального образования "Городской округ город Астрахань" | D24: Не требует финансирования | E24: х | F24: х | G24: х | H24: х | I24: =SUM(J24:V24) -> 0 | J24: 0 | K24: 0 | L24: 0 | M24: 0 | N24: 0 | O24: 0 | P24: 0 | Q24: 0 | R24: 0 | S24: 0 | T24: 0 | U24: 0 | V24: 0
A25: 14 | B25: Мероприятие 1.1.3. Анализ потенциала энергоэффективности муниципальных учреждений | C25: Управление по коммунальному хозяйству и благоустройству администрации муниципального образования "Городской округ город Астрахань" | D25: Не требует финансирования | E25: х | F25: х | G25: х | H25: х | I25: =SUM(J25:V25) -> 0 | J25: 0 | K25: 0 | L25: 0 | M25: 0 | N25: 0 | O25: 0 | P25: 0 | Q25: 0 | R25: 0 | S25: 0 | T25: 0 | U25: 0 | V25: 0
A26: 15 | B26: Мероприятие 1.1.4. Проведение конкурсов по энергосбережению и внедрению инновационных технологий среди учащихся муниципальных образовательных учреждений города Астрахани | C26: Управление по коммунальному хозяйству и благоустройству администрации муниципального образования "Городской округ город Астрахань" (Управление образования администрации муниципального образования "Городской округ город Астрахань") | D26: Не требует финансирования | E26: х | F26: х | G26: х | H26: х | I26: =SUM(J26:V26) -> 0 | J26: 0 | K26: 0 | L26: 0 | M26: 0 | N26: 0 | O26: 0 | P26: 0 | Q26: 0 | R26: 0 | S26: 0 | T26: 0 | U26: 0 | V26: 0
B27: Итого по Подпрограмме 1, в том числе по источникам финансирования: | I27: =SUM(J27:V27) -> 4551431.9 | J27: =J21 -> 0 | K27: =K21 -> 2615729.4 | L27: =L21 -> 1935702.5 | M27: =M21 -> 0 | N27: =N21 -> 0 | O27: =O21 -> 0 | P27: =P21 -> 0 | Q27: =Q21 -> 0 | ... V27: =V21 -> 0
B28: бюджет муниципального образования "Городской округ город Астрахань": | I28: =SUM(J28:V28) -> 4551431.9 | J28: 0 | K28: =K21 -> 2615729.4 | L28: =L21 -> 1935702.5 | M28: =M21 -> 0 | N28: =N21 -> 0 | O28: =O21 -> 0 | P28: =P21 -> 0 | Q28: =Q21 -> 0 | R28: =R21 -> 0 | ... V28: =V21 -> 0
B29: внебюджетные источники | I29: =SUM(J29:V29) -> 0 | J29: 0 | K29: 0 | L29: 0 | M29: 0 | N29: 0 | O29: 0 | P29: 0 | Q29: 0 | R29: 0 | S29: 0 | T29: 0 | U29: 0 | V29: 0
A30: Подпрограмма 2 "Энергосбережение и повышение энергетической эффективности в системах коммунальной инфраструктуры"
A31: 16 | B31: Цель 1. Повышение энергетической эффективности в системах коммунальной инфраструктуры | C31: Управление по коммунальному хозяйству и благоустройству администрации муниципального образования "Городской округ город Астрахань" (МУП г. Астрахани "Астрводоканал", МУП г. Астрахани "Коммунэнерго", МКП г. Астрахани "Горсвет") Управление по капитальному строительству администрации муниципального образования «Городской округ город Астрахань» | D31: Всего, в том числе: | E31: х | F31: х | G31: х | H31: х | I31: =SUM(J31:V31) -> 2.3214573e+09 | J31: =SUM(J32:J34) -> 55458000 | K31: =SUM(K32:K34) -> 401440000 | L31: =SUM(L32:L34) -> 234672000 | M31: =SUM(M32:M34) -> 1.8584015e+08 | N31: =SUM(N32:N34) -> 97913077 | O31: =SUM(O32:O34) -> 15319584 | P31: =SUM(P32:P34) -> 1.9334056e+08 | Q31: =SUM(Q32:Q34) -> 2.3849603e+08 | ... V31: =SUM(V32:V34) -> 155000000
D32: Внебюджетные источники | E32: х | F32: х | G32: х | H32: х | I32: =SUM(J32:V32) -> 722071000 | J32: =J37+J40+J60+J79 -> 55458000 | K32: =K37+K40+K60+K79 -> 401440000 | L32: =L37+L40+L60+L79 -> 135173000 | M32: =M37+M40+M60+M79 -> 110000000 | N32: =N37+N40+N60+N79 -> 0 | O32: =O37+O40+O60+O79 -> 0 | P32: =P37+P40+P60+P77 -> 20000000 | Q32: =Q37+Q40+Q60+Q77 -> 0 | R32: =R37+R40+R60+R79 -> 0 | S32: =S37+S40+S60+S79 -> 0 | T32: =T37+T40+T60+T79 -> 0 | U32: =U37+U40+U60+U79 -> 0 | V32: =V37+V40+V60+V79 -> 0
D33: Бюджет МО«Городской округ город Астрахань» | E33: х | F33: х | G33: х | H33: х | I33: =SUM(J33:V33) -> 1.2424464e+09 | J33: =J38+J41+J61+J80 -> 0 | K33: =K38+K41+K61+K80 -> 0 | L33: =L38+L41+L61+L80 -> 499000 | M33: =M38+M41+M61+M80 -> 41040148 | N33: =N38+N41+N61+N80 -> 9986076.9 | O33: =O38+O41+O61+O80 -> 15319584 | P33: =P38+P41+P61+P78+P83 -> 1.3412056e+08 | Q33: =Q38+Q41+Q61+Q78+Q83 -> 1.4849603e+08 | R33: =R38+R41+R61+R80 -> 1.5842902e+08 | S33: =S38+S41+S61+S80 -> 1.96656e+08 | T33: =T38+T41+T61+T80 -> 227900000 | U33: =U38+U41+U61+U80 -> 155000000 | V33: =V38+V41+V61+V80 -> 155000000
D34: Бюджет Астраханской области | E34: х | F34: х | G34: х | H34: х | I34: =SUM(J34:V34) -> 3.5693987e+08 | J34: =J39+J42+J62 -> 0 | K34: =K39+K42+K62 -> 0 | L34: =L39+L42+L62 -> 99000000 | M34: =M39+M42+M62 -> 34800000 | N34: =N39+N42+N62 -> 87927000 | O34: =O39+O42+O62 -> 0 | P34: =P39+P42+P62 -> 39220000 | Q34: =Q39+Q42+Q62 -> 90000000 | ... V34: =V39+V42+V62 -> 0
I35: =SUM(J35:V35) -> 0
I36: =SUM(J36:V36) -> 0
A37: 17 | B37: Задача 1.1. Повышение энергетической эффективности в сфере водоснабжения и водоотведения | C37: Управление по капитальному строительству администрации муниципального образования «Городской округ город Астрахань» | D37: Внебюджетные источники | E37: х | F37: х | G37: х | H37: х | I37: =SUM(J37:V37) -> 0 | J37: 0 | K37: 0 | L37: 0 | M37: 0 | N37: 0 | O37: 0 | P37: 0 | Q37: 0 | R37: 0 | S37: 0 | T37: 0 | U37: 0 | V37: 0
D38: Бюджет МО «Городской округ город Астрахань» | E38: х | F38: х | G38: х | H38: х | I38: =SUM(J38:V38) -> 1773000 | J38: =J53+J55+J59 -> 0 | K38: =K53+K55+K59 -> 0 | L38: =L53+L55+L59 -> 0 | M38: =M53+M55+M59 -> 0 | N38: =N53+N55+N59 -> 1773000 | O38: =O53+O55+O59 -> 0 | P38: =P53+P55+P59 -> 0 | Q38: =Q53+Q55+Q59 -> 0 | ... V38: =V53+V55+V59 -> 0
D39: Бюджет Астраханской области | E39: х | F39: х | G39: х | H39: х | I39: =SUM(J39:V39) -> 17927000 | J39: =J54+J56 -> 0 | K39: =K54+K56 -> 0 | L39: =L54+L56 -> 0 | M39: =M54+M56 -> 0 | N39: =N54+N56 -> 17927000 | O39: =O54+O56 -> 0 | P39: =P54+P56 -> 0 | Q39: =Q54+Q56 -> 0 | ... V39: =V54+V56 -> 0
C40: Управление по коммунальному хозяйству и благоустройству администрации муниципального образования «Городской округ город Астрахань» | D40: Внебюджетные источники | I40: =SUM(J40:V40) -> 711654000 | J40: =J43+J44+J45+J46+J47+J48 -> 50265000 | K40: =K43+K44+K45+K46+K47+K48 -> 400000000 | L40: =L43+L44+L45+L46+L47+L48 -> 131389000 | M40: =M43+M44+M45+M46+M47+M48 -> 110000000 | N40: =N43+N44+N45+N46+N47+N48 -> 0 | O40: =O43+O44+O45+O46+O47+O48 -> 0 | P40: =P43+P44+P45+P46+P47+P48 -> 20000000 | Q40: =Q43+Q44+Q45+Q46+Q47+Q48 -> 0 | ... V40: =V43+V44+V45+V46+V47+V48 -> 0
D41: Бюджет МО «Городской округ город Астрахань» | I41: =SUM(J41:V41) -> 37045834 | J41: =J49+J51+J52+J57 -> 0 | K41: =K49+K51+K52+K57 -> 0 | L41: =L49+L51+L52+L57 -> 499000 | M41: =M49+M51+M52+M57 -> 28056173 | N41: =N49+N51+N52+N57 -> 6923076.9 | O41: =O49+O51+O52+O57 -> 1567583.9 | P41: =P49+P51+P52+P57 -> 0 | Q41: =Q49+Q51+Q52+Q57 -> 0 | ... V41: =V49+V51+V52+V57 -> 0
D42: Бюджет Астраханской области | I42: =SUM(J42:V42) -> 169000000 | J42: =J50+J58 -> 0 | K42: =K50+K58 -> 0 | L42: =L50+L58 -> 99000000 | M42: =M50+M58 -> 0 | N42: =N50+N58 -> 70000000 | O42: =O50+O58 -> 0 | P42: =P50+P58 -> 0 | Q42: =Q50+Q58 -> 0 | ... V42: =V50+V58 -> 0
A43: 18 | B43: Мероприятие 1.1.1. Внедрение автоматических станций управления на ПНС и КНС с заменой насосного оборудования (20 ПНС и 3 КНС) | C43: Управление по коммунальному хозяйству и благоустройству администрации муниципального образования "Городской округ город Астрахань" (МУП г. Астрахани "Астрводоканал") | D43: Внебюджетные источники | E43: х | F43: х | G43: х | H43: х | I43: =SUM(J43:V43) -> 19834000 | J43: 19834000 | K43: 0 | L43: 0 | M43: 0 | N43: 0 | O43: 0 | P43: 0 | Q43: 0 | R43: 0 | S43: 0 | T43: 0 | U43: 0 | V43: 0
A44: 19 | B44: Мероприятие 1.1.2. Внедрение автоматических станций управления на ПНС и КНС с заменой насосного оборудования | C44: Управление по коммунальному хозяйству и благоустройству администрации муниципального образования "Городской округ город Астрахань" (МУП г. Астрахани "Астрводоканал") | D44: Внебюджетные источники | E44: х | F44: х | G44: х | H44: х | I44: =SUM(J44:V44) -> 30431000 | J44: 30431000 | K44: 0 | L44: 0 | M44: 0 | N44: 0 | O44: 0 | P44: 0 | Q44: 0 | R44: 0 | S44: 0 | T44: 0 | U44: 0 | V44: 0
A45: 20 | B45: Мероприятие 1.1.3. Внедрение автоматических станций управления на КНС с заменой насосного оборудования | C45: Управление по коммунальному хозяйству и благоустройству администрации муниципального образования "Городской округ город Астрахань" (МУП г. Астрахани "Астрводоканал") | D45: Внебюджетные источники | E45: х | F45: х | G45: х | H45: х | I45: =SUM(J45:V45) -> 400000000 | J45: 0 | K45: 400000000 | L45: 0 | M45: 0 | N45: 0 | O45: 0 | P45: 0 | Q45: 0 | R45: 0 | S45: 0 | T45: 0 | U45: 0 | V45: 0
A46: 21 | B46: Мероприятие 1.1.4. Замена насосного оборудования и запорной арматуры для снижения потерь. Замена пусковой аппаратуры с применением ПЧ на насосах 1 - 2 подъема ЛОСВ, ПОСВ2, ПОСВ1, ВОС (1 - 2 подъемы) | C46: Управление по коммунальному хозяйству и благоустройству администрации муниципального образования "Городской округ город Астрахань" (МУП г. Астрахани "Астрводоканал") | D46: Внебюджетные источники | E46: х | F46: х | G46: х | H46: х | I46: =SUM(J46:V46) -> 131389000 | J46: 0 | K46: 0 | L46: 131389000 | M46: 0 | N46: 0 | O46: 0 | P46: 0 | Q46: 0 | R46: 0 | S46: 0 | T46: 0 | U46: 0 | V46: 0
A47: 22 | B47: Мероприятие 1.1.5. Внедрение управляемых воздуходувок в системах биологической очистки на очистных сооружениях канализации (СОСК, ЮОСК, ПОСК1) | C47: Управление по коммунальному хозяйству и благоустройству администрации муниципального образования "Городской округ город Астрахань" (МУП г. Астрахани "Астрводоканал") | D47: Внебюджетные источники | E47: х | F47: х | G47: х | H47: х | I47: =SUM(J47:V47) -> 110000000 | J47: 0 | K47: 0 | L47: 0 | M47: 110000000 | N47: 0 | O47: 0 | P47: 0 | Q47: 0 | R47: 0 | S47: 0 | T47: 0 | U47: 0 | V47: 0
A48: 23 | B48: Мероприятие 1.1.6. Частичная замена насосного оборудования на сооружениях водоснабжения | C48: Управление по коммунальному хозяйству и благоустройству администрации муниципального образования "Городской округ город Астрахань" (МУП г. Астрахани "Астрводоканал") | D48: Внебюджетные источники | E48: х | F48: х | G48: х | H48: х | I48: =SUM(J48:V48) -> 20000000 | J48: 0 | K48: 0 | L48: 0 | M48: 0 | N48: 0 | O48: 0 | P48: 20000000 | Q48: 0 | R48: 0 | S48: 0 | T48: 0 | U48: 0 | V48: 0
A49: 24 | B49: Мероприятие 1.1.7. Приобретение оборудования и материалов для реализации мероприятий, направленных на модернизацию и повышение энергоэффективности водопроводно-канализационного хозяйства | C49: Управление по коммунальному хозяйству и благоустройству администрации муниципального образования "Городской округ город Астрахань" | D49: Бюджет МО «Городской округ город Астрахань» | I49: =SUM(J49:V49) -> 99000 | J49: 0 | K49: 0 | L49: 99000 | M49: 0 | N49: 0 | O49: 0 | P49: 0 | Q49: 0 | R49: 0 | S49: 0 | T49: 0 | U49: 0 | V49: 0
D50: Бюджет Астраханской области | I50: =SUM(J50:V50) -> 99000000 | J50: 0 | K50: 0 | L50: 99000000 | M50: 0 | N50: 0 | O50: 0 | P50: 0 | Q50: 0 | R50: 0 | S50: 0 | T50: 0 | U50: 0 | V50: 0
A51: 25 | B51: Мероприятие 1.1.8. Монтаж приобретенного оборудования и материалов для реализации мероприятий, направленных на модернизацию и повышение энергоэффективности водопроводно-канализационного хозяйства | C51: Управление по коммунальному хозяйству и благоустройству администрации муниципального образования "Городской округ город Астрахань" | D51: Бюджет МО «Городской округ город Астрахань» | I51: =SUM(J51:V51) -> 28356173 | J51: 0 | K51: 0 | L51: 300000 | M51: 28056173 | N51: 0 | O51: 0 | P51: 0 | Q51: 0 | R51: 0 | S51: 0 | T51: 0 | U51: 0 | V51: 0
A52: 26 | B52: Мероприятие 1.1.9. Оказание услуг по проведению экспертизы результатов, предусмотренных контрактом, в части их соответствия условиям контракта № 300 от 30.11.2018 | C52: Управление по коммунальному хозяйству и благоустройству администрации муниципального образования "Городской округ город Астрахань" | D52: Бюджет МО «Городской округ город Астрахань» | I52: =SUM(J52:V52) -> 100000 | J52: 0 | K52: 0 | L52: 100000 | M52: 0 | N52: 0 | O52: 0 | P52: 0 | Q52: 0 | R52: 0 | S52: 0 | T52: 0 | U52: 0 | V52: 0
A53: 27 | B53: Мероприятие 1.1.10. Реконструкция системы ливневой канализации с насосной станцией, расположенной по адресу: ул. Бурова, 2 «А», в Кировском районе г. Астрахани, с организацией очистки сброса поверхностных вод | C53: Управление по капитальному строительству администрации муниципального образования "Городской округ город Астрахань | D53: Бюджет МО «Городской округ город Астрахань» | I53: =SUM(J53:V53) -> 875700 | J53: 0 | K53: 0 | L53: 0 | M53: 0 | N53: 875700 | O53: 0 | P53: 0 | Q53: 0 | R53: 0 | S53: 0 | T53: 0 | U53: 0 | V53: 0
D54: Бюджет Астраханской области | I54: =SUM(J54:V54) -> 8854300 | J54: 0 | K54: 0 | L54: 0 | M54: 0 | N54: 8854300 | O54: 0 | P54: 0 | Q54: 0 | R54: 0 | S54: 0 | T54: 0 | U54: 0 | V54: 0
A55: 28 | B55: Мероприятие 1.1.11. Реконструкция системы ливневой канализации с насосной станцией, расположенной по адресу: ул. Харьковская, 28 «А», в Советском районе г. Астрахани, с организацией очистки сброса поверхностных вод | C55: Управление по капитальному строительству администрации муниципального образования "Городской округ город Астрахань | D55: Бюджет МО «Городской округ город Астрахань» | I55: =SUM(J55:V55) -> 897300 | J55: 0 | K55: 0 | L55: 0 | M55: 0 | N55: 897300 | O55: 0 | P55: 0 | Q55: 0 | R55: 0 | S55: 0 | T55: 0 | U55: 0 | V55: 0
D56: Бюджет Астраханской области | I56: =SUM(J56:V56) -> 9072700 | J56: 0 | K56: 0 | L56: 0 | M56: 0 | N56: 9072700 | O56: 0 | P56: 0 | Q56: 0 | R56: 0 | S56: 0 | T56: 0 | U56: 0 | V56: 0
A57: 29 | B57: Мероприятие 1.1.12. Реализация мероприятий, направленных на обеспечение функционирования объектов водоснабжения и водоотведения (в т.ч. приобретение оборудования, материалов для ремонта водопроводно-канализационных сетей и сооружений, расположенных на территории муниципального образования Астраханской области; приобретение диагностическо-инспекционного оборудования для сетей и сооружений; приобретение специализированной техники; разработку (корректировку) схем водоснабжения и водоотведения; проведение технического аудита муниципальных унитарных предприятий) | C57: Управление по коммунальному хозяйству и благоустройству администрации муниципального образования "Городской округ город Астрахань" | D57: Бюджет МО «Городской округ город Астрахань» | I57: =SUM(J57:V57) -> 8490660.8 | J57: 0 | K57: 0 | L57: 0 | M57: 0 | N57: 6923076.9 | O57: 1567583.9 | P57: 0 | Q57: 0 | R57: 0 | S57: 0 | T57: 0 | U57: 0 | V57: 0
D58: Бюджет Астраханской области | I58: =SUM(J58:V58) -> 70000000 | J58: 0 | K58: 0 | L58: 0 | M58: 0 | N58: 70000000 | O58: 0 | P58: 0 | Q58: 0 | R58: 0 | S58: 0 | T58: 0 | U58: 0 | V58: 0
C59: Управление по капитальному строительству администрации муниципального образования "Городской округ город Астрахань | D59: Бюджет МО «Городской округ город Астрахань» | I59: =SUM(J59:V59) -> 0 | J59: 0 | K59: 0 | L59: 0 | M59: 0 | N59: 0 | O59: 0 | P59: 0 | Q59: 0 | R59: 0 | S59: 0 | T59: 0 | U59: 0 | V59: 0
A60: 30 | B60: Задача 1.2. Повышение энергетической эффективности в сфере теплоснабжения | C60: Управление по капитальному строительству администрации муниципального образования "Городской округ город Астрахань | D60: Внебюджетные источники | E60: х | F60: х | G60: х | H60: х | I60: =SUM(J60:V60) -> 8877000 | J60: =J63+J64+J65+J66+J67+J68+J69 -> 5093000 | K60: =K63+K64+K65+K66+K67+K68+K69 -> 0 | L60: =L63+L64+L65+L66+L67+L68+L69 -> 3784000 | M60: =M63+M64+M65+M66+M67+M68+M69 -> 0 | N60: =N63+N64+N65+N66+N67+N68+N69 -> 0 | O60: =O63+O64+O65+O66+O67+O68+O69 -> 0 | P60: =P63+P64+P65+P66+P67+P68+P69 -> 0 | Q60: =Q63+Q64+Q65+Q66+Q67+Q68+Q69 -> 0 | ... V60: =V63+V64+V65+V66+V67+V68+V69 -> 0
D61: Бюджет МО «Городской округ город Астрахань» | E61: х | F61: х | G61: х | H61: х | I61: =SUM(J61:V61) -> 1.3838351e+08 | J61: =J70+J72+J74+J77 -> 0 | K61: =K70+K72+K74+K77 -> 0 | L61: =L70+L72+L74+L77 -> 0 | M61: =M70+M72+M74+M77 -> 12983975 | N61: =N70+N72+N74+N77 -> 1290000 | O61: =O70+O72+O74+O77 -> 13752000 | P61: =P70+P72+P74+P75 -> 5406901.1 | Q61: =Q70+Q72+Q74+Q75 -> 8901100 | R61: =R70+R72+R74+R77+R75 -> 7493526.4 | S61: =S70+S72+S74+S77+S75 -> 15656005 | T61: =T70+T72+T74+T77+T75 -> 72900000 | U61: =U70+U72+U74+U77+U75 -> 0 | V61: =V70+V72+V74+V77+V75 -> 0
D62: Бюджет Астраханской области | E62: х | F62: х | G62: х | H62: х | I62: =SUM(J62:V62) -> 1.7001287e+08 | J62: =J71+J73+J78 -> 0 | K62: =K71+K73+K78 -> 0 | L62: =L71+L73+L78 -> 0 | M62: =M71+M73+M78 -> 34800000 | N62: =N71+N73+N78 -> 0 | O62: =O71+O73+O78 -> 0 | P62: =P71+P73+P76 -> 39220000 | Q62: =Q71+Q73+Q76 -> 90000000 | R62: =R71+R73+R78+R76 -> 5992867.3 | S62: =S71+S73+S78+S76 -> 0 | T62: =T71+T73+T78+T76 -> 0 | U62: =U71+U73+U78+U76 -> 0 | V62: =V71+V73+V78+V76 -> 0
A63: 31 | B63: Мероприятие 1.2.1. Приобретение новых электродвигателей (с классом изоляции F) и установка на их приводы регуляторов частоты вращения для насосного и тягодутьевого оборудования котельной N Т-1 | C63: Управление по коммунальному хозяйству и благоустройству администрации муниципального образования "Городской округ город Астрахань" (МУП г. Астрахани "Коммунэнерго") | D63: Внебюджетные источники | E63: х | F63: х | G63: х | H63: х | I63: =SUM(J63:V63) -> 2607000 | J63: 1287000 | K63: 0 | L63: 1320000 | M63: 0 | N63: 0 | O63: 0 | P63: 0 | Q63: 0 | R63: 0 | S63: 0 | T63: 0 | U63: 0 | V63: 0
A64: 32 | B64: Мероприятие 1.2.2. Замена на котельной N Т-2 насоса исходной воды К90 - 85 на энергосберегающий | C64: Управление по коммунальному хозяйству и благоустройству администрации муниципального образования "Городской округ город Астрахань" (МУП г. Астрахани "Коммунэнерго") | D64: Внебюджетные источники | E64: х | F64: х | G64: х | H64: х | I64: =SUM(J64:V64) -> 396000 | J64: 198000 | K64: 0 | L64: 198000 | M64: 0 | N64: 0 | O64: 0 | P64: 0 | Q64: 0 | R64: 0 | S64: 0 | T64: 0 | U64: 0 | V64: 0
A65: 33 | B65: Мероприятие 1.2.3. Приобретение новых электродвигателей (с классом изоляции F) и установка на их приводы регуляторов частоты вращения для насосного и тягодутьевого оборудования котельной N Т-2 | C65: Управление по коммунальному хозяйству и благоустройству администрации муниципального образования "Городской округ город Астрахань" (МУП г. Астрахани "Коммунэнерго") | D65: Внебюджетные источники | E65: х | F65: х | G65: х | H65: х | I65: =SUM(J65:V65) -> 1320000 | J65: 660000 | K65: 0 | L65: 660000 | M65: 0 | N65: 0 | O65: 0 | P65: 0 | Q65: 0 | R65: 0 | S65: 0 | T65: 0 | U65: 0 | V65: 0
A66: 34 | B66: Мероприятие 1.2.4. Замена на котельной N Т-6 сетевого насоса ЦН 400 - 105 на энергосберегающий | C66: Управление по коммунальному хозяйству и благоустройству администрации муниципального образования "Городской округ город Астрахань" (МУП г. Астрахани "Коммунэнерго") | D66: Внебюджетные источники | E66: х | F66: х | G66: х | H66: х | I66: =SUM(J66:V66) -> 1100000 | J66: 1100000 | K66: 0 | L66: 0 | M66: 0 | N66: 0 | O66: 0 | P66: 0 | Q66: 0 | R66: 0 | S66: 0 | T66: 0 | U66: 0 | V66: 0
A67: 35 | B67: Мероприятие 1.2.5. Приобретение новых электродвигателей (с классом изоляции F) и установка на их приводы регуляторов частоты вращения для насосного и тягодутьевого оборудования котельной N Т-6 | C67: Управление по коммунальному хозяйству и благоустройству администрации муниципального образования "Городской округ город Астрахань" (МУП г. Астрахани "Коммунэнерго") | D67: Внебюджетные источники | E67: х | F67: х | G67: х | H67: х | I67: =SUM(J67:V67) -> 2508000 | J67: 1254000 | K67: 0 | L67: 1254000 | M67: 0 | N67: 0 | O67: 0 | P67: 0 | Q67: 0 | R67: 0 | S67: 0 | T67: 0 | U67: 0 | V67: 0
A68: 36 | B68: Мероприятие 1.2.6. Приобретение новых электродвигателей (с классом изоляции F) и установка на их приводы регуляторов частоты вращения для насосного и тягодутьевого оборудования котельной N Т-44 | C68: Управление по коммунальному хозяйству и благоустройству администрации муниципального образования "Городской округ город Астрахань" (МУП г. Астрахани "Коммунэнерго") | D68: Внебюджетные источники | E68: х | F68: х | G68: х | H68: х | I68: =SUM(J68:V68) -> 704000 | J68: 352000 | K68: 0 | L68: 352000 | M68: 0 | N68: 0 | O68: 0 | P68: 0 | Q68: 0 | R68: 0 | S68: 0 | T68: 0 | U68: 0 | V68: 0
A69: 37 | B69: Мероприятие 1.2.7. Приобретение переносных газоанализаторов для котельных N Т-1, Т-2, Т-6, Т-44 | C69: Управление по коммунальному хозяйству и благоустройству администрации муниципального образования "Городской округ город Астрахань" (МУП г. Астрахани "Коммунэнерго") | D69: Внебюджетные источники | E69: х | F69: х | G69: х | H69: х | I69: =SUM(J69:V69) -> 242000 | J69: 242000 | K69: 0 | L69: 0 | M69: 0 | N69: 0 | O69: 0 | P69: 0 | Q69: 0 | R69: 0 | S69: 0 | T69: 0 | U69: 0 | V69: 0
A70: 38 | B70: Мероприятие 1.2.8 Проведение мероприятий по текущему ремонту объектов теплоснабжения, находящих в муниципальной собственности (реконструкция автоматики безопасности зала котлов ДКВР котельной Т-6 по ул. Адм.Нахимова, 60) | C70: Управление по коммунальному хозяйству и благоустройству администрации муниципального образования "Городской округ город Астрахань" | D70: Бюджет МО «Городской округ город Астрахань» | E70: х | F70: х | G70: х | H70: х | I70: =SUM(J70:V70) -> 841416 | J70: 0 | K70: 0 | L70: 0 | M70: 551416 | N70: 290000 | O70: 0 | P70: 0 | Q70: 0 | R70: 0 | S70: 0 | T70: 0 | U70: 0 | V70: 0
D71: Бюджет Астраханской области | E71: х | F71: х | G71: х | H71: х | I71: =SUM(J71:V71) -> 14800000 | J71: 0 | K71: 0 | L71: 0 | M71: 14800000 | N71: 0 | O71: 0 | P71: 0 | Q71: 0 | R71: 0 | S71: 0 | T71: 0 | U71: 0 | V71: 0
A72: 39 | B72: Мероприятие 1.2.9. Строительство блочно-модульной котельной по ул. 2-й проезд Мостостроителей в Трусовском районе г. Астрахани, в том числе ПИР | C72: Управление по капитальному строительству администрации муниципального образования "Городской округ город Астрахань" | D72: Бюджет МО «Городской округ город Астрахань» | E72: х | F72: х | G72: х | H72: х | I72: =SUM(J72:V72) -> 13432559 | J72: 0 | K72: 0 | L72: 0 | M72: 12432559 | N72: 1000000 | O72: 0 | P72: 0 | Q72: 0 | R72: 0 | S72: 0 | T72: 0 | U72: 0 | V72: 0
D73: Бюджет Астраханской области | E73: х | F73: х | G73: х | H73: х | I73: =SUM(J73:V73) -> 20000000 | J73: 0 | K73: 0 | L73: 0 | M73: 20000000 | N73: 0 | O73: 0 | P73: 0 | Q73: 0 | R73: 0 | S73: 0 | T73: 0 | U73: 0 | V73: 0
A74: 40 | B74: Мероприятие 1.2.10. Разработка (актуализация) схем теплоснабжения | C74: Управление по коммунальному хозяйству и благоустройству администрации муниципального образования "Городской округ город Астрахань" | D74: Бюджет МО «Городской округ город Астрахань» | E74: х | F74: х | G74: х | H74: х | I74: =SUM(J74:V74) -> 20280000 | J74: 0 | K74: 0 | L74: 0 | M74: 0 | N74: 0 | O74: 13752000 | P74: 1528000 | Q74: 0 | R74: 0 | S74: 5000000 | T74: 0 | U74: 0 | V74: 0
A75: 41 | B75: Мероприятие 1.2.11. Строительство блочно-модульной котельной мощностью 15 МВт по адресу: г. Астрахань, Трусовский район, мкр. "III Интернационал" | C75: Управление по капитальному строительству администрации муниципального образования "Городской округ город Астрахань" | D75: Бюджет МО «Городской округ город Астрахань» | E75: х | F75: х | G75: х | H75: х | I75: =SUM(J75:V75) -> 30929532 | J75: 0 | K75: 0 | L75: 0 | M75: 0 | N75: 0 | O75: 0 | P75: 3878901.1 | Q75: 8901100 | R75: 7493526.4 | S75: 10656005 | T75: 0 | U75: 0 | V75: 0
D76: Бюджет Астраханской области | E76: х | F76: х | G76: х | H76: х | I76: =SUM(J76:V76) -> 1.3521287e+08 | J76: 0 | K76: 0 | L76: 0 | M76: 0 | N76: 0 | O76: 0 | P76: =1820000+37400000 -> 39220000 | Q76: 90000000 | R76: 5992867.3 | S76: 0 | T76: 0 | U76: 0 | V76: 0
A77: 42 | B77: Мероприятие 1.2.12. Строительство блочно-модульной котельной мощностью 1,5 МВт для теплоснабжения жилого дома по ул.Боевая, 133,по адресу: г. Астрахань, Советский район, ул. Боевая, 141 в том числе ПИР | C77: Управление по капитальному строительству администрации муниципального образования "Городской округ город Астрахань" | D77: Бюджет МО «Городской округ город Астрахань» | E77: х | F77: х | G77: х | H77: х | I77: =SUM(J77:V77) -> 72900000 | J77: 0 | K77: 0 | L77: 0 | M77: 0 | N77: 0 | O77: 0 | P77: =P79 -> 0 | Q77: 0 | R77: 0 | S77: 0 | T77: 72900000 | U77: 0 | V77: 0
D78: Бюджет Астраханской области | E78: х | F78: х | G78: х | H78: х | I78: =SUM(J78:V78) -> 0 | J78: 0 | K78: 0 | L78: 0 | M78: 0 | N78: 0 | O78: 0 | P78: =P81 -> 0 | Q78: 0 | R78: 0 | S78: 0 | T78: 0 | U78: 0 | V78: 0
A79: 43 | B79: Задача 1.3. Повышение энергетической эффективности в сфере наружного городского освещения | C79: Управление по коммунальному хозяйству и благоустройству администрации муниципального образования "Городской округ город Астрахань" (МКП г. Астрахани "Горсвет") | D79: Внебюджетные источники | E79: х | F79: х | G79: х | H79: х | I79: =SUM(J79:V79) -> 1540000 | J79: =J81 -> 100000 | K79: =K81 -> 1440000 | L79: =L81 -> 0 | M79: =M81 -> 0 | N79: =N81 -> 0 | O79: =O81 -> 0 | P79: 0 | Q79: =Q81 -> 0 | R79: =R81 -> 0 | S79: =S81 -> 0 | T79: =T81 -> 0 | U79: =U81 -> 0 | V79: =V81 -> 0
D80: Бюджет МО «Городской округ город Астрахань» | I80: =SUM(J80:V80) -> 1.0652441e+09 | J80: =J83 -> 0 | K80: =K83 -> 0 | L80: =L83 -> 0 | M80: =M83 -> 0 | N80: =N83 -> 0 | O80: =O83 -> 0 | P80: =P83 -> 1.2871366e+08 | Q80: =Q83 -> 1.3959493e+08 | ... V80: =V83 -> 155000000
A81: 44 | B81: Мероприятие 1.3.1. Перевод электрической котельной на газовое топливо | C81: Управление по коммунальному хозяйству и благоустройству администрации муниципального образования "Городской округ город Астрахань" (МКП г. Астрахани "Горсвет") | D81: Внебюджетные источники | E81: х | F81: х | G81: х | H81: х | I81: =SUM(J81:V81) -> 1540000 | J81: 100000 | K81: 1440000 | L81: 0 | M81: 0 | N81: 0 | O81: 0 | P81: 0 | Q81: 0 | R81: 0 | S81: 0 | T81: 0 | U81: 0 | V81: 0
A82: 45 | B82: Мероприятие 1.3.2 Реализация мероприятий, направленнных на модернизацию и повышение энергетической эффективности сетей наружного освещения в рамках энергосервисного договора(контракта) | C82: Управление по коммунальному хозяйству и благоустройству администрации муниципального образования "Городской округ город Астрахань" (МКП г. Астрахани "Горсвет") | D82: Не требует финансирования | E82: х | F82: х | G82: х | H82: х | I82: =SUM(J82:V82) -> 0 | J82: х | K82: х | L82: х | M82: х | N82: х | O82: х | P82: х | Q82: х | R82: х | S82: х | T82: х | U82: х | V82: х
A83: 46 | B83: Мероприятие 1.3.3. Услуги по энергосбережению системы уличного освещения муниципального образования "Городской округ город Астрахань" (расходы на оплату электрической энергии) | C83: Управление по коммунальному хозяйству и благоустройству администрации муниципального образования "Городской округ город Астрахань" | D83: Бюджет МО «Городской округ город Астрахань» | E83: х | F83: х | G83: х | H83: х | I83: =SUM(J83:V83) -> 1.0652441e+09 | J83: 0 | K83: 0 | L83: 0 | M83: 0 | N83: 0 | O83: 0 | P83: 1.2871366e+08 | Q83: 1.3959493e+08 | R83: 1.509355e+08 | S83: 181000000 | T83: 155000000 | U83: 155000000 | V83: 155000000
A84: 47 | B84: Итого по Подпрограмме 2, в том числе по источникам финансирования: | I84: =SUM(J84:V84) -> 2.3214573e+09 | J84: =SUM(J85:J87) -> 55458000 | K84: =SUM(K85:K87) -> 401440000 | L84: =SUM(L85:L87) -> 234672000 | M84: =SUM(M85:M87) -> 1.8584015e+08 | N84: =SUM(N85:N87) -> 97913077 | O84: =SUM(O85:O87) -> 15319584 | P84: =SUM(P85:P87) -> 1.9334056e+08 | Q84: =SUM(Q85:Q87) -> 2.3849603e+08 | ... V84: =SUM(V85:V87) -> 155000000
B85: бюджет муниципального образования "Городской округ город Астрахань" | I85: =SUM(J85:V85) -> 1.2424464e+09 | J85: =J33 -> 0 | K85: =K33 -> 0 | L85: =L33 -> 499000 | M85: =M33 -> 41040148 | N85: =N33 -> 9986076.9 | O85: =O33 -> 15319584 | P85: =P33 -> 1.3412056e+08 | Q85: =Q33 -> 1.4849603e+08 | ... V85: =V33 -> 155000000
B86: бюджет Астраханской области | I86: =SUM(J86:V86) -> 3.5693987e+08 | J86: =J34 -> 0 | K86: =K34 -> 0 | L86: =L34 -> 99000000 | M86: =M34 -> 34800000 | N86: =N34 -> 87927000 | O86: =O34 -> 0 | P86: =P34 -> 39220000 | Q86: =Q34 -> 90000000 | ... V86: =V34 -> 0
B87: внебюджетные источники | I87: =SUM(J87:V87) -> 722071000 | J87: =J32 -> 55458000 | K87: =K32 -> 401440000 | L87: =L32 -> 135173000 | M87: =M32 -> 110000000 | N87: =N32 -> 0 | O87: =O32 -> 0 | P87: =P32 -> 20000000 | Q87: =Q32 -> 0 | ... V87: =V32 -> 0
B88: Итого по Программе, в том числе по источникам финансирования: | I88: =SUM(J88:V88) -> 2.3260087e+09 | J88: =SUM(J89:J91) -> 55458000 | K88: =SUM(K89:K91) -> 4.0405573e+08 | L88: =SUM(L89:L91) -> 2.366077e+08 | M88: =SUM(M89:M91) -> 1.8584015e+08 | N88: =SUM(N89:N91) -> 97913077 | O88: =SUM(O89:O91) -> 15319584 | P88: =SUM(P89:P91) -> 1.9334056e+08 | Q88: =SUM(Q89:Q91) -> 2.3849603e+08 | ... V88: =SUM(V89:V91) -> 155000000
B89: бюджет муниципального образования "Городской округ город Астрахань" | I89: =SUM(J89:V89) -> 1.2469979e+09 | J89: =J28+J85 -> 0 | K89: =K28+K85 -> 2615729.4 | L89: =L28+L85 -> 2434702.5 | M89: =M28+M85 -> 41040148 | N89: =N28+N85 -> 9986076.9 | O89: =O28+O85 -> 15319584 | P89: =P28+P85 -> 1.3412056e+08 | Q89: =Q28+Q85 -> 1.4849603e+08 | ... V89: =V28+V85 -> 155000000
B90: бюджет Астраханской области | I90: =SUM(J90:V90) -> 3.5693987e+08 | J90: =J86 -> 0 | K90: =K86 -> 0 | L90: =L86 -> 99000000 | M90: =M86 -> 34800000 | N90: =N86 -> 87927000 | O90: =O86 -> 0 | P90: =P86 -> 39220000 | Q90: =Q86 -> 90000000 | ... V90: =V86 -> 0
B91: внебюджетные источники | I91: =SUM(J91:V91) -> 722071000 | J91: =J29+J87 -> 55458000 | K91: =K29+K87 -> 401440000 | L91: =L29+L87 -> 135173000 | M91: =M29+M87 -> 110000000 | N91: =N29+N87 -> 0 | O91: =O29+O87 -> 0 | P91: =P29+P87 -> 20000000 | Q91: =Q29+Q87 -> 0 | ... V91: =V29+V87 -> 0
B94: Начальник управления по коммунальному хозяйству и благоустройству администрации МО "Городской округ город Астрахань"
Q95: Т.Р.Калинкин
I110: =I6-I88 -> 0 | J110: =J6-J88 -> 0 | K110: =K6-K88 -> 0 | L110: =L6-L88 -> 0 | M110: =M6-M88 -> 0 | N110: =N6-N88 -> 0 | O110: =O6-O88 -> 0 | P110: =P6-P88 -> 0 | ... V110: =V6-V88 -> 0
I111: =SUM(I89:I91) -> 2.3260087e+09
I112: =I111-I6 -> 0 | N112: 1.2890468e+08
N113: =N112-N88 -> 30991598
N115: =N57+N58+N70 -> 77213077 | O115: 97913077
N116: =N53+N54+N55+N72 -> 11627300 | O116: =N90+N89 -> 97913077
N117: =SUM(N115:N116) -> 88840377
...

Sheet Мероприятия (3)
T1: Приложение 2 к постановлению администрации муниципального образования «Городской округ город Астрахань» от ____________ №_______ Приложение 2 к муниципальной программе муниципального образования "Городской округ город Астрахань" "Энергосбережение и повышение энергетической эффективности муниципального образования «Городской округ город Астрахань»""
A2: ПЕРЕЧЕНЬ ПРОГРАММНЫХ МЕРОПРИЯТИЙ, ПОКАЗАТЕЛЕЙ (ИНДИКАТОРОВ) И РЕЗУЛЬТАТОВ МУНИЦИПАЛЬНОЙ ПРОГРАММЫ МУНИЦИПАЛЬНОГО ОБРАЗОВАНИЯ "ГОРОДСКОЙ ОКРУГ ГОРОД АСТРАХАНЬ" "ЭНЕРГОСБЕРЕЖЕНИЕ И ПОВЫШЕНИЕ ЭНЕРГЕТИЧЕСКОЙ ЭФФЕКТИВНОСТИ МУНИЦИПАЛЬНОГО ОБРАЗОВАНИЯ "ГОРОДСКОЙ ОКРУГ ГОРОД АСТРАХАНЬ""
A3: N п/п | B3: Цели, задачи, наименование программных мероприятий | C3: Ответственные исполнители, соисполнители (участники) | D3: Наименование показателя (индикатора) | E3: Ед. изм. | F3: Отчетный 2014 год | G3: Текущий 2015 год | H3: Планируемое значение показателя по годам реализации | AH3: Целевое значение показателя (конечный результат) за весь период реализации программы
H4: 2016 год | J4: 2017 год | L4: 2018 год | N4: 2019 год | P4: 2020 год | R4: 2021 год | T4: 2022 год | V4: 2023 год | X4: 2024 год | Z4: 2025 год | AB4: 2026 год | AD4: 2027 год | AF4: 2028 год
H5: всего | I5: в том числе на 01.07 | J5: всего | K5: в том числе на 01.07 | L5: всего | M5: в том числе на 01.07 | N5: всего | O5: в том числе на 01.07 | P5: всего | Q5: в том числе на 01.07 | R5: всего | S5: в том числе на 01.07 | T5: всего | U5: в том числе на 01.07 | V5: всего | W5: в том числе на 01.07 | X5: всего | Y5: в том числе на 01.07 | Z5: всего | AA5: в том числе на 01.07 | AB5: всего | AC5: в том числе на 01.07 | AD5: всего | AE5: в том числе на 01.07 | AF5: всего | AG5: в том числе на 01.07
B8: Муниципальная программа муниципального образования "Городской округ город Астрахань" "Энергосбережение и повышение энергетической эффективности муниципального образования «Городской округ город Астрахань»""
A9: 1 | B9: Цель 1. Повышение эффективности использования энергетических ресурсов в муниципальном образовании "Городской округ город Астрахань" | C9: Управление по коммунальному хозяйству и благоустройству администрации муниципального образования "Городской округ город Астрахань" | D9: Показатель 1. Удельная величина потребления энергоресурсов муниципальными бюджетными учреждениями | E9: Электроэнергии кВт ч на 1 кв. метр | F9: 23.28 | G9: 23.26 | H9: 22.56 | I9: - | J9: 21.82 | K9: - | L9: 21.06 | M9: - | N9: 20.42 | O9: - | P9: 20.4 | Q9: - | R9: 20.33 | S9: - | T9: 20.2 | U9: - | V9: 20.2 | W9: - | X9: 20.2 | Y9: - | Z9: 20.2 | AA9: - | AB9: 20.2 | AC9: - | AD9: 20.2 | AE9: - | AF9: 20.2 | AG9: - | AH9: 20.2
E10: холодной воды м3 на 1 кв. метр | F10: 1.68 | G10: 1.65 | H10: 1.63 | I10: - | J10: 1.57 | K10: - | L10: 1.52 | M10: - | N10: 1.48 | O10: - | P10: 1.43 | Q10: - | R10: 1.46 | S10: - | T10: 1.44 | U10: - | V10: 1.44 | W10: - | X10: 1.44 | Y10: - | Z10: 1.44 | AA10: - | AB10: 1.44 | AC10: - | AD10: 1.44 | AE10: - | AF10: 1.44 | AG10: - | AH10: 1.44
E11: тепловой энергии Гкал на 1 кв. метр | F11: 0.07 | G11: 0.06 | H11: 0.06 | I11: - | J11: 0.06 | K11: - | L11: 0.06 | M11: - | N11: 0.06 | O11: - | P11: 0.06 | Q11: - | R11: 0.06 | S11: - | T11: 0.06 | U11: - | V11: 0.06 | W11: - | X11: 0.06 | Y11: - | Z11: 0.06 | AA11: - | AB11: 0.06 | AC11: - | AD11: 0.06 | AE11: - | AF11: 0.06 | AG11: - | AH11: 0.06
E12: природного газа м3 на 1 человека населения | F12: - | G12: - | H12: - | I12: - | J12: - | K12: - | L12: - | M12: - | N12: - | O12: - | P12: 0.32 | Q12: - | R12: 0.31 | S12: - | T12: 0.31 | U12: - | V12: 0.31 | W12: - | X12: 0.31 | Y12: - | Z12: 0.31 | AA12: - | AB12: 0.31 | AC12: - | AD12: 0.31 | AE12: - | AF12: 0.31 | AG12: - | AH12: 0.31
D13: Показатель 2. Доля объема энергоресурсов, расчеты за которые осуществляются с использованием приборов учета, в общем объеме энергоресурсов, потребляемых на территории муниципального образования "Городской округ город Астрахань" | E13: Электроэнергия в % | F13: 99.77 | G13: 99.77 | H13: 99.77 | I13: - | J13: 99.77 | K13: - | L13: 99.77 | M13: - | N13: 99.77 | O13: - | P13: 99.77 | Q13: - | R13: 99.77 | S13: - | T13: 99.77 | U13: - | V13: 99.77 | W13: - | X13: 99.77 | Y13: - | Z13: 99.77 | AA13: - | AB13: 99.77 | AC13: - | AD13: 99.77 | AE13: - | AF13: 99.77 | AG13: - | AH13: 99.77
E14: тепловая энергия в % | F14: 96.89 | G14: 96.89 | H14: 96.91 | I14: - | J14: 96.71 | K14: - | L14: 96.71 | M14: - | N14: 96.72 | O14: - | P14: 96.73 | Q14: - | R14: 96.74 | S14: - | T14: 96.75 | U14: - | V14: 96.75 | W14: - | X14: 96.75 | Y14: - | Z14: 96.75 | AA14: - | AB14: 96.75 | AC14: - | AD14: 96.75 | AE14: - | AF14: 96.75 | AG14: - | AH14: 96.75
E15: холодной воды в % | F15: 60.54 | G15: 60.54 | H15: 61.00 | I15: - | J15: 62.00 | K15: - | L15: 63.00 | M15: - | N15: 64.00 | O15: - | P15: 65.00 | Q15: - | R15: 66 | S15: - | T15: 67 | U15: - | V15: 67 | W15: - | X15: 67 | Y15: - | Z15: 67 | AA15: - | AB15: 67 | AC15: - | AD15: 67 | AE15: - | AF15: 67 | AG15: - | AH15: 67.00
E16: природного газа в % | F16: 64.94 | G16: 64.94 | H16: 64.94 | I16: - | J16: 66.00 | K16: - | L16: 66.00 | M16: - | N16: 66.00 | O16: - | P16: 67.00 | Q16: - | R16: 67 | S16: - | T16: 67 | U16: - | V16: 67 | W16: - | X16: 67 | Y16: - | Z16: 67 | AA16: - | AB16: 67 | AC16: - | AD16: 67 | AE16: - | AF16: 67 | AG16: - | AH16: 67.00
A17: 2 | B17: Задача 1.1. Формирование системы информационного просвещения населения муниципального образования "Городской округ город Астрахань" в области энергосбережения и повышения энергетической эффективности | C17: Управление по коммунальному хозяйству и благоустройству администрации муниципального образования "Городской округ город Астрахань" | D17: Показатель 1. Удельная величина потребления энергоресурсов в многоквартирных домах | E17: электроэнергии в кВт ч на 1 проживающего | F17: 719.68 | G17: 720.2 | H17: 719.53 | I17: - | J17: 712.52 | K17: - | L17: 708.46 | M17: - | N17: 704.92 | O17: - | P17: 701.39 | Q17: - | R17: - | S17: - | T17: - | U17: - | V17: - | W17: - | X17: - | Y17: - | Z17: - | AA17: - | AB17: - | AC17: - | AD17: - | AE17: - | AF17: - | AG17: - | AH17: =P17 -> 701.39
E18: холодной воды в м3 на 1 проживающего | F18: 50.87 | G18: 50.98 | H18: 50.63 | I18: - | J18: 49.37 | K18: - | L18: 48.14 | M18: - | N18: 47.18 | O18: - | P18: 46.23 | Q18: - | R18: - | S18: - | T18: - | U18: - | V18: - | W18: - | X18: - | Y18: - | Z18: - | AA18: - | AB18: - | AC18: - | AD18: - | AE18: - | AF18: - | AG18: - | AH18: =P18 -> 46.23
E19: тепловой энергии в Гкал на 1 кв. метр общей площади | F19: 0.16 | G19: 0.16 | H19: 0.16 | I19: - | J19: 0.16 | K19: - | L19: 0.16 | M19: - | N19: 0.16 | O19: - | P19: 0.16 | Q19: - | R19: - | S19: - | T19: - | U19: - | V19: - | W19: - | X19: - | Y19: - | Z19: - | AA19: - | AB19: - | AC19: - | AD19: - | AE19: - | AF19: - | AG19: - | AH19: =P19 -> 0.16
E20: природного газа м3 на 1 проживающего | F20: 244.77 | G20: 244.77 | H20: 244.77 | I20: - | J20: 244.77 | K20: - | L20: 244.77 | M20: - | N20: 244.77 | O20: - | P20: 244.77 | Q20: - | R20: - | S20: - | T20: - | U20: - | V20: - | W20: - | X20: - | Y20: - | Z20: - | AA20: - | AB20: - | AC20: - | AD20: - | AE20: - | AF20: - | AG20: - | AH20: =P20 -> 244.77
A21: 3 | B21: Основное мероприятие 1.1.1. Повышение информированности общества об энергосберегающих технологиях и стимулирование формирования модели бережливого отношения населения к энергоресурсам | C21: Управление по коммунальному хозяйству и благоустройству администрации муниципального образования "Городской округ город Астрахань" | D21: Показатель 1. Уровень осведомленности и грамотности населения в области энергосбережения | E21: % | F21: - | G21: - | H21: 15.00 | I21: - | J21: 25.00 | K21: - | L21: 35.00 | M21: - | N21: 45.00 | O21: - | P21: 55.00 | Q21: - | R21: - | S21: - | T21: - | U21: - | V21: - | W21: - | X21: - | Y21: - | Z21: - | AA21: - | AB21: - | AC21: - | AD21: - | AE21: - | AF21: - | AG21: - | AH21: =P21 -> 55.00
A22: 4 | B22: Мероприятие 1.1.1.1.Разработка рекомендаций по внедрению энергоэффективных технологий при строительстве, реконструкции и эксплуатации | C22: Управление по коммунальному хозяйству и благоустройству администрации муниципального образования "Городской округ город Астрахань" | D22: Показатель 1. Количество рекомендательных материалов, определяющих возможности применения энергоэффективных технологий | E22: шт. | F22: - | G22: - | H22: 1 | I22: - | J22: 1 | K22: - | L22: 1 | M22: - | N22: 1 | O22: - | P22: 1 | Q22: - | R22: - | S22: - | T22: - | U22: - | V22: - | W22: - | X22: - | Y22: - | Z22: - | AA22: - | AB22: - | AC22: - | AD22: - | AE22: - | AF22: - | AG22: - | AH22: =H22+J22+L22+N22+P22 -> 5
A23: 5 | B23: Мероприятие 1.1.1.2. Пропаганда сбережения энергии и сохранения энергоресурсов | C23: Управление по коммунальному хозяйству и благоустройству администрации муниципального образования "Городской округ город Астрахань" | D23: Показатель 1. Количество проведенных мероприятий, пропагандирующих сбережение энергии и сохранение энергоресурсов | E23: ед. | F23: - | G23: - | H23: 2 | I23: 1 | J23: 2 | K23: 1 | L23: 2 | M23: 1 | N23: 2 | O23: 1 | P23: 2 | Q23: 1 | R23: - | S23: - | T23: - | U23: - | V23: - | W23: - | X23: - | Y23: - | Z23: - | AA23: - | AB23: - | AC23: - | AD23: - | AE23: - | AF23: - | AG23: - | AH23: =H23+J23+N23+P23+L23 -> 10
A24: 6 | B24: Мероприятие 1.1.1.3. Проведение анализа потребления энергоресурсов на территории города Астрахани | C24: Управление по коммунальному хозяйству и благоустройству администрации муниципального образования "Городской округ город Астрахань" | D24: Показатель 1. Согласование результатов анализа с министерством жилищно-коммунального хозяйства Астраханской области | E24: да (1)/ нет (0) | F24: 1 | G24: 1 | H24: 1 | I24: - | J24: 1 | K24: - | L24: 1 | M24: - | N24: 1 | O24: - | P24: 1 | Q24: - | R24: - | S24: - | T24: - | U24: - | V24: - | W24: - | X24: - | Y24: - | Z24: - | AA24: - | AB24: - | AC24: - | AD24: - | AE24: - | AF24: - | AG24: - | AH24: 1
A25: 7 | B25: Задача 1.2. Повышение энергетической эффективности на объектах социальной сферы | C25: Управление по коммунальному хозяйству и благоустройству администрации муниципального образования "Городской округ город Астрахань" (Управление образования администрации муниципального образования "Городской округ город Астрахань", Управление культуры администрации муниципального образования «Городской округ город Астрахань») | D25: Показатель 1. Объем потребления тепловой энергии муниципальными учреждениями социальной сферы | E25: т.у.т в год | F25: 24823.51 | G25: 24575.28 | H25: 23838.02 | I25: - | J25: 23122.88 | K25: - | L25: 22429.19 | M25: - | N25: 21756.32 | O25: - | P25: 21103.62 | Q25: - | R25: - | S25: - | T25: - | U25: - | V25: - | W25: - | X25: - | Y25: - | Z25: - | AA25: - | AB25: - | AC25: - | AD25: - | AE25: - | AF25: - | AG25: - | AH25: =P25 -> 21103.62
A26: 8 | B26: Задача 1.3. Повышение энергетической эффективности в системах коммунальной инфраструктуры | C26: Управление по коммунальному хозяйству и благоустройству администрации муниципального образования "Городской округ город Астрахань" (МУП г. Астрахани "Астрводоканал", МУП г. Астрахани "Коммунэнерго", МКП г. Астрахани "Горсвет") | D26: Показатель 1. Объем потребления энергоресурсов, используемых в системах коммунальной инфраструктуры | E26: тыс. т.у.т в год | F26: 84.3 | G26: 84.3 | H26: 82.90 | I26: - | J26: 81.60 | K26: - | L26: 79.70 | M26: - | N26: 78.30 | O26: - | P26: 77.80 | Q26: - | R26: 77.1 | S26: - | T26: 76.32 | U26: - | V26: 76.32 | W26: - | X26: 76.32 | Y26: - | Z26: 76.32 | AA26: - | AB26: 76.32 | AC26: - | AD26: 76.32 | AE26: - | AF26: 76.32 | AG26: - | AH26: =AD26 -> 76.32
A27: Подпрограмма 1 "Энергоэффективность социальной сферы"
A28: 9 | B28: Цель 1. Повышение энергетической эффективности на объектах социальной сферы | C28: Управление по коммунальному хозяйству и благоустройству администрации муниципального образования "Городской округ город Астрахань" (Управление образования администрации муниципального образования "Городской округ город Астрахань", Управление культуры администрации муниципального образования «Городской округ город Астрахань») | D28: Показатель 1. Объем потребления тепловой энергии муниципальными учреждениями социальной сферы | E28: т.у.т в год | F28: 24823.51 | G28: 24575.28 | H28: 23838.02 | I28: - | J28: 23122.88 | K28: - | L28: 22429.19 | M28: - | N28: 21756.32 | O28: - | P28: 21103.62 | Q28: - | R28: - | S28: - | T28: - | U28: - | V28: - | W28: - | X28: - | Y28: - | Z28: - | AA28: - | AB28: - | AC28: - | AD28: - | AE28: - | AF28: - | AG28: - | AH28: =P28 -> 21103.62
A29: 10 | B29: Задача 1.1. Оснащение приборами учета энергетических ресурсов муниципальных учреждений социальной сферы | C29: Управление по коммунальному хозяйству и благоустройству администрации муниципального образования "Городской округ город Астрахань" (Управление образования администрации муниципального образования "Городской округ город Астрахань", Управление культуры администрации муниципального образования «Городской округ город Астрахань») | D29: Показатель 1. Доля объектов социальной сферы, оснащенных приборами учета энергетических ресурсов, в общем количестве учреждений социальной сферы | E29: % | F29: 3.3 | G29: 10.4 | H29: 0 | I29: - | J29: 12.1 | K29: - | L29: 24.6 | M29: - | N29: 31.7 | O29: - | P29: 38.8 | Q29: - | R29: - | S29: - | T29: - | U29: - | V29: - | W29: - | X29: - | Y29: - | Z29: - | AA29: - | AB29: - | AC29: - | AD29: - | AE29: - | AF29: - | AG29: - | AH29: 38.8
A30: 11 | B30: Мероприятие 1.1.1. Реализация полномочий в сфере коммунального хозяйства | C30: Управление по коммунальному хозяйству и благоустройству администрации муниципального образования "Городской округ город Астрахань" (Управление образования администрации муниципального образования "Городской округ город Астрахань", Управление культуры администрации муниципального образования «Городской округ город Астрахань») | D30: Показатель 1. Количество муниципальных учреждений социальной сферы, оснащенных приборами учета энергетических ресурсов энергии в отчетный период | E30: шт. | F30: 6 | G30: 13 | H30: 0 | I30: - | J30: 9 | K30: - | L30: 16 | M30: - | N30: - | O30: - | P30: - | Q30: - | R30: - | S30: - | T30: - | U30: - | V30: - | W30: - | X30: - | Y30: - | Z30: - | AA30: - | AB30: - | AC30: - | AD30: - | AE30: - | AF30: - | AG30: - | AH30: =J30+L30 -> 25
A31: 12 | B31: Мероприятие 1.1.2. Проведение семинаров на тему "Практическое внедрение энергосервисных контрактов" | C31: Управление по коммунальному хозяйству и благоустройству администрации муниципального образования "Городской округ город Астрахань" | D31: Показатель 1. Количество муниципальных учреждений социальной сферы, представители которых приняли участие в семинарах | E31: ед. | F31: - | G31: - | H31: 1 | I31: - | J31: 1 | K31: - | L31: 1 | M31: - | N31: 1 | O31: - | P31: 1 | Q31: - | R31: - | S31: - | T31: - | U31: - | V31: - | W31: - | X31: - | Y31: - | Z31: - | AA31: - | AB31: - | AC31: - | AD31: - | AE31: - | AF31: - | AG31: - | AH31: 5
A32: 13 | B32: Мероприятие 1.1.3. Анализ потенциала энергоэффективности муниципальных учреждений | C32: Управление по коммунальному хозяйству и благоустройству администрации муниципального образования "Городской округ город Астрахань" | D32: Показатель 1. Количество подготовленных отчетов о проведенных аналитических мероприятиях | E32: ед. | F32: - | G32: - | H32: 10 | I32: - | J32: 12 | K32: - | L32: 14 | M32: - | N32: 16 | O32: - | P32: 18 | Q32: - | R32: - | S32: - | T32: - | U32: - | V32: - | W32: - | X32: - | Y32: - | Z32: - | AA32: - | AB32: - | AC32: - | AD32: - | AE32: - | AF32: - | AG32: - | AH32: 70
A33: 14 | B33: Мероприятие 1.1.4. Проведение конкурсов по энергосбережению и внедрению инновационных технологий среди учащихся муниципальных образовательных учреждений города Астрахани | C33: Управление по коммунальному хозяйству и благоустройству администрации муниципального образования "Городской округ город Астрахань" (Управление образования администрации муниципального образования "Городской округ город Астрахань") | D33: Показатель 1. Количество проведенных конкурсов по энергосбережению и внедрению инновационных технологий | E33: ед. | F33: - | G33: - | H33: 1 | I33: - | J33: 1 | K33: - | L33: 1 | M33: - | N33: 1 | O33: - | P33: 1 | Q33: - | R33: - | S33: - | T33: - | U33: - | V33: - | W33: - | X33: - | Y33: - | Z33: - | AA33: - | AB33: - | AC33: - | AD33: - | AE33: - | AF33: - | AG33: - | AH33: 5
A35: Подпрограмма 2 "Энергосбережение и повышение энергетической эффективности в системах коммунальной инфраструктуры"
A36: 15 | B36: Цель 1. Повышение энергетической эффективности в системах коммунальной инфраструктуры | C36: Управление по коммунальному хозяйству и благоустройству администрации муниципального образования "Городской округ город Астрахань" (МУП г. Астрахани "Астрводоканал", МУП г. Астрахани "Коммунэнерго", МКП г. Астрахани "Горсвет") | D36: Показатель 1. Объем потребления энергоресурсов, используемых в системах коммунальной инфраструктуры | E36: тыс. т.у.т в год | F36: 84.3 | G36: 84.3 | H36: 82.90 | I36: - | J36: 81.60 | K36: - | L36: 79.70 | M36: - | N36: 78.30 | O36: - | P36: 77.80 | Q36: - | R36: 77.1 | S36: - | T36: 76.32 | U36: - | V36: 76.32 | W36: - | X36: 76.32 | Y36: - | Z36: 76.32 | AA36: - | AB36: 76.32 | AC36: - | AD36: 76.32 | AE36: - | AF36: 76.32 | AG36: - | AH36: =X36 -> 76.32
A37: 16 | B37: Задача 1.1. Повышение энергетической эффективности в сфере водоснабжения и водоотведения | C37: Управление по коммунальному хозяйству и благоустройству администрации муниципального образования "Городской округ город Астрахань" (МУП г. Астрахани "Астрводоканал") | D37: Показатель 1. Объем потребления энергоресурсов, используемых муниципальными предприятиями для водоснабжения и водоотведения | E37: т.у.т в год | F37: 18892.62 | G37: 18892.62 | H37: 17804.34 | I37: - | J37: 16752.62 | K37: - | L37: 14846.81 | M37: - | N37: 13251.26 | O37: - | P37: - | Q37: - | R37: - | S37: - | T37: 11697.47 | U37: - | V37: - | W37: - | X37: - | Y37: - | Z37: - | AA37: - | AB37: - | AC37: - | AD37: - | AE37: - | AF37: - | AG37: - | AH37: =T37 -> 11697.47
D38: Показатель 2. Экономия энергоресурсов, используемых муниципальными предприятиями для водоснабжения и водоотведения | E38: тыс. кВт час | F38: - | G38: - | H38: 3159 | I38: - | J38: 3052.9 | K38: - | L38: 5532.1 | M38: - | N38: 4632.6 | O38: - | P38: - | Q38: - | R38: - | S38: - | T38: 842 | U38: - | V38: - | W38: - | X38: - | Y38: - | Z38: - | AA38: - | AB38: - | AC38: - | AD38: - | AE38: - | AF38: - | AG38: - | AH38: =H38+J38+L38+T38+N38 -> 17218.6
A39: 17 | B39: Мероприятие 1.1.1. Внедрение автоматических станций управления на ПНС и КНС с заменой насосного оборудования (20 ПНС и 3 КНС) | C39: Управление по коммунальному хозяйству и благоустройству администрации муниципального образования "Городской округ город Астрахань" (МУП г. Астрахани "Астрводоканал") | D39: Экономия электрической энергии, полученная в результате внедрения автоматических станций управления на ПНС и КНС | E39: тыс. кВт час | F39: - | G39: - | H39: 1629.00 | I39: - | J39: - | K39: - | L39: - | M39: - | N39: - | O39: - | P39: - | Q39: - | R39: - | S39: - | T39: - | U39: - | V39: - | W39: - | X39: - | Y39: - | Z39: - | AA39: - | AB39: - | AC39: - | AD39: - | AE39: - | AF39: - | AG39: - | AH39: 1629.00
A40: 18 | B40: Мероприятие 1.1.2. Внедрение автоматических станций управления на ПНС и КНС с заменой насосного оборудования | C40: Управление по коммунальному хозяйству и благоустройству администрации муниципального образования "Городской округ город Астрахань" (МУП г. Астрахани "Астрводоканал") | D40: Показатель 1. Экономия электрической энергии, полученная в результате внедрения автоматических станций управления на ПНС и КНС | E40: тыс. кВт час | F40: - | G40: - | H40: 1530.00 | I40: - | J40: - | K40: - | L40: - | M40: - | N40: - | O40: - | P40: - | Q40: - | R40: - | S40: - | T40: - | U40: - | V40: - | W40: - | X40: - | Y40: - | Z40: - | AA40: - | AB40: - | AC40: - | AD40: - | AE40: - | AF40: - | AG40: - | AH40: 1530.00
A41: 19 | B41: Мероприятие 1.1.3. Внедрение автоматических станций управления на КНС с заменой насосного оборудования | C41: Управление по коммунальному хозяйству и благоустройству администрации муниципального образования "Городской округ город Астрахань" (МУП г. Астрахани "Астрводоканал") | D41: Экономия электрической энергии, полученная в результате внедрения автоматических станций управления на КНС | E41: тыс. кВт час | F41: - | G41: - | H41: - | I41: - | J41: 3052.90 | K41: - | L41: - | M41: - | N41: - | O41: - | P41: - | Q41: - | R41: - | S41: - | T41: - | U41: - | V41: - | W41: - | X41: - | Y41: - | Z41: - | AA41: - | AB41: - | AC41: - | AD41: - | AE41: - | AF41: - | AG41: - | AH41: 3052.90
A42: 20 | B42: Мероприятие 1.1.4. Замена насосного оборудования и запорной арматуры для снижения потерь. Замена пусковой аппаратуры с применением ПЧ на насосах 1 - 2 подъема ЛОСВ, ПОСВ2, ПОСВ1, ВОС (1 - 2 подъемы) | C42: Управление по коммунальному хозяйству и благоустройству администрации муниципального образования "Городской округ город Астрахань" (МУП г. Астрахани "Астрводоканал") | D42: Показатель 1. Экономия электрической энергии, полученная в результате замены насосного оборудования и запорной арматуры | E42: тыс. кВт час | F42: - | G42: - | H42: - | I42: - | J42: - | K42: - | L42: 5532.10 | M42: - | N42: - | O42: - | P42: - | Q42: - | R42: - | T42: - | U42: - | V42: - | W42: - | X42: - | Y42: - | Z42: - | AA42: - | AB42: - | AC42: - | AD42: - | AE42: - | AF42: - | AG42: - | AH42: 5532.10
A43: 21 | B43: Мероприятие 1.1.5. Внедрение управляемых воздуходувок в системах биологической очистки на очистных сооружениях канализации (СОСК, ЮОСК, ПОСК1) | C43: Управление по коммунальному хозяйству и благоустройству администрации муниципального образования "Городской округ город Астрахань" (МУП г. Астрахани "Астрводоканал") | D43: Показатель 1. Экономия электрической энергии, полученная в результате внедрения управляемых воздуходувок в системах биологической очистки на очистных сооружениях канализации | E43: тыс. кВт час | F43: - | G43: - | H43: - | I43: - | J43: - | K43: - | L43: - | M43: - | N43: 4631.50 | O43: - | P43: - | Q43: - | R43: - | S43: - | T43: - | U43: - | V43: - | W43: - | X43: - | Y43: - | Z43: - | AA43: - | AB43: - | AC43: - | AD43: - | AE43: - | AF43: - | AG43: - | AH43: 4631.50
A44: 22 | B44: Мероприятие 1.1.6. Частичная замена насосного оборудования на сооружениях водоснабжения | C44: Управление по коммунальному хозяйству и благоустройству администрации муниципального образования "Городской округ город Астрахань" (МУП г. Астрахани "Астрводоканал") | D44: Показатель 1. Экономия электрической энергии, полученная в результате частичной замены насосного оборудования на сооружениях водоснабжения | E44: тыс. кВт час | F44: - | G44: - | H44: - | I44: - | J44: - | K44: - | L44: - | M44: - | N44: - | O44: - | P44: - | Q44: - | R44: - | S44: - | T44: 842 | U44: - | V44: - | W44: - | X44: - | Y44: - | Z44: - | AA44: - | AB44: - | AC44: - | AD44: - | AE44: - | AF44: - | AG44: - | AH44: 842.00
A45: 23 | B45: Мероприятие 1.1.7. Приобретение оборудования и материалов для реализации мероприятий, направленных на модернизацию и повышение энергоэффективности водопроводно-канализационного хозяйства | C45: Управление по коммунальному хозяйству и благоустройству администрации муниципального образования "Городской округ город Астрахань» | D45: Показатель 1. Количество канализационно -насосных станций, для которых приобреталось оборудование | E45: шт. | F45: - | G45: - | H45: - | I45: - | J45: - | K45: - | L45: 35 | M45: - | N45: - | O45: - | P45: - | Q45: - | R45: - | S45: - | T45: - | U45: - | V45: - | W45: - | X45: - | Y45: - | Z45: - | AA45: - | AB45: - | AC45: - | AD45: - | AE45: - | AF45: - | AG45: - | AH45: 35
A46: 24 | B46: Мероприятие 1.1.8. Монтаж приобретенного оборудования и материалов для реализации мероприятий, направленных на модернизацию и повышение энергоэффективности водопроводно-канализационного хозяйства | C46: Управление по коммунальному хозяйству и благоустройству администрации муниципального образования "Городской округ город Астрахань» | D46: Показатель 1. Количество канализационно-насосных станций, в которых произведен монтаж приобретенного оборудования и материалов для реализации мероприятий, направленных на модернизацию и повышение энергоэффективности водопроводно-канализационного хозяйства | E46: шт | F46: - | G46: - | H46: - | I46: - | J46: - | K46: - | L46: 7 | M46: - | N46: - | O46: - | P46: - | Q46: - | R46: - | S46: - | T46: - | U46: - | V46: - | W46: - | X46: - | Y46: - | Z46: - | AA46: - | AB46: - | AC46: - | AD46: - | AE46: - | AF46: - | AG46: - | AH46: 7
D47: Показатель 2. Снижение расхода электроэнергии | E47: % | F47: - | G47: - | H47: - | I47: - | J47: - | K47: - | L47: - | M47: - | N47: 1.1 | O47: - | P47: - | Q47: - | R47: - | S47: - | T47: - | U47: - | V47: - | W47: - | X47: - | Y47: - | Z47: - | AA47: - | AB47: - | AC47: - | AD47: - | AE47: - | AF47: - | AG47: - | AH47: 1.1
A48: 25 | B48: Мероприятие 1.1.9. Оказание услуг по проведению экспертизы результатов, предусмотренных контрактом, в части их соответствия условиям контракта № 300 от 30.11.2018 | C48: Управление по коммунальному хозяйству и благоустройству администрации муниципального образования "Городской округ город Астрахань» | D48: Показатель 1. Количество проведенных экспертиз | E48: шт | F48: - | G48: - | H48: - | I48: - | J48: - | K48: - | L48: 1 | M48: - | N48: - | O48: - | P48: - | Q48: - | R48: - | S48: - | T48: - | U48: - | V48: - | W48: - | X48: - | Y48: - | Z48: - | AA48: - | AB48: - | AC48: - | AD48: - | AE48: - | AF48: - | AG48: - | AH48: 1
A49: 26 | B49: Мероприятие 1.1.10. Реконструкция системы ливневой канализации с насосной станцией, расположенной по адресу: ул. Бурова, 2 «А», в Кировском районе г. Астрахани, с организацией очистки сброса поверхностных вод | C49: Управление по капитальному строительству администрации муниципального образования "Городской округ город Астрахань | D49: Показатель 1. Количество разработанных проектов | E49: ед. | F49: - | G49: - | H49: - | I49: - | J49: - | K49: - | L49: - | M49: - | N49: - | O49: - | P49: 1 | Q49: - | R49: - | S49: - | T49: - | U49: - | V49: - | W49: - | X49: - | Y49: - | Z49: - | AA49: - | AB49: - | AC49: - | AD49: - | AE49: - | AF49: - | AG49: - | AH49: 1
A50: 27 | B50: Мероприятие 1.1.11. Реконструкция системы ливневой канализации с насосной станцией, расположенной по адресу: ул. Харьковская, 28 «А», в Советском районе г. Астрахани, с организацией очистки сброса поверхностных вод | C50: Управление по капитальному строительству администрации муниципального образования "Городской округ город Астрахань | D50: Показатель 1. Количество разработанных проектов | E50: ед. | F50: - | G50: - | H50: - | I50: - | J50: - | K50: - | L50: - | M50: - | N50: - | O50: - | P50: 1 | Q50: - | R50: - | S50: - | T50: - | U50: - | V50: - | W50: - | X50: - | Y50: - | Z50: - | AA50: - | AB50: - | AC50: - | AD50: - | AE50: - | AF50: - | AG50: - | AH50: 1
A51: 28 | B51: Мероприятие 1.1.12. Реализация мероприятий, направленных на обеспечение функционирования объектов водоснабжения и водоотведения (в т.ч. приобретение оборудования, материалов для ремонта водопроводно-канализационных сетей и сооружений, расположенных на территории муниципального образования Астраханской области; приобретение диагностическо-инспекционного оборудования для сетей и сооружений; приобретение специализированной техники; разработку (корректировку) схем водоснабжения и водоотведения; проведение технического аудита муниципальных унитарных предприятий) | C51: Управление по коммунальному хозяйству и благоустройству администрации муниципального образования "Городской округ город Астрахань", Управление по капитальному строительству администрации муниципального образования "Городской округ город Астрахань | D51: Показатель 1. Снижение аварийности по сравнению с аналогичным периодом прошлого года | E51: % | F51: - | G51: - | H51: - | I51: - | J51: - | K51: - | L51: - | M51: - | N51: - | O51: - | P51: 0 | Q51: - | R51: 3 | S51: - | T51: - | U51: - | V51: - | W51: - | X51: - | Y51: - | Z51: - | AA51: - | AB51: - | AC51: - | AD51: - | AE51: - | AF51: - | AG51: - | AH51: 3
A52: 29 | B52: Задача 1.2. Повышение энергетической эффективности в сфере теплоснабжения | C52: Управление по коммунальному хозяйству и благоустройству администрации муниципального образования "Городской округ город Астрахань" (МУП г. Астрахани "Коммунэнерго") | D52: Показатель 1. Объем потребления энергоресурсов, используемых муниципальными предприятиями для выработки тепловой энергии | E52: т.у.т в год | F52: 58687.28 | G52: 58687.28 | H52: 58415.80 | I52: - | J52: 58920.31 | K52: - | L52: 49720.7 | M52: - | N52: - | O52: - | P52: 40720.3 | Q52: - | R52: - | S52: - | T52: - | U52: - | V52: - | W52: - | X52: - | Y52: - | Z52: - | AA52: - | AB52: - | AC52: - | AD52: - | AE52: - | AF52: - | AG52: - | AH52: 40720.3
D53: Показатель 2. Экономия энергоресурсов, используемых муниципальными предприятиями для выработки тепловой энергии. | E53: тыс. кВт час | F53: - | G53: - | H53: 788.00 | I53: - | J53: 0 | K53: - | L53: 527.00 | M53: - | N53: - | O53: - | P53: 474.3 | Q53: - | R53: - | S53: - | T53: - | U53: - | V53: - | W53: - | X53: - | Y53: - | Z53: - | AA53: - | AB53: - | AC53: - | AD53: - | AE53: - | AF53: - | AG53: - | AH53: 1789.30
A54: 30 | B54: Мероприятие 1.2.1. Приобретение новых электродвигателей (с классом изоляции F) и установка на их приводы регуляторов частоты вращения для насосного и тягодутьевого оборудования котельной N Т-1 | C54: Управление по коммунальному хозяйству и благоустройству администрации муниципального образования "Городской округ город Астрахань" (МУП г. Астрахани "Коммунэнерго" | D54: Показатель 1. Экономия электрической энергии, полученная в результате приобретения новых электродвигателей | E54: тыс. кВт час | F54: - | G54: - | H54: 271.00 | I54: - | J54: 0 | K54: - | L54: 271.00 | M54: - | N54: - | O54: - | P54: - | Q54: - | R54: - | S54: - | T54: - | U54: - | V54: - | W54: - | X54: - | Y54: - | Z54: - | AA54: - | AB54: - | AC54: - | AD54: - | AE54: - | AF54: - | AG54: - | AH54: 542
A55: 31 | B55: Мероприятие 1.2.2. Замена на котельной N Т-2 насоса исходной воды К90 - 85 на энергосберегающий | C55: Управление по коммунальному хозяйству и благоустройству администрации муниципального образования "Городской округ город Астрахань" (МУП г. Астрахани "Коммунэнерго" | D55: Показатель 1. Экономия электрической энергии, полученная в результате замены на котельной насоса исходной воды | E55: тыс. кВт час | F55: - | G55: - | H55: 13.00 | I55: - | J55: - | K55: - | L55: 13.00 | M55: - | N55: - | O55: - | P55: - | Q55: - | R55: - | S55: - | T55: - | U55: - | V55: - | W55: - | X55: - | Y55: - | Z55: - | AA55: - | AB55: - | AC55: - | AD55: - | AE55: - | AF55: - | AG55: - | AH55: 26.00
A56: 32 | B56: Мероприятие 1.2.3. Приобретение новых электродвигателей (с классом изоляции F) и установка на их приводы регуляторов частоты вращения для насосного и тягодутьевого оборудования котельной N Т-2 | C56: Управление по коммунальному хозяйству и благоустройству администрации муниципального образования "Городской округ город Астрахань" (МУП г. Астрахани "Коммунэнерго") | D56: Показатель 1. Экономия электрической энергии, полученная в результате приобретения новых электродвигателей | E56: тыс. кВт час | F56: - | G56: - | H56: 121.00 | I56: - | J56: 0 | K56: - | L56: 121.0 | M56: - | N56: - | O56: - | P56: - | Q56: - | R56: - | S56: - | T56: - | U56: - | V56: - | W56: - | X56: - | Y56: - | Z56: - | AA56: - | AB56: - | AC56: - | AD56: - | AE56: - | AF56: - | AG56: - | AH56: 242
A57: 33 | B57: Мероприятие 1.2.4. Замена на котельной N Т-6 сетевого насоса ЦН 400 - 105 на энергосберегающий | C57: Управление по коммунальному хозяйству и благоустройству администрации муниципального образования "Городской округ город Астрахань" (МУП г. Астрахани "Коммунэнерго") | D57: Показатель 1. Экономия электрической энергии, полученная в результате замены на котельной сетевого насоса | E57: тыс. кВт час | F57: - | G57: - | H57: 89.00 | I57: - | J57: - | K57: - | L57: - | M57: - | N57: - | O57: - | P57: - | Q57: - | R57: - | S57: - | T57: - | U57: - | V57: - | W57: - | X57: - | Y57: - | Z57: - | AA57: - | AB57: - | AC57: - | AD57: - | AE57: - | AF57: - | AG57: - | AH57: 89.00
A58: 34 | B58: Мероприятие 1.2.5. Приобретение новых электродвигателей (с классом изоляции F) и установка на их приводы регуляторов частоты вращения для насосного и тягодутьевого оборудования котельной N Т-6 | C58: Управление по коммунальному хозяйству и благоустройству администрации муниципального образования "Городской округ город Астрахань" (МУП г. Астрахани "Коммунэнерго" | D58: Показатель 1. Экономия электрической энергии, полученная в результате приобретения новых электродвигателей | E58: тыс. кВт час | F58: - | G58: - | H58: 92.00 | I58: - | J58: 0 | K58: - | L58: 92.00 | M58: - | N58: - | O58: - | P58: - | Q58: - | R58: - | S58: - | T58: - | U58: - | V58: - | W58: - | X58: - | Y58: - | Z58: - | AA58: - | AB58: - | AC58: - | AD58: - | AE58: - | AF58: - | AG58: - | AH58: 184.00
A59: 35 | B59: Мероприятие 1.2.6. Приобретение новых электродвигателей (с классом изоляции F) и установка на их приводы регуляторов частоты вращения для насосного и тягодутьевого оборудования котельной N Т-44 | C59: Управление по коммунальному хозяйству и благоустройству администрации муниципального образования "Городской округ город Астрахань" (МУП г. Астрахани "Коммунэнерго") | D59: Показатель 1. Экономия электрической энергии, полученная в результате приобретения новых электродвигателей | E59: тыс. кВт час | F59: - | G59: - | H59: 30.00 | I59: - | J59: 0 | K59: - | L59: 30.00 | M59: - | N59: - | O59: - | P59: - | Q59: - | R59: - | S59: - | T59: - | U59: - | V59: - | W59: - | X59: - | Y59: - | Z59: - | AA59: - | AB59: - | AC59: - | AD59: - | AE59: - | AF59: - | AG59: - | AH59: 60.00
A60: 36 | B60: Мероприятие 1.2.7. Приобретение переносных газоанализаторов для котельных N Т-1, Т-2, Т-6, Т-44 | C60: Управление по коммунальному хозяйству и благоустройству администрации муниципального образования "Городской округ город Астрахань" (МУП г. Астрахани "Коммунэнерго") | D60: Показатель 1. Экономия электрической энергии, полученная в результате приобретения переносных газоанализаторов | E60: тыс. кВт час | F60: - | G60: - | H60: 172.00 | I60: - | J60: - | K60: - | L60: - | M60: - | N60: - | O60: - | P60: - | Q60: - | R60: - | S60: - | T60: - | U60: - | V60: - | W60: - | X60: - | Y60: - | Z60: - | AA60: - | AB60: - | AC60: - | AD60: - | AE60: - | AF60: - | AG60: - | AH60: 172.00
A61: 37 | B61: Мероприятие 1.2.8 Проведение мероприятий по текущему ремонту объектов теплоснабжения, находящих в муниципальной собственности (реконструкция автоматики безопасности зала котлов ДКВР котельной Т-6 по ул. Адм.Нахимова, 60) | C61: Управление по коммунальному хозяйству и благоустройству администрации муниципального образования "Городской округ город Астрахань" | D61: Показатель 1. Снижение аварийности по сравнению с аналогичным периодом прошлого года | E61: % | F61: - | G61: - | H61: - | I61: - | J61: - | K61: - | L61: - | M61: - | N61: - | O61: - | P61: 3 | Q61: - | R61: - | S61: - | T61: - | U61: - | V61: - | W61: - | X61: - | Y61: - | Z61: - | AA61: - | AB61: - | AC61: - | AD61: - | AE61: - | AF61: - | AG61: - | AH61: 3
A62: 38 | B62: Мероприятие 1.2.9. Строительство блочно-модульной котельной по ул. 2-й проезд Мостостроителей в Трусовском районе г. Астрахани, в том числе ПИР | C62: Управление по капитальному строительству администрации муниципального образования "Городской округ город Астрахань" | D62: Показатель 1. Снижение уровня износа объектов коммунальной инфраструктуры | E62: % | F62: - | G62: - | H62: - | I62: - | J62: - | K62: - | L62: - | M62: - | N62: 3 | O62: - | P62: 3 | Q62: - | R62: 3 | S62: - | T62: - | U62: - | V62: - | W62: - | X62: - | Y62: - | Z62: - | AA62: - | AB62: - | AC62: - | AD62: - | AE62: - | AF62: - | AG62: - | AH62: 9
D63: Показатель 2. Снижение потребления топливно-энергетических ресурсов | E63: % | F63: - | G63: - | H63: - | I63: - | J63: - | K63: - | L63: - | M63: - | N63: - | O63: - | P63: 10 | Q63: - | R63: - | S63: - | T63: - | U63: - | V63: - | W63: - | X63: - | Y63: - | Z63: - | AA63: - | AB63: - | AC63: - | AD63: - | AE63: - | AF63: - | AG63: - | AH63: 10
A64: 39 | B64: Мероприятие 1.2.10. Разработка (актуализация) схем теплоснабжения | C64: Управление по коммунальному хозяйству и благоустройству администрации муниципального образования "Городской округ город Астрахань" | D64: Показатель 1. Количество разработанных (актуализированных) схем теплоснабжения | E64: ед. | F64: - | G64: - | H64: - | I64: - | J64: - | K64: - | L64: - | M64: - | N64: - | O64: - | P64: - | Q64: - | R64: 1 | S64: - | T64: 1 | U64: - | V64: 0 | W64: - | X64: 0 | Y64: - | Z64: 1 | AA64: - | AB64: 0 | AC64: - | AD64: 0 | AE64: - | AF64: 0 | AG64: - | AH64: 3
A65: 40 | B65: Мероприятие 1.2.11. Строительство блочно-модульной котельной мощностью 15 МВт по адресу: г. Астрахань, Трусовский район, мкр. "III Интернационал" | C65: Управление по капитальному строительству администрации муниципального образования "Городской округ город Астрахань" | D65: Показатель 1. Разработка (корректировка) проектно-сметной документации | E65: ед. | F65: - | G65: - | H65: - | I65: - | J65: - | K65: - | L65: - | M65: - | N65: - | O65: - | P65: - | Q65: - | R65: - | S65: - | T65: 1 | U65: - | V65: - | W65: - | X65: - | Y65: - | Z65: - | AA65: - | AB65: - | AC65: - | AD65: - | AE65: - | AF65: - | AG65: - | AH65: 1
D66: Показатель 2. Установленная мощность котельной | E66: МВт | F66: - | G66: - | H66: - | I66: - | J66: - | K66: - | L66: - | M66: - | N66: - | O66: - | P66: - | Q66: - | R66: - | S66: - | T66: х | V66: х | W66: - | X66: х | Y66: - | Z66: 15 | AA66: - | AB66: х | AC66: - | AD66: х | AE66: - | AF66: х | AG66: - | AH66: 15
D67: Показатель 3. Снижение потребления топливно-энергетический ресурсов | E67: % | F67: - | G67: - | H67: - | I67: - | J67: - | K67: - | L67: - | M67: - | N67: - | O67: - | P67: - | Q67: - | R67: - | S67: - | T67: х | V67: х | W67: - | X67: х | Y67: - | Z67: х | AA67: - | AB67: х | AC67: - | AD67: х | AE67: - | AF67: х | AG67: - | AH67: =Y67 -> -
A68: 40 | B68: Мероприятие 1.2.12. Строительство блочно-модульной котельной мощностью 1,5 МВт для теплоснабжения жилого дома по ул.Боевая, 133,по адресу: г. Астрахань, Советский район, ул. Боевая, 141 в том числе ПИР | C68: Управление по капитальному строительству администрации муниципального образования "Городской округ город Астрахань" | D68: Показатель 1. Разработка (корректировка) проектно-сметной документации | E68: ед. | F68: - | G68: - | H68: - | I68: - | J68: - | K68: - | L68: - | M68: - | N68: - | O68: - | P68: - | Q68: - | R68: - | S68: - | T68: - | U68: - | V68: - | W68: - | X68: - | Y68: - | Z68: - | AA68: - | AB68: 1 | AC68: - | AD68: - | AE68: - | AF68: - | AG68: - | AH68: 1
D69: Показатель 2. Установленная мощность котельной | E69: МВт | F69: - | G69: - | H69: - | I69: - | J69: - | K69: - | L69: - | M69: - | N69: - | O69: - | P69: - | Q69: - | R69: - | S69: - | T69: х | V69: х | W69: - | X69: х | Y69: - | Z69: х | AA69: - | AB69: - | AC69: - | AD69: 1,5 | AE69: - | AF69: х | AG69: - | AH69: 1.5
D70: Показатель 3. Снижение потребления топливно-энергетический ресурсов | E70: % | F70: - | G70: - | H70: - | I70: - | J70: - | K70: - | L70: - | M70: - | N70: - | O70: - | P70: - | Q70: - | R70: - | S70: - | T70: х | V70: х | W70: - | X70: х | Y70: - | Z70: х | AA70: - | AB70: х | AC70: - | AD70: х | AE70: - | AF70: х | AG70: - | AH70: =Y70 -> -
A71: 41 | B71: Задача 1.3. Повышение энергетической эффективности в сфере наружного городского освещения | C71: Управление по коммунальному хозяйству и благоустройству администрации муниципального образования "Городской округ город Астрахань" (МКП г. Астрахани "Горсвет") | D71: Показатель 1. Объем потребления энергоресурсов, используемых для обеспечения функционирования системы наружного городского освещения | E71: т.у.т в год | F71: 6722.12 | G71: 6722.12 | H71: 6722.12 | I71: - | J71: 6638.16 | K71: - | L71: 6638.16 | M71: - | N71: 6638.16 | O71: - | P71: 6638.16 | Q71: - | R71: =P71 -> 6638.16 | S71: - | T71: =R71/2 -> 3319.08 | U71: - | V71: 6433.19 | W71: - | X71: 6516.22 | Y71: - | Z71: 6431.82 | AA71: - | AB71: 5507.91 | AC71: - | AD71: 5507.91 | AE71: - | AF71: 5507.91 | AG71: - | AH71: =AF71 -> 5507.91
D72: Показатель 2. Экономия энергоресурсов, используемых для обеспечения функционирования системы наружного городского освещения | E72: тыс. кВт час | F72: - | G72: - | H72: - | I72: - | J72: 243.72 | K72: - | L72: - | M72: - | N72: - | O72: - | P72: - | Q72: - | R72: - | S72: - | T72: 9751.03 | U72: - | V72: - | W72: - | X72: - | Y72: - | Z72: - | AA72: - | AB72: - | AC72: - | AD72: - | AE72: - | AF72: - | AG72: - | AH72: =T72+J72 -> 9994.75
A73: 42 | B73: Мероприятие 1.3.1. Перевод электрической котельной на газовое топливо | C73: Управление по коммунальному хозяйству и благоустройству администрации муниципального образования "Городской округ город Астрахань" (МКП г. Астрахани "Горсвет") | D73: Показатель 1. Экономия электрической энергии, полученная в результате перевода электрической котельной на газовое топливо | E73: тыс. кВт час | F73: - | G73: - | H73: - | I73: - | J73: 243.72 | K73: - | L73: - | M73: - | N73: - | O73: - | P73: - | Q73: - | R73: - | S73: - | T73: - | U73: - | V73: - | W73: - | X73: - | Y73: - | Z73: - | AA73: - | AB73: - | AC73: - | AD73: - | AE73: - | AF73: - | AG73: - | AH73: =J73 -> 243.72
A74: 43 | B74: Мероприятие 1.3.2 Реализация мероприятий, направленных на модернизацию и повышение энергетической эффективности сетей наружного освещения в рамках энергосервисного договора (контракта) | C74: Управление по коммунальному хозяйству и благоустройству администрации муниципального образования "Городской округ город Астрахань" (МКП г. Астрахани "Горсвет") | D74: Показатель 1. Количество заключенных энергосервисных контрактов | E74: ед | F74: - | G74: - | H74: - | I74: - | J74: - | K74: - | L74: - | M74: - | N74: - | O74: - | P74: - | Q74: - | R74: 1 | S74: - | T74: - | U74: - | V74: - | W74: - | X74: - | Y74: - | Z74: - | AA74: - | AB74: - | AC74: - | AD74: - | AE74: - | AF74: - | AG74: - | AH74: 1
D75: Показатель 2. Количество светоточек, в отношении которых произведены энергосервисные мероприятия | E75: ед | F75: - | G75: - | H75: - | I75: - | J75: - | K75: - | L75: - | M75: - | N75: - | O75: - | P75: - | Q75: - | R75: - | S75: - | T75: 28650 | U75: - | V75: - | W75: - | X75: - | Y75: - | Z75: - | AA75: - | AB75: - | AC75: - | AD75: - | AE75: - | AF75: - | AG75: - | AH75: 28650
D76: Показатель 3. Сокращение годового объема потребления электроэнергии при эксплуатации системы наружного уличного освещения, по отношению к потребленному объему электроэнергии в базовом периоде (2020 год) без учета изменения факторов, оказывающих влияние на объем потребления энергетических ресурсов | E76: % | F76: - | G76: - | H76: - | I76: - | J76: - | K76: - | L76: - | M76: - | N76: - | O76: - | P76: - | Q76: - | R76: - | S76: - | T76: 50 | U76: - | V76: - | W76: - | X76: - | Y76: - | Z76: - | AA76: - | AB76: - | AC76: - | AD76: - | AE76: - | AF76: - | AG76: - | AH76: 50
A77: 44 | B77: Мероприятие 1.3.3 Услуги по энергосбережению системы уличного освещения муниципального образования «Городской округ город Астрахань» (расходы на оплату электрической энергии). | C77: Управление по коммунальному хозяйству и благоустройству администрации муниципального образования "Городской округ город Астрахань" | D77: Показатель 1. Доля пунктов питания электроэнергии, находящихся в муниципальной собственности, включенных в контракт по оплате электроэнергии | E77: % | F77: - | G77: - | H77: - | I77: - | J77: - | K77: - | L77: - | M77: - | N77: - | O77: - | P77: - | Q77: - | R77: 100 | S77: - | T77: 100 | U77: - | V77: 100 | W77: - | X77: 100 | Y77: - | Z77: 100 | AA77: - | AB77: 100 | AC77: - | AD77: 100 | AE77: - | AF77: 100 | AG77: - | AH77: 100
B81: Начальник управления по коммунальному хозяйству и благоустройству администрации МО "Городской округ город Астрахань"
W82: Т.Р.Калинкин

Sheet Мероприятия (2)
T1: Приложение 2 к постановлению администрации муниципального образования «Городской округ город Астрахань» от ____________ №_______ Приложение 2 к муниципальной программе муниципального образования "Городской округ город Астрахань" "Энергосбережение и повышение энергетической эффективности муниципального образования «Городской округ город Астрахань»""
A2: ПЕРЕЧЕНЬ ПРОГРАММНЫХ МЕРОПРИЯТИЙ, ПОКАЗАТЕЛЕЙ (ИНДИКАТОРОВ) И РЕЗУЛЬТАТОВ МУНИЦИПАЛЬНОЙ ПРОГРАММЫ МУНИЦИПАЛЬНОГО ОБРАЗОВАНИЯ "ГОРОДСКОЙ ОКРУГ ГОРОД АСТРАХАНЬ" "ЭНЕРГОСБЕРЕЖЕНИЕ И ПОВЫШЕНИЕ ЭНЕРГЕТИЧЕСКОЙ ЭФФЕКТИВНОСТИ МУНИЦИПАЛЬНОГО ОБРАЗОВАНИЯ "ГОРОДСКОЙ ОКРУГ ГОРОД АСТРАХАНЬ""
A3: N п/п | B3: Цели, задачи, наименование программных мероприятий | C3: Ответственные исполнители, соисполнители (участники) | D3: Наименование показателя (индикатора) | E3: Ед. изм. | F3: Отчетный 2014 год | G3: Текущий 2015 год | H3: Планируемое значение показателя по годам реализации | AF3: Целевое значение показателя (конечный результат) за весь период реализации программы
H4: 2016 год | J4: 2017 год | L4: 2018 год | N4: 2019 год | P4: 2020 год | R4: 2021 год | T4: 2022 год | V4: 2023 год | X4: 2024 год | Z4: 2025 год | AB4: 2026 год | AD4: 2027 год
H5: всего | I5: в том числе на 01.07 | J5: всего | K5: в том числе на 01.07 | L5: всего | M5: в том числе на 01.07 | N5: всего | O5: в том числе на 01.07 | P5: всего | Q5: в том числе на 01.07 | R5: всего | S5: в том числе на 01.07 | T5: всего | U5: в том числе на 01.07 | V5: всего | W5: в том числе на 01.07 | X5: всего | Y5: в том числе на 01.07 | Z5: всего | AA5: в том числе на 01.07 | AB5: всего | AC5: в том числе на 01.07 | AD5: всего | AE5: в том числе на 01.07
B8: Муниципальная программа муниципального образования "Городской округ город Астрахань" "Энергосбережение и повышение энергетической эффективности муниципального образования «Городской округ город Астрахань»""
A9: 1 | B9: Цель 1. Повышение эффективности использования энергетических ресурсов в муниципальном образовании "Городской округ город Астрахань" | C9: Управление по коммунальному хозяйству и благоустройству администрации муниципального образования "Городской округ город Астрахань" | D9: Показатель 1. Удельная величина потребления энергоресурсов муниципальными бюджетными учреждениями | E9: Электроэнергии кВт ч на 1 кв. метр | F9: 23.28 | G9: 23.26 | H9: 22.56 | I9: - | J9: 21.82 | K9: - | L9: 21.06 | M9: - | N9: 20.42 | O9: - | P9: 20.4 | Q9: - | R9: 20.33 | S9: - | T9: 20.2 | U9: - | V9: 20.2 | W9: - | X9: 20.2 | Y9: - | Z9: 20.2 | AA9: - | AB9: 20.2 | AC9: - | AD9: 20.2 | AE9: - | AF9: 20.2
E10: холодной воды м3 на 1 кв. метр | F10: 1.68 | G10: 1.65 | H10: 1.63 | I10: - | J10: 1.57 | K10: - | L10: 1.52 | M10: - | N10: 1.48 | O10: - | P10: 1.43 | Q10: - | R10: 1.46 | S10: - | T10: 1.44 | U10: - | V10: 1.44 | W10: - | X10: 1.44 | Y10: - | Z10: 1.44 | AA10: - | AB10: 1.44 | AC10: - | AD10: 1.44 | AE10: - | AF10: 1.44
E11: тепловой энергии Гкал на 1 кв. метр | F11: 0.07 | G11: 0.06 | H11: 0.06 | I11: - | J11: 0.06 | K11: - | L11: 0.06 | M11: - | N11: 0.06 | O11: - | P11: 0.06 | Q11: - | R11: 0.06 | S11: - | T11: 0.06 | U11: - | V11: 0.06 | W11: - | X11: 0.06 | Y11: - | Z11: 0.06 | AA11: - | AB11: 0.06 | AC11: - | AD11: 0.06 | AE11: - | AF11: 0.06
E12: природного газа м3 на 1 человека населения | F12: - | G12: - | H12: - | I12: - | J12: - | K12: - | L12: - | M12: - | N12: - | O12: - | P12: 0.32 | Q12: - | R12: 0.31 | S12: - | T12: 0.31 | U12: - | V12: 0.31 | W12: - | X12: 0.31 | Y12: - | Z12: 0.31 | AA12: - | AB12: 0.31 | AC12: - | AD12: 0.31 | AE12: - | AF12: 0.31
D13: Показатель 2. Доля объема энергоресурсов, расчеты за которые осуществляются с использованием приборов учета, в общем объеме энергоресурсов, потребляемых на территории муниципального образования "Городской округ город Астрахань" | E13: Электроэнергия в % | F13: 99.77 | G13: 99.77 | H13: 99.77 | I13: - | J13: 99.77 | K13: - | L13: 99.77 | M13: - | N13: 99.77 | O13: - | P13: 99.77 | Q13: - | R13: 99.77 | S13: - | T13: 99.77 | U13: - | V13: 99.77 | W13: - | X13: 99.77 | Y13: - | Z13: 99.77 | AA13: - | AB13: 99.77 | AC13: - | AD13: 99.77 | AE13: - | AF13: 99.77
E14: тепловая энергия в % | F14: 96.89 | G14: 96.89 | H14: 96.91 | I14: - | J14: 96.71 | K14: - | L14: 96.71 | M14: - | N14: 96.72 | O14: - | P14: 96.73 | Q14: - | R14: 96.74 | S14: - | T14: 96.75 | U14: - | V14: 96.75 | W14: - | X14: 96.75 | Y14: - | Z14: 96.75 | AA14: - | AB14: 96.75 | AC14: - | AD14: 96.75 | AE14: - | AF14: 96.75
E15: холодной воды в % | F15: 60.54 | G15: 60.54 | H15: 61.00 | I15: - | J15: 62.00 | K15: - | L15: 63.00 | M15: - | N15: 64.00 | O15: - | P15: 65.00 | Q15: - | R15: 66 | S15: - | T15: 67 | U15: - | V15: 67 | W15: - | X15: 67 | Y15: - | Z15: 67 | AA15: - | AB15: 67 | AC15: - | AD15: 67 | AE15: - | AF15: 67.00
E16: природного газа в % | F16: 64.94 | G16: 64.94 | H16: 64.94 | I16: - | J16: 66.00 | K16: - | L16: 66.00 | M16: - | N16: 66.00 | O16: - | P16: 67.00 | Q16: - | R16: 67 | S16: - | T16: 67 | U16: - | V16: 67 | W16: - | X16: 67 | Y16: - | Z16: 67 | AA16: - | AB16: 67 | AC16: - | AD16: 67 | AE16: - | AF16: 67.00
A17: 2 | B17: Задача 1.1. Формирование системы информационного просвещения населения муниципального образования "Городской округ город Астрахань" в области энергосбережения и повышения энергетической эффективности | C17: Управление по коммунальному хозяйству и благоустройству администрации муниципального образования "Городской округ город Астрахань" | D17: Показатель 1. Удельная величина потребления энергоресурсов в многоквартирных домах | E17: электроэнергии в кВт ч на 1 проживающего | F17: 719.68 | G17: 720.2 | H17: 719.53 | I17: - | J17: 712.52 | K17: - | L17: 708.46 | M17: - | N17: 704.92 | O17: - | P17: 701.39 | Q17: - | R17: - | S17: - | T17: - | U17: - | V17: - | W17: - | X17: - | Y17: - | Z17: - | AA17: - | AB17: - | AC17: - | AD17: - | AE17: - | AF17: =P17 -> 701.39
E18: холодной воды в м3 на 1 проживающего | F18: 50.87 | G18: 50.98 | H18: 50.63 | I18: - | J18: 49.37 | K18: - | L18: 48.14 | M18: - | N18: 47.18 | O18: - | P18: 46.23 | Q18: - | R18: - | S18: - | T18: - | U18: - | V18: - | W18: - | X18: - | Y18: - | Z18: - | AA18: - | AB18: - | AC18: - | AD18: - | AE18: - | AF18: =P18 -> 46.23
E19: тепловой энергии в Гкал на 1 кв. метр общей площади | F19: 0.16 | G19: 0.16 | H19: 0.16 | I19: - | J19: 0.16 | K19: - | L19: 0.16 | M19: - | N19: 0.16 | O19: - | P19: 0.16 | Q19: - | R19: - | S19: - | T19: - | U19: - | V19: - | W19: - | X19: - | Y19: - | Z19: - | AA19: - | AB19: - | AC19: - | AD19: - | AE19: - | AF19: =P19 -> 0.16
E20: природного газа м3 на 1 проживающего | F20: 244.77 | G20: 244.77 | H20: 244.77 | I20: - | J20: 244.77 | K20: - | L20: 244.77 | M20: - | N20: 244.77 | O20: - | P20: 244.77 | Q20: - | R20: - | S20: - | T20: - | U20: - | V20: - | W20: - | X20: - | Y20: - | Z20: - | AA20: - | AB20: - | AC20: - | AD20: - | AE20: - | AF20: =P20 -> 244.77
A21: 3 | B21: Основное мероприятие 1.1.1. Повышение информированности общества об энергосберегающих технологиях и стимулирование формирования модели бережливого отношения населения к энергоресурсам | C21: Управление по коммунальному хозяйству и благоустройству администрации муниципального образования "Городской округ город Астрахань" | D21: Показатель 1. Уровень осведомленности и грамотности населения в области энергосбережения | E21: % | F21: - | G21: - | H21: 15.00 | I21: - | J21: 25.00 | K21: - | L21: 35.00 | M21: - | N21: 45.00 | O21: - | P21: 55.00 | Q21: - | R21: - | S21: - | T21: - | U21: - | V21: - | W21: - | X21: - | Y21: - | Z21: - | AA21: - | AB21: - | AC21: - | AD21: - | AE21: - | AF21: =P21 -> 55.00
A22: 4 | B22: Мероприятие 1.1.1.1.Разработка рекомендаций по внедрению энергоэффективных технологий при строительстве, реконструкции и эксплуатации | C22: Управление по коммунальному хозяйству и благоустройству администрации муниципального образования "Городской округ город Астрахань" | D22: Показатель 1. Количество рекомендательных материалов, определяющих возможности применения энергоэффективных технологий | E22: шт. | F22: - | G22: - | H22: 1 | I22: - | J22: 1 | K22: - | L22: 1 | M22: - | N22: 1 | O22: - | P22: 1 | Q22: - | R22: - | S22: - | T22: - | U22: - | V22: - | W22: - | X22: - | Y22: - | Z22: - | AA22: - | AB22: - | AC22: - | AD22: - | AE22: - | AF22: =H22+J22+L22+N22+P22 -> 5
A23: 5 | B23: Мероприятие 1.1.1.2. Пропаганда сбережения энергии и сохранения энергоресурсов | C23: Управление по коммунальному хозяйству и благоустройству администрации муниципального образования "Городской округ город Астрахань" | D23: Показатель 1. Количество проведенных мероприятий, пропагандирующих сбережение энергии и сохранение энергоресурсов | E23: ед. | F23: - | G23: - | H23: 2 | I23: 1 | J23: 2 | K23: 1 | L23: 2 | M23: 1 | N23: 2 | O23: 1 | P23: 2 | Q23: 1 | R23: - | S23: - | T23: - | U23: - | V23: - | W23: - | X23: - | Y23: - | Z23: - | AA23: - | AB23: - | AC23: - | AD23: - | AE23: - | AF23: =H23+J23+L23+N23+P23 -> 10
A24: 6 | B24: Мероприятие 1.1.1.3. Проведение анализа потребления энергоресурсов на территории города Астрахани | C24: Управление по коммунальному хозяйству и благоустройству администрации муниципального образования "Городской округ город Астрахань" | D24: Показатель 1. Согласование результатов анализа с министерством жилищно-коммунального хозяйства Астраханской области | E24: да (1)/ нет (0) | F24: 1 | G24: 1 | H24: 1 | I24: - | J24: 1 | K24: - | L24: 1 | M24: - | N24: 1 | O24: - | P24: 1 | Q24: - | R24: - | S24: - | T24: - | U24: - | V24: - | W24: - | X24: - | Y24: - | Z24: - | AA24: - | AB24: - | AC24: - | AD24: - | AE24: - | AF24: 1
A25: 7 | B25: Задача 1.2. Повышение энергетической эффективности на объектах социальной сферы | C25: Управление по коммунальному хозяйству и благоустройству администрации муниципального образования "Городской округ город Астрахань" (Управление образования администрации муниципального образования "Городской округ город Астрахань", Управление культуры администрации муниципального образования «Городской округ город Астрахань») | D25: Показатель 1. Объем потребления тепловой энергии муниципальными учреждениями социальной сферы | E25: т.у.т в год | F25: 24823.51 | G25: 24575.28 | H25: 23838.02 | I25: - | J25: 23122.88 | K25: - | L25: 22429.19 | M25: - | N25: 21756.32 | O25: - | P25: 21103.62 | Q25: - | R25: - | S25: - | T25: - | U25: - | V25: - | W25: - | X25: - | Y25: - | Z25: - | AA25: - | AB25: - | AC25: - | AD25: - | AE25: - | AF25: =P25 -> 21103.62
A26: 8 | B26: Задача 1.3. Повышение энергетической эффективности в системах коммунальной инфраструктуры | C26: Управление по коммунальному хозяйству и благоустройству администрации муниципального образования "Городской округ город Астрахань" (МУП г. Астрахани "Астрводоканал", МУП г. Астрахани "Коммунэнерго", МКП г. Астрахани "Горсвет") | D26: Показатель 1. Объем потребления энергоресурсов, используемых в системах коммунальной инфраструктуры | E26: тыс. т.у.т в год | F26: 84.3 | G26: 84.3 | H26: 82.90 | I26: - | J26: 81.60 | K26: - | L26: 79.70 | M26: - | N26: 78.30 | O26: - | P26: 77.80 | Q26: - | R26: 77.1 | S26: - | T26: 76.32 | U26: - | V26: 76.32 | W26: - | X26: 76.32 | Y26: - | Z26: 76.32 | AA26: - | AB26: 76.32 | AC26: - | AD26: 76.32 | AE26: - | AF26: =X26 -> 76.32
A27: Подпрограмма 1 "Энергоэффективность социальной сферы"
A28: 9 | B28: Цель 1. Повышение энергетической эффективности на объектах социальной сферы | C28: Управление по коммунальному хозяйству и благоустройству администрации муниципального образования "Городской округ город Астрахань" (Управление образования администрации муниципального образования "Городской округ город Астрахань", Управление культуры администрации муниципального образования «Городской округ город Астрахань») | D28: Показатель 1. Объем потребления тепловой энергии муниципальными учреждениями социальной сферы | E28: т.у.т в год | F28: 24823.51 | G28: 24575.28 | H28: 23838.02 | I28: - | J28: 23122.88 | K28: - | L28: 22429.19 | M28: - | N28: 21756.32 | O28: - | P28: 21103.62 | Q28: - | R28: - | S28: - | T28: - | U28: - | V28: - | W28: - | X28: - | Y28: - | Z28: - | AA28: - | AB28: - | AC28: - | AD28: - | AE28: - | AF28: =P28 -> 21103.62
A29: 10 | B29: Задача 1.1. Оснащение приборами учета энергетических ресурсов муниципальных учреждений социальной сферы | C29: Управление по коммунальному хозяйству и благоустройству администрации муниципального образования "Городской округ город Астрахань" (Управление образования администрации муниципального образования "Городской округ город Астрахань", Управление культуры администрации муниципального образования «Городской округ город Астрахань») | D29: Показатель 1. Доля объектов социальной сферы, оснащенных приборами учета энергетических ресурсов, в общем количестве учреждений социальной сферы | E29: % | F29: 3.3 | G29: 10.4 | H29: 0 | I29: - | J29: 12.1 | K29: - | L29: 24.6 | M29: - | N29: 31.7 | O29: - | P29: 38.8 | Q29: - | R29: - | S29: - | T29: - | U29: - | V29: - | W29: - | X29: - | Y29: - | Z29: - | AA29: - | AB29: - | AC29: - | AD29: - | AE29: - | AF29: 38.8
A30: 11 | B30: Мероприятие 1.1.1. Реализация полномочий в сфере коммунального хозяйства | C30: Управление по коммунальному хозяйству и благоустройству администрации муниципального образования "Городской округ город Астрахань" (Управление образования администрации муниципального образования "Городской округ город Астрахань", Управление культуры администрации муниципального образования «Городской округ город Астрахань») | D30: Показатель 1. Количество муниципальных учреждений социальной сферы, оснащенных приборами учета энергетических ресурсов энергии в отчетный период | E30: шт. | F30: 6 | G30: 13 | H30: 0 | I30: - | J30: 9 | K30: - | L30: 16 | M30: - | N30: - | O30: - | P30: - | Q30: - | R30: - | S30: - | T30: - | U30: - | V30: - | W30: - | X30: - | Y30: - | Z30: - | AA30: - | AB30: - | AC30: - | AD30: - | AE30: - | AF30: =J30+L30 -> 25
A31: 12 | B31: Мероприятие 1.1.2. Проведение семинаров на тему "Практическое внедрение энергосервисных контрактов" | C31: Управление по коммунальному хозяйству и благоустройству администрации муниципального образования "Городской округ город Астрахань" | D31: Показатель 1. Количество муниципальных учреждений социальной сферы, представители которых приняли участие в семинарах | E31: ед. | F31: - | G31: - | H31: 1 | I31: - | J31: 1 | K31: - | L31: 1 | M31: - | N31: 1 | O31: - | P31: 1 | Q31: - | R31: - | S31: - | T31: - | U31: - | V31: - | W31: - | X31: - | Y31: - | Z31: - | AA31: - | AB31: - | AC31: - | AD31: - | AE31: - | AF31: 5
A32: 13 | B32: Мероприятие 1.1.3. Анализ потенциала энергоэффективности муниципальных учреждений | C32: Управление по коммунальному хозяйству и благоустройству администрации муниципального образования "Городской округ город Астрахань" | D32: Показатель 1. Количество подготовленных отчетов о проведенных аналитических мероприятиях | E32: ед. | F32: - | G32: - | H32: 10 | I32: - | J32: 12 | K32: - | L32: 14 | M32: - | N32: 16 | O32: - | P32: 18 | Q32: - | R32: - | S32: - | T32: - | U32: - | V32: - | W32: - | X32: - | Y32: - | Z32: - | AA32: - | AB32: - | AC32: - | AD32: - | AE32: - | AF32: 70
A33: 14 | B33: Мероприятие 1.1.4. Проведение конкурсов по энергосбережению и внедрению инновационных технологий среди учащихся муниципальных образовательных учреждений города Астрахани | C33: Управление по коммунальному хозяйству и благоустройству администрации муниципального образования "Городской округ город Астрахань" (Управление образования администрации муниципального образования "Городской округ город Астрахань") | D33: Показатель 1. Количество проведенных конкурсов по энергосбережению и внедрению инновационных технологий | E33: ед. | F33: - | G33: - | H33: 1 | I33: - | J33: 1 | K33: - | L33: 1 | M33: - | N33: 1 | O33: - | P33: 1 | Q33: - | R33: - | S33: - | T33: - | U33: - | V33: - | W33: - | X33: - | Y33: - | Z33: - | AA33: - | AB33: - | AC33: - | AD33: - | AE33: - | AF33: 5
A35: Подпрограмма 2 "Энергосбережение и повышение энергетической эффективности в системах коммунальной инфраструктуры"
A36: 15 | B36: Цель 1. Повышение энергетической эффективности в системах коммунальной инфраструктуры | C36: Управление по коммунальному хозяйству и благоустройству администрации муниципального образования "Городской округ город Астрахань" (МУП г. Астрахани "Астрводоканал", МУП г. Астрахани "Коммунэнерго", МКП г. Астрахани "Горсвет") | D36: Показатель 1. Объем потребления энергоресурсов, используемых в системах коммунальной инфраструктуры | E36: тыс. т.у.т в год | F36: 84.3 | G36: 84.3 | H36: 82.90 | I36: - | J36: 81.60 | K36: - | L36: 79.70 | M36: - | N36: 78.30 | O36: - | P36: 77.80 | Q36: - | R36: 77.1 | S36: - | T36: 76.32 | U36: - | V36: 76.32 | W36: - | X36: 76.32 | Y36: - | AA36: - | AB36: - | AC36: - | AD36: - | AE36: - | AF36: =X36 -> 76.32
A37: 16 | B37: Задача 1.1. Повышение энергетической эффективности в сфере водоснабжения и водоотведения | C37: Управление по коммунальному хозяйству и благоустройству администрации муниципального образования "Городской округ город Астрахань" (МУП г. Астрахани "Астрводоканал") | D37: Показатель 1. Объем потребления энергоресурсов, используемых муниципальными предприятиями для водоснабжения и водоотведения | E37: т.у.т в год | F37: 18892.62 | G37: 18892.62 | H37: 17804.34 | I37: - | J37: 16752.62 | K37: - | L37: 14846.81 | M37: - | N37: 13251.26 | O37: - | P37: - | Q37: - | R37: - | S37: - | T37: 11697.47 | U37: - | V37: - | W37: - | X37: - | Y37: - | Z37: - | AA37: - | AB37: - | AC37: - | AD37: - | AE37: - | AF37: =T37 -> 11697.47
D38: Показатель 2. Экономия энергоресурсов, используемых муниципальными предприятиями для водоснабжения и водоотведения | E38: тыс. кВт час | F38: - | G38: - | H38: 3159 | I38: - | J38: 3052.9 | K38: - | L38: 5532.1 | M38: - | N38: 4632.6 | O38: - | P38: - | Q38: - | R38: - | S38: - | T38: 842 | U38: - | V38: - | W38: - | X38: - | Y38: - | Z38: - | AA38: - | AB38: - | AC38: - | AD38: - | AE38: - | AF38: =H38+J38+L38+N38+T38 -> 17218.6
A39: 17 | B39: Мероприятие 1.1.1. Внедрение автоматических станций управления на ПНС и КНС с заменой насосного оборудования (20 ПНС и 3 КНС) | C39: Управление по коммунальному хозяйству и благоустройству администрации муниципального образования "Городской округ город Астрахань" (МУП г. Астрахани "Астрводоканал") | D39: Экономия электрической энергии, полученная в результате внедрения автоматических станций управления на ПНС и КНС | E39: тыс. кВт час | F39: - | G39: - | H39: 1629.00 | I39: - | J39: - | K39: - | L39: - | M39: - | N39: - | O39: - | P39: - | Q39: - | R39: - | S39: - | T39: - | U39: - | V39: - | W39: - | X39: - | Y39: - | Z39: - | AA39: - | AB39: - | AC39: - | AD39: - | AE39: - | AF39: 1629.00
A40: 18 | B40: Мероприятие 1.1.2. Внедрение автоматических станций управления на ПНС и КНС с заменой насосного оборудования | C40: Управление по коммунальному хозяйству и благоустройству администрации муниципального образования "Городской округ город Астрахань" (МУП г. Астрахани "Астрводоканал") | D40: Показатель 1. Экономия электрической энергии, полученная в результате внедрения автоматических станций управления на ПНС и КНС | E40: тыс. кВт час | F40: - | G40: - | H40: 1530.00 | I40: - | J40: - | K40: - | L40: - | M40: - | N40: - | O40: - | P40: - | Q40: - | R40: - | S40: - | T40: - | U40: - | V40: - | W40: - | X40: - | Y40: - | Z40: - | AA40: - | AB40: - | AC40: - | AD40: - | AE40: - | AF40: 1530.00
A41: 19 | B41: Мероприятие 1.1.3. Внедрение автоматических станций управления на КНС с заменой насосного оборудования | C41: Управление по коммунальному хозяйству и благоустройству администрации муниципального образования "Городской округ город Астрахань" (МУП г. Астрахани "Астрводоканал") | D41: Экономия электрической энергии, полученная в результате внедрения автоматических станций управления на КНС | E41: тыс. кВт час | F41: - | G41: - | H41: - | I41: - | J41: 3052.90 | K41: - | L41: - | M41: - | N41: - | O41: - | P41: - | Q41: - | R41: - | S41: - | T41: - | U41: - | V41: - | W41: - | X41: - | Y41: - | Z41: - | AA41: - | AB41: - | AC41: - | AD41: - | AE41: - | AF41: 3052.90
A42: 20 | B42: Мероприятие 1.1.4. Замена насосного оборудования и запорной арматуры для снижения потерь. Замена пусковой аппаратуры с применением ПЧ на насосах 1 - 2 подъема ЛОСВ, ПОСВ2, ПОСВ1, ВОС (1 - 2 подъемы) | C42: Управление по коммунальному хозяйству и благоустройству администрации муниципального образования "Городской округ город Астрахань" (МУП г. Астрахани "Астрводоканал") | D42: Показатель 1. Экономия электрической энергии, полученная в результате замены насосного оборудования и запорной арматуры | E42: тыс. кВт час | F42: - | G42: - | H42: - | I42: - | J42: - | K42: - | L42: 5532.10 | M42: - | N42: - | O42: - | P42: - | Q42: - | R42: - | T42: - | U42: - | V42: - | W42: - | X42: - | Y42: - | Z42: - | AA42: - | AB42: - | AC42: - | AD42: - | AE42: - | AF42: 5532.10
A43: 21 | B43: Мероприятие 1.1.5. Внедрение управляемых воздуходувок в системах биологической очистки на очистных сооружениях канализации (СОСК, ЮОСК, ПОСК1) | C43: Управление по коммунальному хозяйству и благоустройству администрации муниципального образования "Городской округ город Астрахань" (МУП г. Астрахани "Астрводоканал") | D43: Показатель 1. Экономия электрической энергии, полученная в результате внедрения управляемых воздуходувок в системах биологической очистки на очистных сооружениях канализации | E43: тыс. кВт час | F43: - | G43: - | H43: - | I43: - | J43: - | K43: - | L43: - | M43: - | N43: 4631.50 | O43: - | P43: - | Q43: - | R43: - | S43: - | T43: - | U43: - | V43: - | W43: - | X43: - | Y43: - | Z43: - | AA43: - | AB43: - | AC43: - | AD43: - | AE43: - | AF43: 4631.50
A44: 22 | B44: Мероприятие 1.1.6. Частичная замена насосного оборудования на сооружениях водоснабжения | C44: Управление по коммунальному хозяйству и благоустройству администрации муниципального образования "Городской округ город Астрахань" (МУП г. Астрахани "Астрводоканал") | D44: Показатель 1. Экономия электрической энергии, полученная в результате частичной замены насосного оборудования на сооружениях водоснабжения | E44: тыс. кВт час | F44: - | G44: - | H44: - | I44: - | J44: - | K44: - | L44: - | M44: - | N44: - | O44: - | P44: - | Q44: - | R44: - | S44: - | T44: 842 | U44: - | V44: - | W44: - | X44: - | Y44: - | Z44: - | AA44: - | AB44: - | AC44: - | AD44: - | AE44: - | AF44: 842.00
A45: 23 | B45: Мероприятие 1.1.7. Приобретение оборудования и материалов для реализации мероприятий, направленных на модернизацию и повышение энергоэффективности водопроводно-канализационного хозяйства | C45: Управление по коммунальному хозяйству и благоустройству администрации муниципального образования "Городской округ город Астрахань» | D45: Показатель 1. Количество канализационно -насосных станций, для которых приобреталось оборудование | E45: шт. | F45: - | G45: - | H45: - | I45: - | J45: - | K45: - | L45: 35 | M45: - | N45: - | O45: - | P45: - | Q45: - | R45: - | S45: - | T45: - | U45: - | V45: - | W45: - | X45: - | Y45: - | Z45: - | AA45: - | AB45: - | AC45: - | AD45: - | AE45: - | AF45: 35
A46: 24 | B46: Мероприятие 1.1.8. Монтаж приобретенного оборудования и материалов для реализации мероприятий, направленных на модернизацию и повышение энергоэффективности водопроводно-канализационного хозяйства | C46: Управление по коммунальному хозяйству и благоустройству администрации муниципального образования "Городской округ город Астрахань» | D46: Показатель 1. Количество канализационно-насосных станций, в которых произведен монтаж приобретенного оборудования и материалов для реализации мероприятий, направленных на модернизацию и повышение энергоэффективности водопроводно-канализационного хозяйства | E46: шт | F46: - | G46: - | H46: - | I46: - | J46: - | K46: - | L46: 7 | M46: - | N46: - | O46: - | P46: - | Q46: - | R46: - | S46: - | T46: - | U46: - | V46: - | W46: - | X46: - | Y46: - | Z46: - | AA46: - | AB46: - | AC46: - | AD46: - | AE46: - | AF46: 7
D47: Показатель 2. Снижение расхода электроэнергии | E47: % | F47: - | G47: - | H47: - | I47: - | J47: - | K47: - | L47: - | M47: - | N47: 1.1 | O47: - | P47: - | Q47: - | R47: - | S47: - | T47: - | U47: - | V47: - | W47: - | X47: - | Y47: - | Z47: - | AA47: - | AB47: - | AC47: - | AD47: - | AE47: - | AF47: 1.1
A48: 25 | B48: Мероприятие 1.1.9. Оказание услуг по проведению экспертизы результатов, предусмотренных контрактом, в части их соответствия условиям контракта № 300 от 30.11.2018 | C48: Управление по коммунальному хозяйству и благоустройству администрации муниципального образования "Городской округ город Астрахань» | D48: Показатель 1. Количество проведенных экспертиз | E48: шт | F48: - | G48: - | H48: - | I48: - | J48: - | K48: - | L48: 1 | M48: - | N48: - | O48: - | P48: - | Q48: - | R48: - | S48: - | T48: - | U48: - | V48: - | W48: - | X48: - | Y48: - | Z48: - | AA48: - | AB48: - | AC48: - | AD48: - | AE48: - | AF48: 1
A49: 26 | B49: Мероприятие 1.1.10. Реконструкция системы ливневой канализации с насосной станцией, расположенной по адресу: ул. Бурова, 2 «А», в Кировском районе г. Астрахани, с организацией очистки сброса поверхностных вод | C49: Управление по капитальному строительству администрации муниципального образования "Городской округ город Астрахань | D49: Показатель 1. Количество разработанных проектов | E49: ед. | F49: - | G49: - | H49: - | I49: - | J49: - | K49: - | L49: - | M49: - | N49: - | O49: - | P49: 1 | Q49: - | R49: - | S49: - | T49: - | U49: - | V49: - | W49: - | X49: - | Y49: - | Z49: - | AA49: - | AB49: - | AC49: - | AD49: - | AE49: - | AF49: 1
A50: 27 | B50: Мероприятие 1.1.11. Реконструкция системы ливневой канализации с насосной станцией, расположенной по адресу: ул. Харьковская, 28 «А», в Советском районе г. Астрахани, с организацией очистки сброса поверхностных вод | C50: Управление по капитальному строительству администрации муниципального образования "Городской округ город Астрахань | D50: Показатель 1. Количество разработанных проектов | E50: ед. | F50: - | G50: - | H50: - | I50: - | J50: - | K50: - | L50: - | M50: - | N50: - | O50: - | P50: 1 | Q50: - | R50: - | S50: - | T50: - | U50: - | V50: - | W50: - | X50: - | Y50: - | Z50: - | AA50: - | AB50: - | AC50: - | AD50: - | AE50: - | AF50: 1
A51: 28 | B51: Мероприятие 1.1.12. Реализация мероприятий, направленных на обеспечение функционирования объектов водоснабжения и водоотведения (в т.ч. приобретение оборудования, материалов для ремонта водопроводно-канализационных сетей и сооружений, расположенных на территории муниципального образования Астраханской области; приобретение диагностическо-инспекционного оборудования для сетей и сооружений; приобретение специализированной техники; разработку (корректировку) схем водоснабжения и водоотведения; проведение технического аудита муниципальных унитарных предприятий) | C51: Управление по коммунальному хозяйству и благоустройству администрации муниципального образования "Городской округ город Астрахань", Управление по капитальному строительству администрации муниципального образования "Городской округ город Астрахань | D51: Показатель 1. Снижение аварийности по сравнению с аналогичным периодом прошлого года | E51: % | F51: - | G51: - | H51: - | I51: - | J51: - | K51: - | L51: - | M51: - | N51: - | O51: - | P51: 0 | Q51: - | R51: 3 | S51: - | T51: - | U51: - | V51: - | W51: - | X51: - | Y51: - | Z51: - | AA51: - | AB51: - | AC51: - | AD51: - | AE51: - | AF51: 3
A52: 29 | B52: Задача 1.2. Повышение энергетической эффективности в сфере теплоснабжения | C52: Управление по коммунальному хозяйству и благоустройству администрации муниципального образования "Городской округ город Астрахань" (МУП г. Астрахани "Коммунэнерго") | D52: Показатель 1. Объем потребления энергоресурсов, используемых муниципальными предприятиями для выработки тепловой энергии | E52: т.у.т в год | F52: 58687.28 | G52: 58687.28 | H52: 58415.80 | I52: - | J52: 58920.31 | K52: - | L52: 49720.7 | M52: - | N52: - | O52: - | P52: 40720.3 | Q52: - | R52: - | S52: - | T52: - | U52: - | V52: - | W52: - | X52: - | Y52: - | Z52: - | AA52: - | AB52: - | AC52: - | AD52: - | AE52: - | AF52: 40720.3
D53: Показатель 2. Экономия энергоресурсов, используемых муниципальными предприятиями для выработки тепловой энергии. | E53: тыс. кВт час | F53: - | G53: - | H53: 788.00 | I53: - | J53: 0 | K53: - | L53: 527.00 | M53: - | N53: - | O53: - | P53: 474.3 | Q53: - | R53: - | S53: - | T53: - | U53: - | V53: - | W53: - | X53: - | Y53: - | Z53: - | AA53: - | AB53: - | AC53: - | AD53: - | AE53: - | AF53: 1789.30
A54: 30 | B54: Мероприятие 1.2.1. Приобретение новых электродвигателей (с классом изоляции F) и установка на их приводы регуляторов частоты вращения для насосного и тягодутьевого оборудования котельной N Т-1 | C54: Управление по коммунальному хозяйству и благоустройству администрации муниципального образования "Городской округ город Астрахань" (МУП г. Астрахани "Коммунэнерго" | D54: Показатель 1. Экономия электрической энергии, полученная в результате приобретения новых электродвигателей | E54: тыс. кВт час | F54: - | G54: - | H54: 271.00 | I54: - | J54: 0 | K54: - | L54: 271.00 | M54: - | N54: - | O54: - | P54: - | Q54: - | R54: - | S54: - | T54: - | U54: - | V54: - | W54: - | X54: - | Y54: - | Z54: - | AA54: - | AB54: - | AC54: - | AD54: - | AE54: - | AF54: 542
A55: 31 | B55: Мероприятие 1.2.2. Замена на котельной N Т-2 насоса исходной воды К90 - 85 на энергосберегающий | C55: Управление по коммунальному хозяйству и благоустройству администрации муниципального образования "Городской округ город Астрахань" (МУП г. Астрахани "Коммунэнерго" | D55: Показатель 1. Экономия электрической энергии, полученная в результате замены на котельной насоса исходной воды | E55: тыс. кВт час | F55: - | G55: - | H55: 13.00 | I55: - | J55: - | K55: - | L55: 13.00 | M55: - | N55: - | O55: - | P55: - | Q55: - | R55: - | S55: - | T55: - | U55: - | V55: - | W55: - | X55: - | Y55: - | Z55: - | AA55: - | AB55: - | AC55: - | AD55: - | AE55: - | AF55: 26.00
A56: 32 | B56: Мероприятие 1.2.3. Приобретение новых электродвигателей (с классом изоляции F) и установка на их приводы регуляторов частоты вращения для насосного и тягодутьевого оборудования котельной N Т-2 | C56: Управление по коммунальному хозяйству и благоустройству администрации муниципального образования "Городской округ город Астрахань" (МУП г. Астрахани "Коммунэнерго") | D56: Показатель 1. Экономия электрической энергии, полученная в результате приобретения новых электродвигателей | E56: тыс. кВт час | F56: - | G56: - | H56: 121.00 | I56: - | J56: 0 | K56: - | L56: 121.0 | M56: - | N56: - | O56: - | P56: - | Q56: - | R56: - | S56: - | T56: - | U56: - | V56: - | W56: - | X56: - | Y56: - | Z56: - | AA56: - | AB56: - | AC56: - | AD56: - | AE56: - | AF56: 242
A57: 33 | B57: Мероприятие 1.2.4. Замена на котельной N Т-6 сетевого насоса ЦН 400 - 105 на энергосберегающий | C57: Управление по коммунальному хозяйству и благоустройству администрации муниципального образования "Городской округ город Астрахань" (МУП г. Астрахани "Коммунэнерго") | D57: Показатель 1. Экономия электрической энергии, полученная в результате замены на котельной сетевого насоса | E57: тыс. кВт час | F57: - | G57: - | H57: 89.00 | I57: - | J57: - | K57: - | L57: - | M57: - | N57: - | O57: - | P57: - | Q57: - | R57: - | S57: - | T57: - | U57: - | V57: - | W57: - | X57: - | Y57: - | Z57: - | AA57: - | AB57: - | AC57: - | AD57: - | AE57: - | AF57: 89.00
A58: 34 | B58: Мероприятие 1.2.5. Приобретение новых электродвигателей (с классом изоляции F) и установка на их приводы регуляторов частоты вращения для насосного и тягодутьевого оборудования котельной N Т-6 | C58: Управление по коммунальному хозяйству и благоустройству администрации муниципального образования "Городской округ город Астрахань" (МУП г. Астрахани "Коммунэнерго" | D58: Показатель 1. Экономия электрической энергии, полученная в результате приобретения новых электродвигателей | E58: тыс. кВт час | F58: - | G58: - | H58: 92.00 | I58: - | J58: 0 | K58: - | L58: 92.00 | M58: - | N58: - | O58: - | P58: - | Q58: - | R58: - | S58: - | T58: - | U58: - | V58: - | W58: - | X58: - | Y58: - | Z58: - | AA58: - | AB58: - | AC58: - | AD58: - | AE58: - | AF58: 184.00
A59: 35 | B59: Мероприятие 1.2.6. Приобретение новых электродвигателей (с классом изоляции F) и установка на их приводы регуляторов частоты вращения для насосного и тягодутьевого оборудования котельной N Т-44 | C59: Управление по коммунальному хозяйству и благоустройству администрации муниципального образования "Городской округ город Астрахань" (МУП г. Астрахани "Коммунэнерго") | D59: Показатель 1. Экономия электрической энергии, полученная в результате приобретения новых электродвигателей | E59: тыс. кВт час | F59: - | G59: - | H59: 30.00 | I59: - | J59: 0 | K59: - | L59: 30.00 | M59: - | N59: - | O59: - | P59: - | Q59: - | R59: - | S59: - | T59: - | U59: - | V59: - | W59: - | X59: - | Y59: - | Z59: - | AA59: - | AB59: - | AC59: - | AD59: - | AE59: - | AF59: 60.00
A60: 36 | B60: Мероприятие 1.2.7. Приобретение переносных газоанализаторов для котельных N Т-1, Т-2, Т-6, Т-44 | C60: Управление по коммунальному хозяйству и благоустройству администрации муниципального образования "Городской округ город Астрахань" (МУП г. Астрахани "Коммунэнерго") | D60: Показатель 1. Экономия электрической энергии, полученная в результате приобретения переносных газоанализаторов | E60: тыс. кВт час | F60: - | G60: - | H60: 172.00 | I60: - | J60: - | K60: - | L60: - | M60: - | N60: - | O60: - | P60: - | Q60: - | R60: - | S60: - | T60: - | U60: - | V60: - | W60: - | X60: - | Y60: - | Z60: - | AA60: - | AB60: - | AC60: - | AD60: - | AE60: - | AF60: 172.00
A61: 37 | B61: Мероприятие 1.2.8 Проведение мероприятий по текущему ремонту объектов теплоснабжения, находящих в муниципальной собственности (реконструкция автоматики безопасности зала котлов ДКВР котельной Т-6 по ул. Адм.Нахимова, 60) | C61: Управление по коммунальному хозяйству и благоустройству администрации муниципального образования "Городской округ город Астрахань" | D61: Показатель 1. Снижение аварийности по сравнению с аналогичным периодом прошлого года | E61: % | F61: - | G61: - | H61: - | I61: - | J61: - | K61: - | L61: - | M61: - | N61: - | O61: - | P61: 3 | Q61: - | R61: - | S61: - | T61: - | U61: - | V61: - | W61: - | X61: - | Y61: - | Z61: - | AA61: - | AB61: - | AC61: - | AD61: - | AE61: - | AF61: 3
A62: 38 | B62: Мероприятие 1.2.9. Строительство блочно-модульной котельной по ул. 2-й проезд Мостостроителей в Трусовском районе г. Астрахани, в том числе ПИР | C62: Управление по капитальному строительству администрации муниципального образования "Городской округ город Астрахань" | D62: Показатель 1. Снижение уровня износа объектов коммунальной инфраструктуры | E62: % | F62: - | G62: - | H62: - | I62: - | J62: - | K62: - | L62: - | M62: - | N62: 3 | O62: - | P62: 3 | Q62: - | R62: 3 | S62: - | T62: - | U62: - | V62: - | W62: - | X62: - | Y62: - | Z62: - | AA62: - | AB62: - | AC62: - | AD62: - | AE62: - | AF62: 9
D63: Показатель 2. Снижение потребления топливно-энергетических ресурсов | E63: % | F63: - | G63: - | H63: - | I63: - | J63: - | K63: - | L63: - | M63: - | N63: - | O63: - | P63: 10 | Q63: - | R63: - | S63: - | T63: - | U63: - | V63: - | W63: - | X63: - | Y63: - | Z63: - | AA63: - | AB63: - | AC63: - | AD63: - | AE63: - | AF63: 10
A64: 39 | B64: Мероприятие 1.2.10. Разработка (актуализация) схем теплоснабжения | C64: Управление по коммунальному хозяйству и благоустройству администрации муниципального образования "Городской округ город Астрахань" | D64: Показатель 1. Количество разработанных (актуализированных) схем теплоснабжения | E64: ед. | F64: - | G64: - | H64: - | I64: - | J64: - | K64: - | L64: - | M64: - | N64: - | O64: - | P64: - | Q64: - | R64: 1 | S64: - | T64: 1 | U64: - | V64: 0 | W64: - | X64: 0 | Y64: - | Z64: 0 | AA64: - | AB64: 0 | AC64: - | AD64: 0 | AE64: - | AF64: 1
