Workbook
Name OLE_LINK1: Мероприятия!$A$3
Name OLE_LINK1: 'Мероприятия (2)'!$A$3
Name OLE_LINK1: 'Мероприятия (3)'!$A$3

Sheet Финансирование
N1: Приложение 3 к постановлению администрации муниципального образования «Город Астрахань» от ____________ №_______ Приложение 2 к муниципальной программе муниципального образования "Город Астрахань" "Энергосбережение и повышение энергетической эффективности в городе Астрахани"
A2: РАСПРЕДЕЛЕНИЕ РАСХОДОВ НА РЕАЛИЗАЦИЮ МУНИЦИПАЛЬНОЙ ПРОГРАММЫ "ЭНЕРГОСБЕРЕЖЕНИЕ И ПОВЫШЕНИЕ ЭНЕРГЕТИЧЕСКОЙ ЭФФЕКТИВНОСТИ В ГОРОДЕ АСТРАХАНИ"
A3: N п/п | B3: Цели, задачи, наименования программных мероприятий | C3: Ответственные исполнители, соисполнители (участники) | D3: Источники финансирования | E3: Коды классификации | I3: Планируемые расходы, руб.
E4: раздел, подраздел | F4: целевая статья | G4: вид расходов | H4: КОСГУ | I4: всего | J4: 2016 год | K4: 2017 год | L4: 2018 год | M4: 2019 год | N4: 2020 год | O4: 2021 год | P4: 2022 год | Q4: 2023 год | R4: 2024 год
B5: Муниципальная программа муниципального образования "Город Астрахань" "Энергосбережение и повышение энергетической эффективности в городе Астрахани"
A6: 1 | B6: Муниципальная программа "Энергосбережение и повышение энергетической эффективности в городе Астрахани" | C6: Управление по коммунальному хозяйству и благоустройству администрации муниципального образования "Город Астрахань" (Управление образования администрации муниципального образования "Город Астрахань", Управление культуры администрации муниципального образования "Город Астрахань", Управление по капитальному строительству администрации муниципального образования "Город Астрахань", МУП г. Астрахани "Астрводоканал", МУП г. Астрахани "Коммунэнерго", МКП г. Астрахани "Горсвет") | D6: Бюджет МО "Город Астрахань", бюджет Астраханской области, внебюджетные источники | E6: х | F6: х | G6: х | H6: х | I6: =SUM(J6:R6) -> 1.5479192e+09 | J6: =J7 -> 55458000 | K6: =K7 -> 4.0405573e+08 | L6: =L7 -> 2.366077e+08 | M6: =M7 -> 1.8584015e+08 | N6: =N7 -> 97913077 | O6: =O7 -> 15319584 | P6: =P7 -> 1.9334056e+08 | Q6: =Q7 -> 2.2914276e+08 | R6: =R7 -> 1.3024166e+08
A7: 2 | B7: Цель 1. Повышение эффективности использования энергетических ресурсов в муниципальном образовании "Город Астрахань" | C7: Управление по коммунальному хозяйству и благоустройству администрации муниципального образования "Город Астрахань" (Управление образования администрации муниципального образования "Город Астрахань", Управление культуры администрации муниципального образования "Город Астрахань", Управление по капитальному строительству администрации муниципального образования "Город Астрахань", МУП г. Астрахани "Астрводоканал", МУП г. Астрахани "Коммунэнерго", МКП г. Астрахани "Горсвет") | D7: Бюджет МО "Город Астрахань", бюджет Астраханской области, внебюджетные источники | E7: х | F7: х | G7: х | H7: х | I7: =SUM(J7:R7) -> 1.5479192e+09 | J7: =J11+J16+J17+J18+J19 -> 55458000 | K7: =K11+K16+K17+K18+K19 -> 4.0405573e+08 | L7: =L11+L16+L17+L18+L19 -> 2.366077e+08 | M7: =M11+M16+M17+M18+M19 -> 1.8584015e+08 | N7: =N11+N16+N17+N18+N19 -> 97913077 | O7: =O11+O16+O17+O18+O19 -> 15319584 | P7: =P11+P16+P17+P18+P19 -> 1.9334056e+08 | Q7: =Q11+Q16+Q17+Q18+Q19 -> 2.2914276e+08 | R7: =R11+R16+R17+R18+R19 -> 1.3024166e+08
D8: Внебюджетные источники | E8: х | F8: х | G8: х | H8: х | I8: =SUM(J8:R8) -> 722071000 | J8: =J32 -> 55458000 | K8: =K32 -> 401440000 | L8: =L32 -> 135173000 | M8: =M32 -> 110000000 | N8: =N32 -> 0 | O8: =O32 -> 0 | P8: =P32 -> 20000000 | Q8: =Q32 -> 0 | R8: =R32 -> 0
D9: Бюджет МО «Город Астрахань» | E9: х | F9: х | G9: х | H9: х | I9: =SUM(J9:R9) -> 4.7490121e+08 | K9: =K21+K33 -> 2615729.4 | L9: =L21+L33 -> 2434702.5 | M9: =M21+M33 -> 41040148 | N9: =N21+N33 -> 9986076.9 | O9: =O21+O33 -> 15319584 | P9: =P21+P33 -> 1.3412056e+08 | Q9: =Q21+Q33 -> 1.3914276e+08 | R9: =R21+R33 -> 1.3024166e+08
D10: Бюджет Астраханской области | E10: х | F10: х | G10: х | H10: х | I10: =SUM(J10:R10) -> 350947000 | J10: =J34 -> 0 | K10: =K34 -> 0 | L10: =L34 -> 99000000 | M10: =M34 -> 34800000 | N10: =N34 -> 87927000 | O10: =O34 -> 0 | P10: =P34 -> 39220000 | Q10: =Q34 -> 90000000 | R10: =R34 -> 0
A11: 3 | B11: Задача 1.1. Формирование системы информационного просвещения населения муниципального образования "Город Астрахань" в области энергосбережения и повышения энергетической эффективности | C11: Управление по коммунальному хозяйству и благоустройству администрации муниципального образования "Город Астрахань" | D11: Не требует финансирования | E11: х | F11: х | G11: х | H11: х | I11: =SUM(J11:R11) -> 0 | J11: =J12 -> 0 | K11: =K12 -> 0 | L11: =L12 -> 0 | M11: =M12 -> 0 | N11: =N12 -> 0 | O11: =O12 -> 0 | P11: =P12 -> 0 | Q11: =Q12 -> 0 | R11: =R12 -> 0
A12: 4 | B12: Основное мероприятие 1.1.1. Повышение информированности общества об энергосберегающих технологиях и стимулирование формирования модели бережливого отношения населения к энергоресурсам | C12: Управление по коммунальному хозяйству и благоустройству администрации муниципального образования "Город Астрахань" | D12: Не требует финансирования | E12: х | F12: х | G12: х | H12: х | I12: =SUM(J12:R12) -> 0 | J12: =J13+J14+J15 -> 0 | K12: =K13+K14+K15 -> 0 | L12: =L13+L14+L15 -> 0 | M12: =M13+M14+M15 -> 0 | N12: =N13+N14+N15 -> 0 | O12: =O13+O14+O15 -> 0 | P12: =P13+P14+P15 -> 0 | Q12: =Q13+Q14+Q15 -> 0 | R12: =R13+R14+R15 -> 0
A13: 5 | B13: Мероприятие 1.1.1.1. Разработка рекомендаций по внедрению энергоэффективных технологий при строительстве, реконструкции и эксплуатации | C13: Управление по коммунальному хозяйству и благоустройству администрации муниципального образования "Город Астрахань" | D13: Не требует финансирования | E13: х | F13: х | G13: х | H13: х | I13: =SUM(J13:R13) -> 0
A14: 6 | B14: Мероприятие 1.1.1.2. Пропаганда сбережения энергии и сохранения энергоресурсов | C14: Управление по коммунальному хозяйству и благоустройству администрации муниципального образования "Город Астрахань" | D14: Не требует финансирования | E14: х | F14: х | G14: х | H14: х | I14: =SUM(J14:R14) -> 0
A15: 7 | B15: Мероприятие 1.1.1.3. Проведение анализа потребления энергоресурсов на территории города Астрахани | C15: Управление по коммунальному хозяйству и благоустройству администрации муниципального образования "Город Астрахань" | D15: Не требует финансирования | E15: х | F15: х | G15: х | H15: х | I15: =SUM(J15:R15) -> 0
A16: 8 | B16: Задача 1.2. Повышение энергетической эффективности на объектах социальной сферы | C16: Управление по коммунальному хозяйству и благоустройству администрации муниципального образования "Город Астрахань" (Управление образования администрации муниципального образования "Город Астрахань", Управление культуры администрации муниципального образования) | D16: Бюджет МО "Город Астрахань" | E16: х | F16: х | G16: х | H16: х | I16: =SUM(J16:R16) -> 4551431.9 | J16: =J21 -> 0 | K16: =K21 -> 2615729.4 | L16: =L21 -> 1935702.5 | M16: =M21 -> 0 | N16: =N21 -> 0 | O16: =O21 -> 0 | P16: =P21 -> 0 | Q16: =Q21 -> 0 | R16: =R21 -> 0
A17: 9 | B17: Задача 1.3. Повышение энергетической эффективности в системах коммунальной инфраструктуры | C17: Управление по коммунальному хозяйству и благоустройству администрации муниципального образования "Город Астрахань», Управление по капитальному строительству администрации муниципального образования "Город Астрахань", МУП г. Астрахани "Астрводоканал", МУП г. Астрахани "Коммунэнерго", МКП г. Астрахани "Горсвет") | D17: Внебюджетные источники | E17: х | F17: х | G17: х | H17: х | I17: =SUM(J17:R17) -> 722071000 | J17: =J32 -> 55458000 | K17: =K32 -> 401440000 | L17: =L32 -> 135173000 | M17: =M32 -> 110000000 | N17: =N32 -> 0 | O17: =O32 -> 0 | P17: =P32 -> 20000000 | Q17: =Q32 -> 0 | R17: =R32 -> 0
D18: Бюджет МО «Город Астрахань» | I18: =SUM(J18:R18) -> 4.7034977e+08 | J18: =J33 -> 0 | K18: =K33 -> 0 | L18: =L33 -> 499000 | M18: =M33 -> 41040148 | N18: =N33 -> 9986076.9 | O18: =O33 -> 15319584 | P18: =P33 -> 1.3412056e+08 | Q18: =Q33 -> 1.3914276e+08 | R18: =R33 -> 1.3024166e+08
D19: Бюджет Астраханской области | E19: х | F19: х | G19: х | H19: х | I19: =SUM(J19:R19) -> 350947000 | J19: =J34 -> 0 | K19: =K34 -> 0 | L19: =L34 -> 99000000 | M19: =M34 -> 34800000 | N19: =N34 -> 87927000 | O19: =O34 -> 0 | P19: =P34 -> 39220000 | Q19: =Q34 -> 90000000 | R19: =R34 -> 0
A20: Подпрограмма 1 "Энергоэффективность социальной сферы"
A21: 10 | B21: Цель 1. Повышение энергетической эффективности на объектах социальной сферы | C21: Управление по коммунальному хозяйству и благоустройству администрации муниципального образования "Город Астрахань", Управление образования администрации муниципального образования "Город Астрахань", Управление культуры администрации муниципального образования | D21: Бюджет МО "Город Астрахань" | E21: х | F21: х | G21: х | H21: х | I21: =SUM(J21:R21) -> 4551431.9 | J21: =J22 -> 0 | K21: =K22 -> 2615729.4 | L21: =L22 -> 1935702.5 | M21: =M22 -> 0 | N21: =N22 -> 0 | O21: =O22 -> 0 | P21: =P22 -> 0 | Q21: =Q22 -> 0 | R21: =R22 -> 0
A22: 11 | B22: Задача 1.1. Оснащение приборами учета муниципальных учреждений социальной сферы | C22: Управление по коммунальному хозяйству и благоустройству администрации муниципального образования "Город Астрахань" (Управление образования администрации муниципального образования "Город Астрахань", Управление культуры администрации муниципального образования) | D22: Бюджет МО "Город Астрахань" | E22: х | F22: х | G22: х | H22: х | I22: =SUM(J22:R22) -> 4551431.9 | J22: =J23+J24+J25+J26 -> 0 | K22: =K23+K24+K25+K26 -> 2615729.4 | L22: =L23+L24+L25+L26 -> 1935702.5 | M22: =M23+M24+M25+M26 -> 0 | N22: =N23+N24+N25+N26 -> 0 | O22: =O23+O24+O25+O26 -> 0 | P22: =P23+P24+P25+P26 -> 0 | Q22: =Q23+Q24+Q25+Q26 -> 0 | R22: =R23+R24+R25+R26 -> 0
A23: 12 | B23: Мероприятие 1.1.1. Реализация полномочий в сфере коммунального хозяйства | C23: Управление по коммунальному хозяйству и благоустройству администрации муниципального образования "Город Астрахань" (Управление образования администрации муниципального образования "Город Астрахань", Управление культуры администрации муниципального образования) | D23: Бюджет МО "Город Астрахань" | E23: х | F23: х | G23: х | H23: х | I23: =SUM(J23:R23) -> 4551431.9 | J23: 0 | K23: 2615729.4 | L23: 1935702.5 | M23: 0 | N23: 0 | O23: 0
A24: 13 | B24: Мероприятие 1.1.2. Проведение семинаров на тему "Практическое внедрение энергосервисных контрактов" | C24: Управление по коммунальному хозяйству и благоустройству администрации муниципального образования "Город Астрахань" | D24: Не требует финансирования | E24: х | F24: х | G24: х | H24: х | I24: =SUM(J24:R24) -> 0
A25: 14 | B25: Мероприятие 1.1.3. Анализ потенциала энергоэффективности муниципальных учреждений | C25: Управление по коммунальному хозяйству и благоустройству администрации муниципального образования "Город Астрахань" | D25: Не требует финансирования | E25: х | F25: х | G25: х | H25: х | I25: =SUM(J25:R25) -> 0
A26: 15 | B26: Мероприятие 1.1.4. Проведение конкурсов по энергосбережению и внедрению инновационных технологий среди учащихся муниципальных образовательных учреждений города Астрахани | C26: Управление по коммунальному хозяйству и благоустройству администрации муниципального образования "Город Астрахань" (Управление образования администрации муниципального образования "Город Астрахань") | D26: Не требует финансирования | E26: х | F26: х | G26: х | H26: х | I26: =SUM(J26:R26) -> 0
B27: Итого по Подпрограмме 1, в том числе по источникам финансирования: | I27: =SUM(J27:R27) -> 4551431.9 | J27: =J21 -> 0 | K27: =K21 -> 2615729.4 | L27: =L21 -> 1935702.5 | M27: =M21 -> 0 | N27: =N21 -> 0 | O27: =O21 -> 0 | P27: =P21 -> 0 | Q27: =Q21 -> 0 | R27: =R21 -> 0
B28: бюджет муниципального образования "Город Астрахань": | I28: =SUM(J28:R28) -> 4551431.9 | J28: 0 | K28: =K21 -> 2615729.4 | L28: =L21 -> 1935702.5 | M28: =M21 -> 0 | N28: =N21 -> 0 | O28: =O21 -> 0 | P28: =P21 -> 0 | Q28: =Q21 -> 0 | R28: =R21 -> 0
B29: внебюджетные источники | I29: =SUM(J29:R29) -> 0 | J29: 0 | K29: 0 | L29: 0 | M29: 0 | N29: 0 | O29: 0 | P29: 0 | Q29: 0 | R29: 0
A30: Подпрограмма 2 "Энергосбережение и повышение энергетической эффективности в системах коммунальной инфраструктуры"
A31: 16 | B31: Цель 1. Повышение энергетической эффективности в системах коммунальной инфраструктуры | C31: Управление по коммунальному хозяйству и благоустройству администрации муниципального образования "Город Астрахань" (МУП г. Астрахани "Астрводоканал", МУП г. Астрахани "Коммунэнерго", МКП г. Астрахани "Горсвет") Управление по капитальному строительству администрации муниципального образования «Город Астрахань» | D31: Всего, в том числе: | E31: х | F31: х | G31: х | H31: х | I31: =SUM(J31:R31) -> 1.5433678e+09 | J31: =SUM(J32:J34) -> 55458000 | K31: =SUM(K32:K34) -> 401440000 | L31: =SUM(L32:L34) -> 234672000 | M31: =SUM(M32:M34) -> 1.8584015e+08 | N31: =SUM(N32:N34) -> 97913077 | O31: =SUM(O32:O34) -> 15319584 | P31: =SUM(P32:P34) -> 1.9334056e+08 | Q31: =SUM(Q32:Q34) -> 2.2914276e+08 | ... U31: =SUM(U32:U34) -> 1.2520328e+08 | V31: =O31-S31 -> -17592433 | W31: =P31-T31 -> 39686197 | X31: =R31-U31 -> 5038372.4
D32: Внебюджетные источники | E32: х | F32: х | G32: х | H32: х | I32: =SUM(J32:R32) -> 722071000 | J32: =J37+J40+J60+J77 -> 55458000 | K32: =K37+K40+K60+K77 -> 401440000 | L32: =L37+L40+L60+L77 -> 135173000 | M32: =M37+M40+M60+M77 -> 110000000 | N32: =N37+N40+N60+N77 -> 0 | O32: =O37+O40+O60+O77 -> 0 | P32: =P37+P40+P60+P77 -> 20000000 | Q32: =Q37+Q40+Q60+Q77 -> 0 | ... U32: =U37+U40+U60+U77 -> 0 | V32: =O32-S32 -> 0 | W32: =P32-T32 -> 0 | X32: =R32-U32 -> 0
D33: Бюджет МО«Город Астрахань» | E33: х | F33: х | G33: х | H33: х | I33: =SUM(J33:R33) -> 4.7034977e+08 | J33: =J38+J41+J61+J78 -> 0 | K33: =K38+K41+K61+K78 -> 0 | L33: =L38+L41+L61+L78 -> 499000 | M33: =M38+M41+M61+M78 -> 41040148 | N33: =N38+N41+N61+N78 -> 9986076.9 | O33: =O38+O41+O61+O78 -> 15319584 | P33: =P38+P41+P61+P78 -> 1.3412056e+08 | Q33: =Q38+Q41+Q61+Q78 -> 1.3914276e+08 | ... U33: =U38+U41+U61+U78 -> 1.2520328e+08 | V33: =O33-S33 -> -17592433 | W33: =P33-T33 -> 466196.6 | X33: =R33-U33 -> 5038372.4
D34: Бюджет Астраханской области | E34: х | F34: х | G34: х | H34: х | I34: =SUM(J34:R34) -> 350947000 | J34: =J39+J42+J62 -> 0 | K34: =K39+K42+K62 -> 0 | L34: =L39+L42+L62 -> 99000000 | M34: =M39+M42+M62 -> 34800000 | N34: =N39+N42+N62 -> 87927000 | O34: =O39+O42+O62 -> 0 | P34: =P39+P42+P62 -> 39220000 | Q34: =Q39+Q42+Q62 -> 90000000 | ... U34: =U39+U42+U62 -> 0 | V34: =O34-S34 -> 0 | W34: =P34-T34 -> 39220000 | X34: =R34-U34 -> 0
I35: =SUM(J35:R35) -> 0 | V35: =O35-S35 -> 0 | W35: =P35-T35 -> 0 | X35: =R35-U35 -> 0
I36: =SUM(J36:R36) -> 0 | V36: =O36-S36 -> 0 | W36: =P36-T36 -> 0 | X36: =R36-U36 -> 0
A37: 17 | B37: Задача 1.1. Повышение энергетической эффективности в сфере водоснабжения и водоотведения | C37: Управление по капитальному строительству администрации муниципального образования «Город Астрахань» | D37: Внебюджетные источники | E37: х | F37: х | G37: х | H37: х | I37: =SUM(J37:R37) -> 0 | J37: 0 | K37: 0 | L37: 0 | M37: 0 | N37: 0 | O37: 0 | P37: 0 | Q37: 0 | R37: 0 | S37: 0 | T37: 0 | U37: 0 | V37: =O37-S37 -> 0 | W37: =P37-T37 -> 0 | X37: =R37-U37 -> 0
D38: Бюджет МО «Город Астрахань» | E38: х | F38: х | G38: х | H38: х | I38: =SUM(J38:R38) -> 1773000 | J38: =J53+J55+J59 -> 0 | K38: =K53+K55+K59 -> 0 | L38: =L53+L55+L59 -> 0 | M38: =M53+M55+M59 -> 0 | N38: =N53+N55+N59 -> 1773000 | O38: =O53+O55+O59 -> 0 | P38: =P53+P55+P59 -> 0 | Q38: =Q53+Q55+Q59 -> 0 | ... U38: =U53+U55+U59 -> 0 | V38: =O38-S38 -> 0 | W38: =P38-T38 -> 0 | X38: =R38-U38 -> 0
D39: Бюджет Астраханской области | E39: х | F39: х | G39: х | H39: х | I39: =SUM(J39:R39) -> 17927000 | J39: =J54+J56 -> 0 | K39: =K54+K56 -> 0 | L39: =L54+L56 -> 0 | M39: =M54+M56 -> 0 | N39: =N54+N56 -> 17927000 | O39: =O54+O56 -> 0 | P39: =P54+P56 -> 0 | Q39: =Q54+Q56 -> 0 | ... U39: =U54+U56 -> 0 | V39: =O39-S39 -> 0 | W39: =P39-T39 -> 0 | X39: =R39-U39 -> 0
C40: Управление по коммунальному хозяйству и благоустройству администрации муниципального образования «Город Астрахань» | D40: Внебюджетные источники | I40: =SUM(J40:R40) -> 711654000 | J40: =J43+J44+J45+J46+J47+J48 -> 50265000 | K40: =K43+K44+K45+K46+K47+K48 -> 400000000 | L40: =L43+L44+L45+L46+L47+L48 -> 131389000 | M40: =M43+M44+M45+M46+M47+M48 -> 110000000 | N40: =N43+N44+N45+N46+N47+N48 -> 0 | O40: =O43+O44+O45+O46+O47+O48 -> 0 | P40: =P43+P44+P45+P46+P47+P48 -> 20000000 | Q40: =Q43+Q44+Q45+Q46+Q47+Q48 -> 0 | ... U40: =U43+U44+U45+U46+U47+U48 -> 0 | V40: =O40-S40 -> 0 | W40: =P40-T40 -> 0 | X40: =R40-U40 -> 0
...

Sheet Мероприятия
T1: Приложение 2 к постановлению администрации муниципального образования «Город Астрахань» от ____________ №_______ Приложение 2 к муниципальной программе муниципального образования "Город Астрахань" "Энергосбережение и повышение энергетической эффективности в городе Астрахани"
A2: ПЕРЕЧЕНЬ ПРОГРАММНЫХ МЕРОПРИЯТИЙ, ПОКАЗАТЕЛЕЙ (ИНДИКАТОРОВ) И РЕЗУЛЬТАТОВ МУНИЦИПАЛЬНОЙ ПРОГРАММЫ МУНИЦИПАЛЬНОГО ОБРАЗОВАНИЯ "ГОРОД АСТРАХАНЬ" "ЭНЕРГОСБЕРЕЖЕНИЕ И ПОВЫШЕНИЕ ЭНЕРГЕТИЧЕСКОЙ ЭФФЕКТИВНОСТИ В ГОРОДЕ АСТРАХАНИ"
A3: N п/п | B3: Цели, задачи, наименование программных мероприятий | C3: Ответственные исполнители, соисполнители (участники) | D3: Наименование показателя (индикатора) | E3: Ед. изм. | F3: Отчетный 2014 год | G3: Текущий 2015 год | H3: Планируемое значение показателя по годам реализации | Z3: Целевое значение показателя (конечный результат) за весь период реализации программы
H4: 2016 год | J4: 2017 год | L4: 2018 год | N4: 2019 год | P4: 2020 год | R4: 2021 год | T4: 2022 год | V4: 2023 год | X4: 2024 год
H5: всего | I5: в том числе на 01.07 | J5: всего | K5: в том числе на 01.07 | L5: всего | M5: в том числе на 01.07 | N5: всего | O5: в том числе на 01.07 | P5: всего | Q5: в том числе на 01.07 | R5: всего | S5: в том числе на 01.07 | T5: всего | U5: в том числе на 01.07 | V5: всего | W5: в том числе на 01.07 | X5: всего | Y5: в том числе на 01.07
B8: Муниципальная программа муниципального образования "Город Астрахань" "Энергосбережение и повышение энергетической эффективности в городе Астрахани"
A9: 1 | B9: Цель 1. Повышение эффективности использования энергетических ресурсов в муниципальном образовании "Город Астрахань" | C9: Управление по коммунальному хозяйству и благоустройству администрации муниципального образования "Город Астрахань" | D9: Показатель 1. Удельная величина потребления энергоресурсов муниципальными бюджетными учреждениями | E9: Электроэнергии кВт ч на 1 кв. метр | F9: 23.28 | G9: 23.26 | H9: 22.56 | I9: - | J9: 21.82 | K9: - | L9: 21.06 | M9: - | N9: 20.42 | O9: - | P9: 20.4 | Q9: - | R9: 20.33 | S9: - | T9: 20.2 | U9: - | V9: 20.2 | W9: - | X9: 20.2 | Y9: - | Z9: 20.2
E10: холодной воды м3 на 1 кв. метр | F10: 1.68 | G10: 1.65 | H10: 1.63 | I10: - | J10: 1.57 | K10: - | L10: 1.52 | M10: - | N10: 1.48 | O10: - | P10: 1.43 | Q10: - | R10: 1.46 | S10: - | T10: 1.44 | U10: - | V10: 1.44 | W10: - | X10: 1.44 | Y10: - | Z10: 1.44
E11: тепловой энергии Гкал на 1 кв. метр | F11: 0.07 | G11: 0.06 | H11: 0.06 | I11: - | J11: 0.06 | K11: - | L11: 0.06 | M11: - | N11: 0.06 | O11: - | P11: 0.06 | Q11: - | R11: 0.06 | S11: - | T11: 0.06 | U11: - | V11: 0.06 | W11: - | X11: 0.06 | Y11: - | Z11: 0.06
E12: природного газа м3 на 1 человека населения | F12: - | G12: - | H12: - | I12: - | J12: - | K12: - | L12: - | M12: - | N12: - | O12: - | P12: 0.32 | Q12: - | R12: 0.31 | S12: - | T12: 0.31 | U12: - | V12: 0.31 | W12: - | X12: 0.31 | Y12: - | Z12: 0.31
D13: Показатель 2. Доля объема энергоресурсов, расчеты за которые осуществляются с использованием приборов учета, в общем объеме энергоресурсов, потребляемых на территории муниципального образования "Город Астрахань" | E13: Электроэнергия в % | F13: 99.77 | G13: 99.77 | H13: 99.77 | I13: - | J13: 99.77 | K13: - | L13: 99.77 | M13: - | N13: 99.77 | O13: - | P13: 99.77 | Q13: - | R13: 99.77 | S13: - | T13: 99.77 | U13: - | V13: 99.77 | W13: - | X13: 99.77 | Y13: - | Z13: 99.77
E14: тепловая энергия в % | F14: 96.89 | G14: 96.89 | H14: 96.91 | I14: - | J14: 96.71 | K14: - | L14: 96.71 | M14: - | N14: 96.72 | O14: - | P14: 96.73 | Q14: - | R14: 96.74 | S14: - | T14: 96.75 | U14: - | V14: 96.75 | W14: - | X14: 96.75 | Y14: - | Z14: 96.75
E15: холодной воды в % | F15: 60.54 | G15: 60.54 | H15: 61.00 | I15: - | J15: 62.00 | K15: - | L15: 63.00 | M15: - | N15: 64.00 | O15: - | P15: 65.00 | Q15: - | R15: 66 | S15: - | T15: 67 | U15: - | V15: 67 | W15: - | X15: 67 | Y15: - | Z15: 67.00
E16: природного газа в % | F16: 64.94 | G16: 64.94 | H16: 64.94 | I16: - | J16: 66.00 | K16: - | L16: 66.00 | M16: - | N16: 66.00 | O16: - | P16: 67.00 | Q16: - | R16: 67 | S16: - | T16: 67 | U16: - | V16: 67 | W16: - | X16: 67 | Y16: - | Z16: 67.00
A17: 2 | B17: Задача 1.1. Формирование системы информационного просвещения населения муниципального образования "Город Астрахань" в области энергосбережения и повышения энергетической эффективности | C17: Управление по коммунальному хозяйству и благоустройству администрации муниципального образования "Город Астрахань" | D17: Показатель 1. Удельная величина потребления энергоресурсов в многоквартирных домах | E17: электроэнергии в кВт ч на 1 проживающего | F17: 719.68 | G17: 720.2 | H17: 719.53 | I17: - | J17: 712.52 | K17: - | L17: 708.46 | M17: - | N17: 704.92 | O17: - | P17: 701.39 | Q17: - | R17: - | S17: - | T17: - | U17: - | V17: - | W17: - | X17: - | Y17: - | Z17: =P17 -> 701.39
E18: холодной воды в м3 на 1 проживающего | F18: 50.87 | G18: 50.98 | H18: 50.63 | I18: - | J18: 49.37 | K18: - | L18: 48.14 | M18: - | N18: 47.18 | O18: - | P18: 46.23 | Q18: - | R18: - | S18: - | T18: - | U18: - | V18: - | W18: - | X18: - | Y18: - | Z18: =P18 -> 46.23
E19: тепловой энергии в Гкал на 1 кв. метр общей площади | F19: 0.16 | G19: 0.16 | H19: 0.16 | I19: - | J19: 0.16 | K19: - | L19: 0.16 | M19: - | N19: 0.16 | O19: - | P19: 0.16 | Q19: - | R19: - | S19: - | T19: - | U19: - | V19: - | W19: - | X19: - | Y19: - | Z19: =P19 -> 0.16
E20: природного газа м3 на 1 проживающего | F20: 244.77 | G20: 244.77 | H20: 244.77 | I20: - | J20: 244.77 | K20: - | L20: 244.77 | M20: - | N20: 244.77 | O20: - | P20: 244.77 | Q20: - | R20: - | S20: - | T20: - | U20: - | V20: - | W20: - | X20: - | Y20: - | Z20: =P20 -> 244.77
A21: 3 | B21: Основное мероприятие 1.1.1. Повышение информированности общества об энергосберегающих технологиях и стимулирование формирования модели бережливого отношения населения к энергоресурсам | C21: Управление по коммунальному хозяйству и благоустройству администрации муниципального образования "Город Астрахань" | D21: Показатель 1. Уровень осведомленности и грамотности населения в области энергосбережения | E21: % | F21: - | G21: - | H21: 15.00 | I21: - | J21: 25.00 | K21: - | L21: 35.00 | M21: - | N21: 45.00 | O21: - | P21: 55.00 | Q21: - | R21: - | S21: - | T21: - | U21: - | V21: - | W21: - | X21: - | Y21: - | Z21: =P21 -> 55.00
A22: 4 | B22: Мероприятие 1.1.1.1.Разработка рекомендаций по внедрению энергоэффективных технологий при строительстве, реконструкции и эксплуатации | C22: Управление по коммунальному хозяйству и благоустройству администрации муниципального образования "Город Астрахань" | D22: Показатель 1. Количество рекомендательных материалов, определяющих возможности применения энергоэффективных технологий | E22: шт. | F22: - | G22: - | H22: 1 | I22: - | J22: 1 | K22: - | L22: 1 | M22: - | N22: 1 | O22: - | P22: 1 | Q22: - | R22: - | S22: - | T22: - | U22: - | V22: - | W22: - | X22: - | Y22: - | Z22: =H22+J22+L22+N22+P22 -> 5
A23: 5 | B23: Мероприятие 1.1.1.2. Пропаганда сбережения энергии и сохранения энергоресурсов | C23: Управление по коммунальному хозяйству и благоустройству администрации муниципального образования "Город Астрахань" | D23: Показатель 1. Количество проведенных мероприятий, пропагандирующих сбережение энергии и сохранение энергоресурсов | E23: ед. | F23: - | G23: - | H23: 2 | I23: 1 | J23: 2 | K23: 1 | L23: 2 | M23: 1 | N23: 2 | O23: 1 | P23: 2 | Q23: 1 | R23: - | S23: - | T23: - | U23: - | V23: - | W23: - | X23: - | Y23: - | Z23: =H23+J23+L23+N23+P23 -> 10
A24: 6 | B24: Мероприятие 1.1.1.3. Проведение анализа потребления энергоресурсов на территории города Астрахани | C24: Управление по коммунальному хозяйству и благоустройству администрации муниципального образования "Город Астрахань" | D24: Показатель 1. Согласование результатов анализа с министерством жилищно-коммунального хозяйства Астраханской области | E24: да (1)/ нет (0) | F24: 1 | G24: 1 | H24: 1 | I24: - | J24: 1 | K24: - | L24: 1 | M24: - | N24: 1 | O24: - | P24: 1 | Q24: - | R24: - | S24: - | T24: - | U24: - | V24: - | W24: - | X24: - | Y24: - | Z24: 1
A25: 7 | B25: Задача 1.2. Повышение энергетической эффективности на объектах социальной сферы | C25: Управление по коммунальному хозяйству и благоустройству администрации муниципального образования "Город Астрахань" (Управление образования администрации муниципального образования "Город Астрахань", Управление культуры администрации муниципального образования «Город Астрахань») | D25: Показатель 1. Объем потребления тепловой энергии муниципальными учреждениями социальной сферы | E25: т.у.т в год | F25: 24823.51 | G25: 24575.28 | H25: 23838.02 | I25: - | J25: 23122.88 | K25: - | L25: 22429.19 | M25: - | N25: 21756.32 | O25: - | P25: 21103.62 | Q25: - | R25: - | S25: - | T25: - | U25: - | V25: - | W25: - | X25: - | Y25: - | Z25: =P25 -> 21103.62
A26: 8 | B26: Задача 1.3. Повышение энергетической эффективности в системах коммунальной инфраструктуры | C26: Управление по коммунальному хозяйству и благоустройству администрации муниципального образования "Город Астрахань" (МУП г. Астрахани "Астрводоканал", МУП г. Астрахани "Коммунэнерго", МКП г. Астрахани "Горсвет") | D26: Показатель 1. Объем потребления энергоресурсов, используемых в системах коммунальной инфраструктуры | E26: тыс. т.у.т в год | F26: 84.3 | G26: 84.3 | H26: 82.90 | I26: - | J26: 81.60 | K26: - | L26: 79.70 | M26: - | N26: 78.30 | O26: - | P26: 77.80 | Q26: - | R26: 77.1 | S26: - | T26: 76.32 | U26: - | V26: 76.32 | W26: - | X26: 76.32 | Y26: - | Z26: =X26 -> 76.32
A27: Подпрограмма 1 "Энергоэффективность социальной сферы"
A28: 9 | B28: Цель 1. Повышение энергетической эффективности на объектах социальной сферы | C28: Управление по коммунальному хозяйству и благоустройству администрации муниципального образования "Город Астрахань" (Управление образования администрации муниципального образования "Город Астрахань", Управление культуры администрации муниципального образования «Город Астрахань») | D28: Показатель 1. Объем потребления тепловой энергии муниципальными учреждениями социальной сферы | E28: т.у.т в год | F28: 24823.51 | G28: 24575.28 | H28: 23838.02 | I28: - | J28: 23122.88 | K28: - | L28: 22429.19 | M28: - | N28: 21756.32 | O28: - | P28: 21103.62 | Q28: - | R28: - | S28: - | T28: - | U28: - | V28: - | W28: - | X28: - | Y28: - | Z28: =P28 -> 21103.62
A29: 10 | B29: Задача 1.1. Оснащение приборами учета энергетических ресурсов муниципальных учреждений социальной сферы | C29: Управление по коммунальному хозяйству и благоустройству администрации муниципального образования "Город Астрахань" (Управление образования администрации муниципального образования "Город Астрахань", Управление культуры администрации муниципального образования «Город Астрахань») | D29: Показатель 1. Доля объектов социальной сферы, оснащенных приборами учета энергетических ресурсов, в общем количестве учреждений социальной сферы | E29: % | F29: 3.3 | G29: 10.4 | H29: 0 | I29: - | J29: 12.1 | K29: - | L29: 24.6 | M29: - | N29: 31.7 | O29: - | P29: 38.8 | Q29: - | R29: - | S29: - | T29: - | U29: - | V29: - | W29: - | X29: - | Y29: - | Z29: 38.8
A30: 11 | B30: Мероприятие 1.1.1. Реализация полномочий в сфере коммунального хозяйства | C30: Управление по коммунальному хозяйству и благоустройству администрации муниципального образования "Город Астрахань" (Управление образования администрации муниципального образования "Город Астрахань", Управление культуры администрации муниципального образования «Город Астрахань») | D30: Показатель 1. Количество муниципальных учреждений социальной сферы, оснащенных приборами учета энергетических ресурсов энергии в отчетный период | E30: шт. | F30: 6 | G30: 13 | H30: 0 | I30: - | J30: 9 | K30: - | L30: 16 | M30: - | N30: - | O30: - | P30: - | Q30: - | R30: - | S30: - | T30: - | U30: - | V30: - | W30: - | X30: - | Y30: - | Z30: =J30+L30 -> 25
A31: 12 | B31: Мероприятие 1.1.2. Проведение семинаров на тему "Практическое внедрение энергосервисных контрактов" | C31: Управление по коммунальному хозяйству и благоустройству администрации муниципального образования "Город Астрахань" | D31: Показатель 1. Количество муниципальных учреждений социальной сферы, представители которых приняли участие в семинарах | E31: ед. | F31: - | G31: - | H31: 1 | I31: - | J31: 1 | K31: - | L31: 1 | M31: - | N31: 1 | O31: - | P31: 1 | Q31: - | R31: - | S31: - | T31: - | U31: - | V31: - | W31: - | X31: - | Y31: - | Z31: 5
A32: 13 | B32: Мероприятие 1.1.3. Анализ потенциала энергоэффективности муниципальных учреждений | C32: Управление по коммунальному хозяйству и благоустройству администрации муниципального образования "Город Астрахань" | D32: Показатель 1. Количество подготовленных отчетов о проведенных аналитических мероприятиях | E32: ед. | F32: - | G32: - | H32: 10 | I32: - | J32: 12 | K32: - | L32: 14 | M32: - | N32: 16 | O32: - | P32: 18 | Q32: - | R32: - | S32: - | T32: - | U32: - | V32: - | W32: - | X32: - | Y32: - | Z32: 70
A33: 14 | B33: Мероприятие 1.1.4. Проведение конкурсов по энергосбережению и внедрению инновационных технологий среди учащихся муниципальных образовательных учреждений города Астрахани | C33: Управление по коммунальному хозяйству и благоустройству администрации муниципального образования "Город Астрахань" (Управление образования администрации муниципального образования "Город Астрахань") | D33: Показатель 1. Количество проведенных конкурсов по энергосбережению и внедрению инновационных технологий | E33: ед. | F33: - | G33: - | H33: 1 | I33: - | J33: 1 | K33: - | L33: 1 | M33: - | N33: 1 | O33: - | P33: 1 | Q33: - | R33: - | S33: - | T33: - | U33: - | V33: - | W33: - | X33: - | Y33: - | Z33: 5
A35: Подпрограмма 2 "Энергосбережение и повышение энергетической эффективности в системах коммунальной инфраструктуры"
A36: 15 | B36: Цель 1. Повышение энергетической эффективности в системах коммунальной инфраструктуры | C36: Управление по коммунальному хозяйству и благоустройству администрации муниципального образования "Город Астрахань" (МУП г. Астрахани "Астрводоканал", МУП г. Астрахани "Коммунэнерго", МКП г. Астрахани "Горсвет") | D36: Показатель 1. Объем потребления энергоресурсов, используемых в системах коммунальной инфраструктуры | E36: тыс. т.у.т в год | F36: 84.3 | G36: 84.3 | H36: 82.90 | I36: - | J36: 81.60 | K36: - | L36: 79.70 | M36: - | N36: 78.30 | O36: - | P36: 77.80 | Q36: - | R36: 77.1 | S36: - | T36: 76.32 | U36: - | V36: 76.32 | W36: - | X36: 76.32 | Y36: - | Z36: =X36 -> 76.32
A37: 16 | B37: Задача 1.1. Повышение энергетической эффективности в сфере водоснабжения и водоотведения | C37: Управление по коммунальному хозяйству и благоустройству администрации муниципального образования "Город Астрахань" (МУП г. Астрахани "Астрводоканал") | D37: Показатель 1. Объем потребления энергоресурсов, используемых муниципальными предприятиями для водоснабжения и водоотведения | E37: т.у.т в год | F37: 18892.62 | G37: 18892.62 | H37: 17804.34 | I37: - | J37: 16752.62 | K37: - | L37: 14846.81 | M37: - | N37: 13251.26 | O37: - | P37: - | Q37: - | R37: - | S37: - | T37: 11697.47 | U37: - | V37: - | W37: - | X37: - | Y37: - | Z37: =T37 -> 11697.47
D38: Показатель 2. Экономия энергоресурсов, используемых муниципальными предприятиями для водоснабжения и водоотведения | E38: тыс. кВт час | F38: - | G38: - | H38: 3159 | I38: - | J38: 3052.9 | K38: - | L38: 5532.1 | M38: - | N38: 4632.6 | O38: - | P38: - | Q38: - | R38: - | S38: - | T38: 842 | U38: - | V38: - | W38: - | X38: - | Y38: - | Z38: =H38+J38+L38+N38+T38 -> 17218.6
A39: 17 | B39: Мероприятие 1.1.1. Внедрение автоматических станций управления на ПНС и КНС с заменой насосного оборудования (20 ПНС и 3 КНС) | C39: Управление по коммунальному хозяйству и благоустройству администрации муниципального образования "Город Астрахань" (МУП г. Астрахани "Астрводоканал") | D39: Экономия электрической энергии, полученная в результате внедрения автоматических станций управления на ПНС и КНС | E39: тыс. кВт час | F39: - | G39: - | H39: 1629.00 | I39: - | J39: - | K39: - | L39: - | M39: - | N39: - | O39: - | P39: - | Q39: - | R39: - | S39: - | T39: - | U39: - | V39: - | W39: - | X39: - | Y39: - | Z39: 1629.00
A40: 18 | B40: Мероприятие 1.1.2. Внедрение автоматических станций управления на ПНС и КНС с заменой насосного оборудования | C40: Управление по коммунальному хозяйству и благоустройству администрации муниципального образования "Город Астрахань" (МУП г. Астрахани "Астрводоканал") | D40: Показатель 1. Экономия электрической энергии, полученная в результате внедрения автоматических станций управления на ПНС и КНС | E40: тыс. кВт час | F40: - | G40: - | H40: 1530.00 | I40: - | J40: - | K40: - | L40: - | M40: - | N40: - | O40: - | P40: - | Q40: - | R40: - | S40: - | T40: - | U40: - | V40: - | W40: - | X40: - | Y40: - | Z40: 1530.00
A41: 19 | B41: Мероприятие 1.1.3. Внедрение автоматических станций управления на КНС с заменой насосного оборудования | C41: Управление по коммунальному хозяйству и благоустройству администрации муниципального образования "Город Астрахань" (МУП г. Астрахани "Астрводоканал") | D41: Экономия электрической энергии, полученная в результате внедрения автоматических станций управления на КНС | E41: тыс. кВт час | F41: - | G41: - | H41: - | I41: - | J41: 3052.90 | K41: - | L41: - | M41: - | N41: - | O41: - | P41: - | Q41: - | R41: - | S41: - | T41: - | U41: - | V41: - | W41: - | X41: - | Y41: - | Z41: 3052.90
A42: 20 | B42: Мероприятие 1.1.4. Замена насосного оборудования и запорной арматуры для снижения потерь. Замена пусковой аппаратуры с применением ПЧ на насосах 1 - 2 подъема ЛОСВ, ПОСВ2, ПОСВ1, ВОС (1 - 2 подъемы) | C42: Управление по коммунальному хозяйству и благоустройству администрации муниципального образования "Город Астрахань" (МУП г. Астрахани "Астрводоканал") | D42: Показатель 1. Экономия электрической энергии, полученная в результате замены насосного оборудования и запорной арматуры | E42: тыс. кВт час | F42: - | G42: - | H42: - | I42: - | J42: - | K42: - | L42: 5532.10 | M42: - | N42: - | O42: - | P42: - | Q42: - | R42: - | T42: - | U42: - | V42: - | W42: - | X42: - | Y42: - | Z42: 5532.10
A43: 21 | B43: Мероприятие 1.1.5. Внедрение управляемых воздуходувок в системах биологической очистки на очистных сооружениях канализации (СОСК, ЮОСК, ПОСК1) | C43: Управление по коммунальному хозяйству и благоустройству администрации муниципального образования "Город Астрахань" (МУП г. Астрахани "Астрводоканал") | D43: Показатель 1. Экономия электрической энергии, полученная в результате внедрения управляемых воздуходувок в системах биологической очистки на очистных сооружениях канализации | E43: тыс. кВт час | F43: - | G43: - | H43: - | I43: - | J43: - | K43: - | L43: - | M43: - | N43: 4631.50 | O43: - | P43: - | Q43: - | R43: - | S43: - | T43: - | U43: - | V43: - | W43: - | X43: - | Y43: - | Z43: 4631.50
...

Sheet Финансирование (2)
N1: Приложение 3 к постановлению администрации муниципального образования «Городской округ город Астрахань» от ____________ №_______ Приложение 2 к муниципальной программе муниципального образования "Городской округ город Астрахань" "Энергосбережение и повышение энергетической эффективности муниципального образования «Городской округ город Астрахань»"
A2: РАСПРЕДЕЛЕНИЕ РАСХОДОВ НА РЕАЛИЗАЦИЮ МУНИЦИПАЛЬНОЙ ПРОГРАММЫ "ЭНЕРГОСБЕРЕЖЕНИЕ И ПОВЫШЕНИЕ ЭНЕРГЕТИЧЕСКОЙ ЭФФЕКТИВНОСТИ МУНИЦИПАЛЬНОГО ОБРАЗОВАНИЯ "ГОРОДСКОЙ ОКРУГ ГОРОД АСТРАХАНЬ""
A3: N п/п | B3: Цели, задачи, наименования программных мероприятий | C3: Ответственные исполнители, соисполнители (участники) | D3: Источники финансирования | E3: Коды классификации | I3: Планируемые расходы, руб.
E4: раздел, подраздел | F4: целевая статья | G4: вид расходов | H4: КОСГУ | I4: всего | J4: 2016 год | K4: 2017 год | L4: 2018 год | M4: 2019 год | N4: 2020 год | O4: 2021 год | P4: 2022 год | Q4: 2023 год | R4: 2024 год | S4: 2025 год | T4: 2026 год | U4: 2027 год | V4: 2028 год
B5: Муниципальная программа муниципального образования "Городской округ город Астрахань" "Энергосбережение и повышение энергетической эффективности муниципального образования «Городской округ город Астрахань»""
A6: 1 | B6: Муниципальная программа "Энергосбережение и повышение энергетической эффективности в городе Астрахани" | C6: Управление по коммунальному хозяйству и благоустройству администрации муниципального образования "Городской округ город Астрахань" (Управление образования администрации муниципального образования "Городской округ город Астрахань", Управление культуры администрации муниципального образования "Городской округ город Астрахань", Управление по капитальному строительству администрации муниципального образования "Городской округ город Астрахань", МУП г. Астрахани "Астрводоканал", МУП г. Астрахани "Коммунэнерго", МКП г. Астрахани "Горсвет") | D6: Бюджет МО "Городской округ город Астрахань", бюджет Астраханской области, внебюджетные источники | E6: х | F6: х | G6: х | H6: х | I6: =SUM(J6:V6) -> 2.3260087e+09 | J6: =J7 -> 55458000 | K6: =K7 -> 4.0405573e+08 | L6: =L7 -> 2.366077e+08 | M6: =M7 -> 1.8584015e+08 | N6: =N7 -> 97913077 | O6: =O7 -> 15319584 | P6: =P7 -> 1.9334056e+08 | Q6: =Q7 -> 2.3849603e+08 | ... V6: =V7 -> 155000000
A7: 2 | B7: Цель 1. Повышение эффективности использования энергетических ресурсов в муниципальном образовании "Городской округ город Астрахань" | C7: Управление по коммунальному хозяйству и благоустройству администрации муниципального образования "Городской округ город Астрахань" (Управление образования администрации муниципального образования "Городской округ город Астрахань", Управление культуры администрации муниципального образования "Городской округ город Астрахань", Управление по капитальному строительству администрации муниципального образования "Городской округ город Астрахань", МУП г. Астрахани "Астрводоканал", МУП г. Астрахани "Коммунэнерго", МКП г. Астрахани "Горсвет") | D7: Бюджет МО "Городской округ город Астрахань", бюджет Астраханской области, внебюджетные источники | E7: х | F7: х | G7: х | H7: х | I7: =SUM(J7:V7) -> 2.3260087e+09 | J7: =J11+J16+J17+J18+J19 -> 55458000 | K7: =K11+K16+K17+K18+K19 -> 4.0405573e+08 | L7: =L11+L16+L17+L18+L19 -> 2.366077e+08 | M7: =M11+M16+M17+M18+M19 -> 1.8584015e+08 | N7: =N11+N16+N17+N18+N19 -> 97913077 | O7: =O11+O16+O17+O18+O19 -> 15319584 | P7: =P11+P16+P17+P18+P19 -> 1.9334056e+08 | Q7: =Q11+Q16+Q17+Q18+Q19 -> 2.3849603e+08 | R7: 1.6442189e+08 | S7: =S11+S16+S17+S18+S19 -> 1.96656e+08 | T7: =T11+T16+T17+T18+T19 -> 227900000 | U7: =U11+U16+U17+U18+U19 -> 155000000 | V7: =V11+V16+V17+V18+V19 -> 155000000
D8: Внебюджетные источники | E8: х | F8: х | G8: х | H8: х | I8: =SUM(J8:V8) -> 722071000 | J8: =J32 -> 55458000 | K8: =K32 -> 401440000 | L8: =L32 -> 135173000 | M8: =M32 -> 110000000 | N8: =N32 -> 0 | O8: =O32 -> 0 | P8: =P32 -> 20000000 | Q8: =Q32 -> 0 | ... V8: =V32 -> 0
D9: Бюджет МО «Городской округ город Астрахань» | E9: х | F9: х | G9: х | H9: х | I9: =SUM(J9:V9) -> 1.2469979e+09 | J9: 0 | K9: =K21+K33 -> 2615729.4 | L9: =L21+L33 -> 2434702.5 | M9: =M21+M33 -> 41040148 | N9: =N21+N33 -> 9986076.9 | O9: =O21+O33 -> 15319584 | P9: =P21+P33 -> 1.3412056e+08 | Q9: =Q21+Q33 -> 1.4849603e+08 | R9: =R21+R33 -> 1.5842902e+08 | ... V9: =V21+V33 -> 155000000
D10: Бюджет Астраханской области | E10: х | F10: х | G10: х | H10: х | I10: =SUM(J10:V10) -> 3.5693987e+08 | J10: =J34 -> 0 | K10: =K34 -> 0 | L10: =L34 -> 99000000 | M10: =M34 -> 34800000 | N10: =N34 -> 87927000 | O10: =O34 -> 0 | P10: =P34 -> 39220000 | Q10: =Q34 -> 90000000 | ... V10: =V34 -> 0
B11: Задача 1.1. Формирование системы информационного просвещения населения муниципального образования "Городской округ город Астрахань" в области энергосбережения и повышения энергетической эффективности | C11: Управление по коммунальному хозяйству и благоустройству администрации муниципального образования "Городской округ город Астрахань" | D11: Не требует финансирования | E11: х | F11: х | G11: х | H11: х | I11: =SUM(J11:V11) -> 0 | J11: =J12 -> 0 | K11: =K12 -> 0 | L11: =L12 -> 0 | M11: =M12 -> 0 | N11: =N12 -> 0 | O11: =O12 -> 0 | P11: =P12 -> 0 | Q11: =Q12 -> 0 | ... V11: =V12 -> 0
A12: 4 | B12: Основное мероприятие 1.1.1. Повышение информированности общества об энергосберегающих технологиях и стимулирование формирования модели бережливого отношения населения к энергоресурсам | C12: Управление по коммунальному хозяйству и благоустройству администрации муниципального образования "Городской округ город Астрахань" | D12: Не требует финансирования | E12: х | F12: х | G12: х | H12: х | I12: =SUM(J12:V12) -> 0 | J12: =J13+J14+J15 -> 0 | K12: =K13+K14+K15 -> 0 | L12: =L13+L14+L15 -> 0 | M12: =M13 -> 0 | N12: =N13 -> 0 | O12: =O13 -> 0 | P12: =P13+P14+P15 -> 0 | Q12: =Q13 -> 0 | R12: =R13 -> 0 | S12: =S13 -> 0 | T12: =T13 -> 0 | U12: =U13 -> 0 | V12: =V13 -> 0
A13: 5 | B13: Мероприятие 1.1.1.1. Разработка рекомендаций по внедрению энергоэффективных технологий при строительстве, реконструкции и эксплуатации | C13: Управление по коммунальному хозяйству и благоустройству администрации муниципального образования "Городской округ город Астрахань" | D13: Не требует финансирования | E13: х | F13: х | G13: х | H13: х | I13: =SUM(J13:V13) -> 0 | J13: =J14 -> 0 | K13: =K14 -> 0 | L13: =L14 -> 0 | M13: =M14 -> 0 | N13: =N14 -> 0 | O13: =O14 -> 0 | Q13: =Q14 -> 0 | R13: =R14 -> 0 | S13: =S14 -> 0 | T13: =T14 -> 0 | U13: =U14 -> 0 | V13: =V14 -> 0
A14: 6 | B14: Мероприятие 1.1.1.2. Пропаганда сбережения энергии и сохранения энергоресурсов | C14: Управление по коммунальному хозяйству и благоустройству администрации муниципального образования "Городской округ город Астрахань" | D14: Не требует финансирования | E14: х | F14: х | G14: х | H14: х | I14: =SUM(J14:V14) -> 0 | J14: 0 | K14: 0 | L14: 0 | M14: =M15 -> 0 | N14: =N15 -> 0 | O14: =O15 -> 0 | Q14: =Q15 -> 0 | R14: =R15 -> 0 | S14: =S15 -> 0 | T14: =T15 -> 0 | U14: =U15 -> 0 | V14: =V15 -> 0
A15: 7 | B15: Мероприятие 1.1.1.3. Проведение анализа потребления энергоресурсов на территории города Астрахани | C15: Управление по коммунальному хозяйству и благоустройству администрации муниципального образования "Городской округ город Астрахань" | D15: Не требует финансирования | E15: х | F15: х | G15: х | H15: х | I15: =SUM(J15:V15) -> 0 | J15: 0 | K15: 0 | L15: 0 | M15: =M16 -> 0 | N15: =N16 -> 0 | O15: =O16 -> 0 | Q15: =Q16 -> 0 | R15: =R16 -> 0 | S15: =S16 -> 0 | T15: =T16 -> 0 | U15: =U16 -> 0 | V15: =V16 -> 0
A16: 8 | B16: Задача 1.2. Повышение энергетической эффективности на объектах социальной сферы | C16: Управление по коммунальному хозяйству и благоустройству администрации муниципального образования "Городской округ город Астрахань" (Управление образования администрации муниципального образования "Городской округ город Астрахань", Управление культуры администрации муниципального образования) | D16: Бюджет МО "Городской округ город Астрахань" | E16: х | F16: х | G16: х | H16: х | I16: =SUM(J16:V16) -> 4551431.9 | J16: =J21 -> 0 | K16: =K21 -> 2615729.4 | L16: =L21 -> 1935702.5 | M16: =M21 -> 0 | N16: =N21 -> 0 | O16: =O21 -> 0 | P16: =P21 -> 0 | Q16: =Q21 -> 0 | ... V16: =V21 -> 0
A17: 9 | B17: Задача 1.3. Повышение энергетической эффективности в системах коммунальной инфраструктуры | C17: Управление по коммунальному хозяйству и благоустройству администрации муниципального образования "Городской округ город Астрахань», Управление по капитальному строительству администрации муниципального образования "Городской округ город Астрахань", МУП г. Астрахани "Астрводоканал", МУП г. Астрахани "Коммунэнерго", МКП г. Астрахани "Горсвет") | D17: Внебюджетные источники | E17: х | F17: х | G17: х | H17: х | I17: =SUM(J17:V17) -> 722071000 | J17: =J32 -> 55458000 | K17: =K32 -> 401440000 | L17: =L32 -> 135173000 | M17: =M32 -> 110000000 | N17: =N32 -> 0 | O17: =O32 -> 0 | P17: =P32 -> 20000000 | Q17: =Q32 -> 0 | ... V17: =V32 -> 0
D18: Бюджет МО «Городской округ город Астрахань» | I18: =SUM(J18:V18) -> 1.2424464e+09 | J18: =J33 -> 0 | K18: =K33 -> 0 | L18: =L33 -> 499000 | M18: =M33 -> 41040148 | N18: =N33 -> 9986076.9 | O18: =O33 -> 15319584 | P18: =P33 -> 1.3412056e+08 | Q18: =Q33 -> 1.4849603e+08 | ... V18: =V33 -> 155000000
D19: Бюджет Астраханской области | E19: х | F19: х | G19: х | H19: х | I19: =SUM(J19:V19) -> 3.5693987e+08 | J19: =J34 -> 0 | K19: =K34 -> 0 | L19: =L34 -> 99000000 | M19: =M34 -> 34800000 | N19: =N34 -> 87927000 | O19: =O34 -> 0 | P19: =P34 -> 39220000 | Q19: =Q34 -> 90000000 | ... V19: =V34 -> 0
A20: Подпрограмма 1 "Энергоэффективность социальной сферы"
A21: 10 | B21: Цель 1. Повышение энергетической эффективности на объектах социальной сферы | C21: Управление по коммунальному хозяйству и благоустройству администрации муниципального образования "Городской округ город Астрахань", Управление образования администрации муниципального образования "Городской округ город Астрахань", Управление культуры администрации муниципального образования | D21: Бюджет МО "Городской округ город Астрахань" | E21: х | F21: х | G21: х | H21: х | I21: =SUM(J21:V21) -> 4551431.9 | J21: =J22 -> 0 | K21: =K22 -> 2615729.4 | L21: =L22 -> 1935702.5 | M21: =M22 -> 0 | N21: =N22 -> 0 | O21: =O22 -> 0 | P21: =P22 -> 0 | Q21: =Q22 -> 0 | ... V21: =V22 -> 0
A22: 11 | B22: Задача 1.1. Оснащение приборами учета энергетических ресурсов муниципальных учреждений социальной сферы | C22: Управление по коммунальному хозяйству и благоустройству администрации муниципального образования "Городской округ город Астрахань" (Управление образования администрации муниципального образования "Городской округ город Астрахань", Управление культуры администрации муниципального образования) | D22: Бюджет МО "Городской округ город Астрахань" | E22: х | F22: х | G22: х | H22: х | I22: =SUM(J22:V22) -> 4551431.9 | J22: =J23+J24+J25+J26 -> 0 | K22: =K23+K24+K25+K26 -> 2615729.4 | L22: =L23+L24+L25+L26 -> 1935702.5 | M22: =M23+M24+M25+M26 -> 0 | N22: =N23+N24+N25+N26 -> 0 | O22: =O23+O24+O25+O26 -> 0 | P22: =P23+P24+P25+P26 -> 0 | Q22: =Q23+Q24+Q25+Q26 -> 0 | ... V22: =V23+V24+V25+V26 -> 0
A23: 12 | B23: Мероприятие 1.1.1. Реализация полномочий в сфере коммунального хозяйства | C23: Управление по коммунальному хозяйству и благоустройству администрации муниципального образования "Городской округ город Астрахань" (Управление образования администрации муниципального образования "Городской округ город Астрахань", Управление культуры администрации муниципального образования) | D23: Бюджет МО "Городской округ город Астрахань" | E23: х | F23: х | G23: х | H23: х | I23: =SUM(J23:V23) -> 4551431.9 | J23: 0 | K23: 2615729.4 | L23: 1935702.5 | M23: 0 | N23: 0 | O23: 0 | P23: 0 | Q23: 0 | R23: 0 | S23: 0 | T23: 0 | U23: 0 | V23: 0
A24: 13 | B24: Мероприятие 1.1.2. Проведение семинаров на тему "Практическое внедрение энергосервисных контрактов" | C24: Управление по коммунальному хозяйству и благоустройству администрации муниципального образования "Городской округ город Астрахань" | D24: Не требует финансирования | E24: х | F24: х | G24: х | H24: х | I24: =SUM(J24:V24) -> 0 | J24: 0 | K24: 0 | L24: 0 | M24: 0 | N24: 0 | O24: 0 | P24: 0 | Q24: 0 | R24: 0 | S24: 0 | T24: 0 | U24: 0 | V24: 0
A25: 14 | B25: Мероприятие 1.1.3. Анализ потенциала энергоэффективности муниципальных учреждений | C25: Управление по коммунальному хозяйству и благоустройству администрации муниципального образования "Городской округ город Астрахань" | D25: Не требует финансирования | E25: х | F25: х | G25: х | H25: х | I25: =SUM(J25:V25) -> 0 | J25: 0 | K25: 0 | L25: 0 | M25: 0 | N25: 0 | O25: 0 | P25: 0 | Q25: 0 | R25: 0 | S25: 0 | T25: 0 | U25: 0 | V25: 0
A26: 15 | B26: Мероприятие 1.1.4. Проведение конкурсов по энергосбережению и внедрению инновационных технологий среди учащихся муниципальных образовательных учреждений города Астрахани | C26: Управление по коммунальному хозяйству и благоустройству администрации муниципального образования "Городской округ город Астрахань" (Управление образования администрации муниципального образования "Городской округ город Астрахань") | D26: Не требует финансирования | E26: х | F26: х | G26: х | H26: х | I26: =SUM(J26:V26) -> 0 | J26: 0 | K26: 0 | L26: 0 | M26: 0 | N26: 0 | O26: 0 | P26: 0 | Q26: 0 | R26: 0 | S26: 0 | T26: 0 | U26: 0 | V26: 0
B27: Итого по Подпрограмме 1, в том числе по источникам финансирования: | I27: =SUM(J27:V27) -> 4551431.9 | J27: =J21 -> 0 | K27: =K21 -> 2615729.4 | L27: =L21 -> 1935702.5 | M27: =M21 -> 0 | N27: =N21 -> 0 | O27: =O21 -> 0 | P27: =P21 -> 0 | Q27: =Q21 -> 0 | ... V27: =V21 -> 0
B28: бюджет муниципального образования "Городской округ город Астрахань": | I28: =SUM(J28:V28) -> 4551431.9 | J28: 0 | K28: =K21 -> 2615729.4 | L28: =L21 -> 1935702.5 | M28: =M21 -> 0 | N28: =N21 -> 0 | O28: =O21 -> 0 | P28: =P21 -> 0 | Q28: =Q21 -> 0 | R28: =R21 -> 0 | ... V28: =V21 -> 0
B29: внебюджетные источники | I29: =SUM(J29:V29) -> 0 | J29: 0 | K29: 0 | L29: 0 | M29: 0 | N29: 0 | O29: 0 | P29: 0 | Q29: 0 | R29: 0 | S29: 0 | T29: 0 | U29: 0 | V29: 0
A30: Подпрограмма 2 "Энергосбережение и повышение энергетической эффективности в системах коммунальной инфраструктуры"
A31: 16 | B31: Цель 1. Повышение энергетической эффективности в системах коммунальной инфраструктуры | C31: Управление по коммунальному хозяйству и благоустройству администрации муниципального образования "Городской округ город Астрахань" (МУП г. Астрахани "Астрводоканал", МУП г. Астрахани "Коммунэнерго", МКП г. Астрахани "Горсвет") Управление по капитальному строительству администрации муниципального образования «Городской округ город Астрахань» | D31: Всего, в том числе: | E31: х | F31: х | G31: х | H31: х | I31: =SUM(J31:V31) -> 2.3214573e+09 | J31: =SUM(J32:J34) -> 55458000 | K31: =SUM(K32:K34) -> 401440000 | L31: =SUM(L32:L34) -> 234672000 | M31: =SUM(M32:M34) -> 1.8584015e+08 | N31: =SUM(N32:N34) -> 97913077 | O31: =SUM(O32:O34) -> 15319584 | P31: =SUM(P32:P34) -> 1.9334056e+08 | Q31: =SUM(Q32:Q34) -> 2.3849603e+08 | ... V31: =SUM(V32:V34) -> 155000000
D32: Внебюджетные источники | E32: х | F32: х | G32: х | H32: х | I32: =SUM(J32:V32) -> 722071000 | J32: =J37+J40+J60+J79 -> 55458000 | K32: =K37+K40+K60+K79 -> 401440000 | L32: =L37+L40+L60+L79 -> 135173000 | M32: =M37+M40+M60+M79 -> 110000000 | N32: =N37+N40+N60+N79 -> 0 | O32: =O37+O40+O60+O79 -> 0 | P32: =P37+P40+P60+P77 -> 20000000 | Q32: =Q37+Q40+Q60+Q77 -> 0 | R32: =R37+R40+R60+R79 -> 0 | S32: =S37+S40+S60+S79 -> 0 | T32: =T37+T40+T60+T79 -> 0 | U32: =U37+U40+U60+U79 -> 0 | V32: =V37+V40+V60+V79 -> 0
D33: Бюджет МО«Городской округ город Астрахань» | E33: х | F33: х | G33: х | H33: х | I33: =SUM(J33:V33) -> 1.2424464e+09 | J33: =J38+J41+J61+J80 -> 0 | K33: =K38+K41+K61+K80 -> 0 | L33: =L38+L41+L61+L80 -> 499000 | M33: =M38+M41+M61+M80 -> 41040148 | N33: =N38+N41+N61+N80 -> 9986076.9 | O33: =O38+O41+O61+O80 -> 15319584 | P33: =P38+P41+P61+P78+P83 -> 1.3412056e+08 | Q33: =Q38+Q41+Q61+Q78+Q83 -> 1.4849603e+08 | R33: =R38+R41+R61+R80 -> 1.5842902e+08 | S33: =S38+S41+S61+S80 -> 1.96656e+08 | T33: =T38+T41+T61+T80 -> 227900000 | U33: =U38+U41+U61+U80 -> 155000000 | V33: =V38+V41+V61+V80 -> 155000000
D34: Бюджет Астраханской области | E34: х | F34: х | G34: х | H34: х | I34: =SUM(J34:V34) -> 3.5693987e+08 | J34: =J39+J42+J62 -> 0 | K34: =K39+K42+K62 -> 0 | L34: =L39+L42+L62 -> 99000000 | M34: =M39+M42+M62 -> 34800000 | N34: =N39+N42+N62 -> 87927000 | O34: =O39+O42+O62 -> 0 | P34: =P39+P42+P62 -> 39220000 | Q34: =Q39+Q42+Q62 -> 90000000 | ... V34: =V39+V42+V62 -> 0
I35: =SUM(J35:V35) -> 0
I36: =SUM(J36:V36) -> 0
A37: 17 | B37: Задача 1.1. Повышение энергетической эффективности в сфере водоснабжения и водоотведения | C37: Управление по капитальному строительству администрации муниципального образования «Городской округ город Астрахань» | D37: Внебюджетные источники | E37: х | F37: х | G37: х | H37: х | I37: =SUM(J37:V37) -> 0 | J37: 0 | K37: 0 | L37: 0 | M37: 0 | N37: 0 | O37: 0 | P37: 0 | Q37: 0 | R37: 0 | S37: 0 | T37: 0 | U37: 0 | V37: 0
D38: Бюджет МО «Городской округ город Астрахань» | E38: х | F38: х | G38: х | H38: х | I38: =SUM(J38:V38) -> 1773000 | J38: =J53+J55+J59 -> 0 | K38: =K53+K55+K59 -> 0 | L38: =L53+L55+L59 -> 0 | M38: =M53+M55+M59 -> 0 | N38: =N53+N55+N59 -> 1773000 | O38: =O53+O55+O59 -> 0 | P38: =P53+P55+P59 -> 0 | Q38: =Q53+Q55+Q59 -> 0 | ... V38: =V53+V55+V59 -> 0
D39: Бюджет Астраханской области | E39: х | F39: х | G39: х | H39: х | I39: =SUM(J39:V39) -> 17927000 | J39: =J54+J56 -> 0 | K39: =K54+K56 -> 0 | L39: =L54+L56 -> 0 | M39: =M54+M56 -> 0 | N39: =N54+N56 -> 17927000 | O39: =O54+O56 -> 0 | P39: =P54+P56 -> 0 | Q39: =Q54+Q56 -> 0 | ... V39: =V54+V56 -> 0
C40: Управление по коммунальному хозяйству и благоустройству администрации муниципального образования «Городской округ город Астрахань» | D40: Внебюджетные источники | I40: =SUM(J40:V40) -> 711654000 | J40: =J43+J44+J45+J46+J47+J48 -> 50265000 | K40: =K43+K44+K45+K46+K47+K48 -> 400000000 | L40: =L43+L44+L45+L46+L47+L48 -> 131389000 | M40: =M43+M44+M45+M46+M47+M48 -> 110000000 | N40: =N43+N44+N45+N46+N47+N48 -> 0 | O40: =O43+O44+O45+O46+O47+O48 -> 0 | P40: =P43+P44+P45+P46+P47+P48 -> 20000000 | Q40: =Q43+Q44+Q45+Q46+Q47+Q48 -> 0 | ... V40: =V43+V44+V45+V46+V47+V48 -> 0
...

Sheet Мероприятия (3)
T1: Приложение 2 к постановлению администрации муниципального образования «Городской округ город Астрахань» от ____________ №_______ Приложение 2 к муниципальной программе муниципального образования "Городской округ город Астрахань" "Энергосбережение и повышение энергетической эффективности муниципального образования «Городской округ город Астрахань»""
A2: ПЕРЕЧЕНЬ ПРОГРАММНЫХ МЕРОПРИЯТИЙ, ПОКАЗАТЕЛЕЙ (ИНДИКАТОРОВ) И РЕЗУЛЬТАТОВ МУНИЦИПАЛЬНОЙ ПРОГРАММЫ МУНИЦИПАЛЬНОГО ОБРАЗОВАНИЯ "ГОРОДСКОЙ ОКРУГ ГОРОД АСТРАХАНЬ" "ЭНЕРГОСБЕРЕЖЕНИЕ И ПОВЫШЕНИЕ ЭНЕРГЕТИЧЕСКОЙ ЭФФЕКТИВНОСТИ МУНИЦИПАЛЬНОГО ОБРАЗОВАНИЯ "ГОРОДСКОЙ ОКРУГ ГОРОД АСТРАХАНЬ""
A3: N п/п | B3: Цели, задачи, наименование программных мероприятий | C3: Ответственные исполнители, соисполнители (участники) | D3: Наименование показателя (индикатора) | E3: Ед. изм. | F3: Отчетный 2014 год | G3: Текущий 2015 год | H3: Планируемое значение показателя по годам реализации | AH3: Целевое значение показателя (конечный результат) за весь период реализации программы
H4: 2016 год | J4: 2017 год | L4: 2018 год | N4: 2019 год | P4: 2020 год | R4: 2021 год | T4: 2022 год | V4: 2023 год | X4: 2024 год | Z4: 2025 год | AB4: 2026 год | AD4: 2027 год | AF4: 2028 год
H5: всего | I5: в том числе на 01.07 | J5: всего | K5: в том числе на 01.07 | L5: всего | M5: в том числе на 01.07 | N5: всего | O5: в том числе на 01.07 | P5: всего | Q5: в том числе на 01.07 | R5: всего | S5: в том числе на 01.07 | T5: всего | U5: в том числе на 01.07 | V5: всего | W5: в том числе на 01.07 | X5: всего | Y5: в том числе на 01.07 | Z5: всего | AA5: в том числе на 01.07 | AB5: всего | AC5: в том числе на 01.07 | AD5: всего | AE5: в том числе на 01.07 | AF5: всего | AG5: в том числе на 01.07
B8: Муниципальная программа муниципального образования "Городской округ город Астрахань" "Энергосбережение и повышение энергетической эффективности муниципального образования «Городской округ город Астрахань»""
A9: 1 | B9: Цель 1. Повышение эффективности использования энергетических ресурсов в муниципальном образовании "Городской округ город Астрахань" | C9: Управление по коммунальному хозяйству и благоустройству администрации муниципального образования "Городской округ город Астрахань" | D9: Показатель 1. Удельная величина потребления энергоресурсов муниципальными бюджетными учреждениями | E9: Электроэнергии кВт ч на 1 кв. метр | F9: 23.28 | G9: 23.26 | H9: 22.56 | I9: - | J9: 21.82 | K9: - | L9: 21.06 | M9: - | N9: 20.42 | O9: - | P9: 20.4 | Q9: - | R9: 20.33 | S9: - | T9: 20.2 | U9: - | V9: 20.2 | W9: - | X9: 20.2 | Y9: - | Z9: 20.2 | AA9: - | AB9: 20.2 | AC9: - | AD9: 20.2 | AE9: - | AF9: 20.2 | AG9: - | AH9: 20.2
E10: холодной воды м3 на 1 кв. метр | F10: 1.68 | G10: 1.65 | H10: 1.63 | I10: - | J10: 1.57 | K10: - | L10: 1.52 | M10: - | N10: 1.48 | O10: - | P10: 1.43 | Q10: - | R10: 1.46 | S10: - | T10: 1.44 | U10: - | V10: 1.44 | W10: - | X10: 1.44 | Y10: - | Z10: 1.44 | AA10: - | AB10: 1.44 | AC10: - | AD10: 1.44 | AE10: - | AF10: 1.44 | AG10: - | AH10: 1.44
E11: тепловой энергии Гкал на 1 кв. метр | F11: 0.07 | G11: 0.06 | H11: 0.06 | I11: - | J11: 0.06 | K11: - | L11: 0.06 | M11: - | N11: 0.06 | O11: - | P11: 0.06 | Q11: - | R11: 0.06 | S11: - | T11: 0.06 | U11: - | V11: 0.06 | W11: - | X11: 0.06 | Y11: - | Z11: 0.06 | AA11: - | AB11: 0.06 | AC11: - | AD11: 0.06 | AE11: - | AF11: 0.06 | AG11: - | AH11: 0.06
E12: природного газа м3 на 1 человека населения | F12: - | G12: - | H12: - | I12: - | J12: - | K12: - | L12: - | M12: - | N12: - | O12: - | P12: 0.32 | Q12: - | R12: 0.31 | S12: - | T12: 0.31 | U12: - | V12: 0.31 | W12: - | X12: 0.31 | Y12: - | Z12: 0.31 | AA12: - | AB12: 0.31 | AC12: - | AD12: 0.31 | AE12: - | AF12: 0.31 | AG12: - | AH12: 0.31
D13: Показатель 2. Доля объема энергоресурсов, расчеты за которые осуществляются с использованием приборов учета, в общем объеме энергоресурсов, потребляемых на территории муниципального образования "Городской округ город Астрахань" | E13: Электроэнергия в % | F13: 99.77 | G13: 99.77 | H13: 99.77 | I13: - | J13: 99.77 | K13: - | L13: 99.77 | M13: - | N13: 99.77 | O13: - | P13: 99.77 | Q13: - | R13: 99.77 | S13: - | T13: 99.77 | U13: - | V13: 99.77 | W13: - | X13: 99.77 | Y13: - | Z13: 99.77 | AA13: - | AB13: 99.77 | AC13: - | AD13: 99.77 | AE13: - | AF13: 99.77 | AG13: - | AH13: 99.77
E14: тепловая энергия в % | F14: 96.89 | G14: 96.89 | H14: 96.91 | I14: - | J14: 96.71 | K14: - | L14: 96.71 | M14: - | N14: 96.72 | O14: - | P14: 96.73 | Q14: - | R14: 96.74 | S14: - | T14: 96.75 | U14: - | V14: 96.75 | W14: - | X14: 96.75 | Y14: - | Z14: 96.75 | AA14: - | AB14: 96.75 | AC14: - | AD14: 96.75 | AE14: - | AF14: 96.75 | AG14: - | AH14: 96.75
E15: холодной воды в % | F15: 60.54 | G15: 60.54 | H15: 61.00 | I15: - | J15: 62.00 | K15: - | L15: 63.00 | M15: - | N15: 64.00 | O15: - | P15: 65.00 | Q15: - | R15: 66 | S15: - | T15: 67 | U15: - | V15: 67 | W15: - | X15: 67 | Y15: - | Z15: 67 | AA15: - | AB15: 67 | AC15: - | AD15: 67 | AE15: - | AF15: 67 | AG15: - | AH15: 67.00
E16: природного газа в % | F16: 64.94 | G16: 64.94 | H16: 64.94 | I16: - | J16: 66.00 | K16: - | L16: 66.00 | M16: - | N16: 66.00 | O16: - | P16: 67.00 | Q16: - | R16: 67 | S16: - | T16: 67 | U16: - | V16: 67 | W16: - | X16: 67 | Y16: - | Z16: 67 | AA16: - | AB16: 67 | AC16: - | AD16: 67 | AE16: - | AF16: 67 | AG16: - | AH16: 67.00
A17: 2 | B17: Задача 1.1. Формирование системы информационного просвещения населения муниципального образования "Городской округ город Астрахань" в области энергосбережения и повышения энергетической эффективности | C17: Управление по коммунальному хозяйству и благоустройству администрации муниципального образования "Городской округ город Астрахань" | D17: Показатель 1. Удельная величина потребления энергоресурсов в многоквартирных домах | E17: электроэнергии в кВт ч на 1 проживающего | F17: 719.68 | G17: 720.2 | H17: 719.53 | I17: - | J17: 712.52 | K17: - | L17: 708.46 | M17: - | N17: 704.92 | O17: - | P17: 701.39 | Q17: - | R17: - | S17: - | T17: - | U17: - | V17: - | W17: - | X17: - | Y17: - | Z17: - | AA17: - | AB17: - | AC17: - | AD17: - | AE17: - | AF17: - | AG17: - | AH17: =P17 -> 701.39
