Workbook

Sheet Export1
A1: № пп | B1: Адрес | C1: Кадастровый номер | D1: Разрешенное использование | E1: Площадь | F1: Номер в реестре | G1: Землепользователь
B2: д. 2а, р.п. Ильинка, ул. Пионерская, 2а | C2: 30:04:020101:22 | D2: Объекты дошкольного, начального и среднего общего образования (для размещения школы) | E2: 14689 | F2: П.1.5.000000490 | G2: МБОУ г.Астрахани "Основная общеобразовательная школа "16"
B3: Астраханская обл., Наримановский р-н, северо-западнее МЖС "Наримановская" | C3: 30:08:000000:1215 | D3: - | E3: 76852 | F3: 0
B4: =[1]Лист1!B197 -> Астраханская область, Наримановский район, северо-западнее МЖС "Наримановская" | C4: 30:08:000000:1395 | D4: для индивидуального жилищного строительства | E4: 600 | F4: 0
B5: =[1]Лист1!B157 -> Астраханская область, Наримановский район, северо-западнее МЖС "Наримановская" | C5: 30:08:000000:1396 | D5: для индивидуального жилищного строительства | E5: 600 | F5: 0
B6: =[1]Лист1!B166 -> Астраханская область, Наримановский район, северо-западнее МЖС "Наримановская" | C6: 30:08:000000:1397 | D6: для индивидуального жилищного строительства | E6: 600 | F6: 0
B7: =[1]Лист1!B148 -> Астраханская область, Наримановский район, северо-западнее МЖС "Наримановская" | C7: 30:08:100104:1325 | D7: для индивидуального жилищного строительства | E7: 600 | F7: 0
B8: =[1]Лист1!B10 -> Астраханская область, Наримановский район, северо-западнее МЖС "Наримановская" | C8: 30:08:100201:1336 | D8: для индивидуального жилищного строительства | E8: 600 | F8: 0
B9: =[1]Лист1!B101 -> Астраханская область, Наримановский район, северо-западнее МЖС "Наримановская" | C9: 30:08:100201:1338 | D9: для индивидуального жилищного строительства | E9: 600 | F9: 0
B10: =[1]Лист1!B102 -> Астраханская область, Наримановский район, северо-западнее МЖС "Наримановская" | C10: 30:08:100201:1339 | D10: для индивидуального жилищного строительства | E10: 600 | F10: 0
B11: =[1]Лист1!B103 -> Астраханская область, Наримановский район, северо-западнее МЖС "Наримановская" | C11: 30:08:100201:1340 | D11: для индивидуального жилищного строительства | E11: 600 | F11: 0
B12: =[1]Лист1!B104 -> Астраханская область, Наримановский район, северо-западнее МЖС "Наримановская" | C12: 30:08:100201:1341 | D12: для индивидуального жилищного строительства | E12: 600 | F12: 0
B13: =[1]Лист1!B106 -> Астраханская область, Наримановский район, северо-западнее МЖС "Наримановская" | C13: 30:08:100201:1343 | D13: для индивидуального жилищного строительства | E13: 600 | F13: 0
B14: =[1]Лист1!B108 -> Астраханская область, Наримановский район, северо-западнее МЖС "Наримановская" | C14: 30:08:100201:1345 | D14: для индивидуального жилищного строительства | E14: 600 | F14: 0
B15: =[1]Лист1!B11 -> Астраханская область, Наримановский район, северо-западнее МЖС "Наримановская" | C15: 30:08:100201:1347 | D15: для индивидуального жилищного строительства | E15: 600 | F15: 0
B16: =[1]Лист1!B110 -> Астраханская область, Наримановский район, северо-западнее МЖС "Наримановская" | C16: 30:08:100201:1348 | D16: для индивидуального жилищного строительства | E16: 600 | F16: 0
B17: =[1]Лист1!B114 -> Астраханская область, Наримановский район, северо-западнее МЖС "Наримановская" | C17: 30:08:100201:1352 | D17: для индивидуального жилищного строительства | E17: 600 | F17: 0
B18: =[1]Лист1!B115 -> Астраханская область, Наримановский район, северо-западнее МЖС "Наримановская" | C18: 30:08:100201:1353 | D18: для индивидуального жилищного строительства | E18: 600 | F18: 0
B19: =[1]Лист1!B118 -> Астраханская область, Наримановский район, северо-западнее МЖС "Наримановская" | C19: 30:08:100201:1356 | D19: для индивидуального жилищного строительства | E19: 600 | F19: 0
B20: =[1]Лист1!B119 -> Астраханская область, Наримановский район, северо-западнее МЖС "Наримановская" | C20: 30:08:100201:1357 | D20: для индивидуального жилищного строительства | E20: 600 | F20: 0
B21: =[1]Лист1!B12 -> Астраханская область, Наримановский район, северо-западнее МЖС "Наримановская" | C21: 30:08:100201:1358 | D21: для индивидуального жилищного строительства | E21: 600 | F21: 0
B22: =[1]Лист1!B121 -> Астраханская область, Наримановский район, северо-западнее МЖС "Наримановская" | C22: 30:08:100201:1360 | D22: для индивидуального жилищного строительства | E22: 600 | F22: 0
B23: =[1]Лист1!B122 -> Астраханская область, Наримановский район, северо-западнее МЖС "Наримановская" | C23: 30:08:100201:1361 | D23: для индивидуального жилищного строительства | E23: 600 | F23: 0
B24: =[1]Лист1!B123 -> Астраханская область, Наримановский район, северо-западнее МЖС "Наримановская" | C24: 30:08:100201:1362 | D24: для индивидуального жилищного строительства | E24: 600 | F24: 0
B25: =[1]Лист1!B124 -> Астраханская область, Наримановский район, северо-западнее МЖС "Наримановская" | C25: 30:08:100201:1363 | D25: для индивидуального жилищного строительства | E25: 600 | F25: 0
B26: =[1]Лист1!B125 -> Астраханская область, Наримановский район, северо-западнее МЖС "Наримановская" | C26: 30:08:100201:1364 | D26: для индивидуального жилищного строительства | E26: 600 | F26: 0
B27: =[1]Лист1!B127 -> Астраханская область, Наримановский район, северо-западнее МЖС "Наримановская" | C27: 30:08:100201:1366 | D27: для индивидуального жилищного строительства | E27: 600 | F27: 0
B28: =[1]Лист1!B128 -> Астраханская область, Наримановский район, северо-западнее МЖС "Наримановская" | C28: 30:08:100201:1367 | D28: для индивидуального жилищного строительства | E28: 600 | F28: 0
B29: =[1]Лист1!B129 -> Астраханская область, Наримановский район, северо-западнее МЖС "Наримановская" | C29: 30:08:100201:1368 | D29: для индивидуального жилищного строительства | E29: 600 | F29: 0
B30: =[1]Лист1!B130 -> Астраханская область, Наримановский район, северо-западнее МЖС "Наримановская" | C30: 30:08:100201:1370 | D30: для индивидуального жилищного строительства | E30: 600 | F30: 0
B31: =[1]Лист1!B132 -> Астраханская область, Наримановский район, северо-западнее МЖС "Наримановская" | C31: 30:08:100201:1372 | D31: для индивидуального жилищного строительства | E31: 600 | F31: 0
B32: =[1]Лист1!B133 -> Астраханская область, Наримановский район, северо-западнее МЖС "Наримановская" | C32: 30:08:100201:1373 | D32: для индивидуального жилищного строительства | E32: 600 | F32: 0
B33: =[1]Лист1!B135 -> Астраханская область, Наримановский район, северо-западнее МЖС "Наримановская" | C33: 30:08:100201:1375 | D33: для индивидуального жилищного строительства | E33: 600 | F33: 0
B34: =[1]Лист1!B136 -> Астраханская область, Наримановский район, северо-западнее МЖС "Наримановская" | C34: 30:08:100201:1376 | D34: для индивидуального жилищного строительства | E34: 600 | F34: 0
B35: =[1]Лист1!B139 -> Астраханская область, Наримановский район, северо-западнее МЖС "Наримановская" | C35: 30:08:100201:1379 | D35: для индивидуального жилищного строительства | E35: 600 | F35: 0
B36: =[1]Лист1!B140 -> Астраханская область, Наримановский район, северо-западнее МЖС "Наримановская" | C36: 30:08:100201:1381 | D36: для индивидуального жилищного строительства | E36: 600 | F36: 0
B37: =[1]Лист1!B141 -> Астраханская область, Наримановский район, северо-западнее МЖС "Наримановская" | C37: 30:08:100201:1382 | D37: для индивидуального жилищного строительства | E37: 600 | F37: 0
B38: =[1]Лист1!B142 -> Астраханская область, Наримановский район, северо-западнее МЖС "Наримановская" | C38: 30:08:100201:1383 | D38: для индивидуального жилищного строительства | E38: 600 | F38: 0
B39: =[1]Лист1!B143 -> Астраханская область, Наримановский район, северо-западнее МЖС "Наримановская" | C39: 30:08:100201:1384 | D39: для индивидуального жилищного строительства | E39: 600 | F39: 0
B40: =[1]Лист1!B145 -> Астраханская область, Наримановский район, северо-западнее МЖС "Наримановская" | C40: 30:08:100201:1386 | D40: для индивидуального жилищного строительства | E40: 600 | F40: 0
B41: =[1]Лист1!B149 -> Астраханская область, Наримановский район, северо-западнее МЖС "Наримановская" | C41: 30:08:100201:1387 | D41: для индивидуального жилищного строительства | E41: 600 | F41: 0
B42: =[1]Лист1!B15 -> Астраханская область, Наримановский район, северо-западнее МЖС "Наримановская" | C42: 30:08:100201:1388 | D42: для индивидуального жилищного строительства | E42: 600 | F42: 0
B43: =[1]Лист1!B151 -> Астраханская область, Наримановский район, северо-западнее МЖС "Наримановская" | C43: 30:08:100201:1390 | D43: для индивидуального жилищного строительства | E43: 600 | F43: 0
B44: =[1]Лист1!B152 -> Астраханская область, Наримановский район, северо-западнее МЖС "Наримановская" | C44: 30:08:100201:1391 | D44: для индивидуального жилищного строительства | E44: 600 | F44: 0
B45: =[1]Лист1!B153 -> Астраханская область, Наримановский район, северо-западнее МЖС "Наримановская" | C45: 30:08:100201:1392 | D45: для индивидуального жилищного строительства | E45: 600 | F45: 0
B46: =[1]Лист1!B154 -> Астраханская область, Наримановский район, северо-западнее МЖС "Наримановская" | C46: 30:08:100201:1393 | D46: для индивидуального жилищного строительства | E46: 600 | F46: 0
B47: =[1]Лист1!B155 -> Астраханская область, Наримановский район, северо-западнее МЖС "Наримановская" | C47: 30:08:100201:1394 | D47: для индивидуального жилищного строительства | E47: 600 | F47: 0
B48: =[1]Лист1!B156 -> Астраханская область, Наримановский район, северо-западнее МЖС "Наримановская" | C48: 30:08:100201:1395 | D48: для индивидуального жилищного строительства | E48: 600 | F48: 0
B49: =[1]Лист1!B16 -> Астраханская область, Наримановский район, северо-западнее МЖС "Наримановская" | C49: 30:08:100201:1397 | D49: для индивидуального жилищного строительства | E49: 600 | F49: 0
B50: =[1]Лист1!B158 -> Астраханская область, Наримановский район, северо-западнее МЖС "Наримановская" | C50: 30:08:100201:1398 | D50: для индивидуального жилищного строительства | E50: 600 | F50: 0
B51: =[1]Лист1!B159 -> Астраханская область, Наримановский район, северо-западнее МЖС "Наримановская" | C51: 30:08:100201:1399 | D51: для индивидуального жилищного строительства | E51: 600 | F51: 0
B52: =[1]Лист1!B160 -> Астраханская область, Наримановский район, северо-западнее МЖС "Наримановская" | C52: 30:08:100201:1400 | D52: для индивидуального жилищного строительства | E52: 600 | F52: 0
B53: =[1]Лист1!B161 -> Астраханская область, Наримановский район, северо-западнее МЖС "Наримановская" | C53: 30:08:100201:1401 | D53: для индивидуального жилищного строительства | E53: 600 | F53: 0
B54: =[1]Лист1!B162 -> Астраханская область, Наримановский район, северо-западнее МЖС "Наримановская" | C54: 30:08:100201:1402 | D54: для индивидуального жилищного строительства | E54: 600 | F54: 0
B55: =[1]Лист1!B163 -> Астраханская область, Наримановский район, северо-западнее МЖС "Наримановская" | C55: 30:08:100201:1403 | D55: для индивидуального жилищного строительства | E55: 600 | F55: 0
B56: =[1]Лист1!B164 -> Астраханская область, Наримановский район, северо-западнее МЖС "Наримановская" | C56: 30:08:100201:1404 | D56: для индивидуального жилищного строительства | E56: 600 | F56: 0
B57: =[1]Лист1!B165 -> Астраханская область, Наримановский район, северо-западнее МЖС "Наримановская" | C57: 30:08:100201:1405 | D57: для индивидуального жилищного строительства | E57: 600 | F57: 0
B58: =[1]Лист1!B167 -> Астраханская область, Наримановский район, северо-западнее МЖС "Наримановская" | C58: 30:08:100201:1406 | D58: для индивидуального жилищного строительства | E58: 600 | F58: 0
B59: =[1]Лист1!B169 -> Астраханская область, Наримановский район, северо-западнее МЖС "Наримановская" | C59: 30:08:100201:1409 | D59: для индивидуального жилищного строительства | E59: 600 | F59: 0
B60: =[1]Лист1!B170 -> Астраханская область, Наримановский район, северо-западнее МЖС "Наримановская" | C60: 30:08:100201:1410 | D60: для индивидуального жилищного строительства | E60: 600 | F60: 0
B61: =[1]Лист1!B171 -> Астраханская область, Наримановский район, северо-западнее МЖС "Наримановская" | C61: 30:08:100201:1411 | D61: для индивидуального жилищного строительства | E61: 600 | F61: 0
B62: =[1]Лист1!B173 -> Астраханская область, Наримановский район, северо-западнее МЖС "Наримановская" | C62: 30:08:100201:1413 | D62: для индивидуального жилищного строительства | E62: 600 | F62: 0
B63: =[1]Лист1!B174 -> Астраханская область, Наримановский район, северо-западнее МЖС "Наримановская" | C63: 30:08:100201:1414 | D63: для индивидуального жилищного строительства | E63: 600 | F63: 0
B64: =[1]Лист1!B175 -> Астраханская область, Наримановский район, северо-западнее МЖС "Наримановская" | C64: 30:08:100201:1415 | D64: для индивидуального жилищного строительства | E64: 600 | F64: 0
B65: =[1]Лист1!B176 -> Астраханская область, Наримановский район, северо-западнее МЖС "Наримановская" | C65: 30:08:100201:1416 | D65: для индивидуального жилищного строительства | E65: 600 | F65: 0
B66: =[1]Лист1!B177 -> Астраханская область, Наримановский район, северо-западнее МЖС "Наримановская" | C66: 30:08:100201:1417 | D66: для индивидуального жилищного строительства | E66: 600 | F66: 0
B67: =[1]Лист1!B18 -> Астраханская область, Наримановский район, северо-западнее МЖС "Наримановская" | C67: 30:08:100201:1418 | D67: для индивидуального жилищного строительства | E67: 600 | F67: 0
B68: =[1]Лист1!B180 -> Астраханская область, Наримановский район, северо-западнее МЖС "Наримановская" | C68: 30:08:100201:1421 | D68: для индивидуального жилищного строительства | E68: 600 | F68: 0
B69: =[1]Лист1!B181 -> Астраханская область, Наримановский район, северо-западнее МЖС "Наримановская" | C69: 30:08:100201:1422 | D69: для индивидуального жилищного строительства | E69: 600 | F69: 0
B70: =[1]Лист1!B182 -> Астраханская область, Наримановский район, северо-западнее МЖС "Наримановская" | C70: 30:08:100201:1423 | D70: для индивидуального жилищного строительства | E70: 600 | F70: 0
B71: =[1]Лист1!B183 -> Астраханская область, Наримановский район, северо-западнее МЖС "Наримановская" | C71: 30:08:100201:1424 | D71: для индивидуального жилищного строительства | E71: 600 | F71: 0
B72: =[1]Лист1!B184 -> Астраханская область, Наримановский район, северо-западнее МЖС "Наримановская" | C72: 30:08:100201:1425 | D72: для индивидуального жилищного строительства | E72: 600 | F72: 0
B73: =[1]Лист1!B185 -> Астраханская область, Наримановский район, северо-западнее МЖС "Наримановская" | C73: 30:08:100201:1426 | D73: для индивидуального жилищного строительства | E73: 600 | F73: 0
B74: =[1]Лист1!B187 -> Астраханская область, Наримановский район, северо-западнее МЖС "Наримановская" | C74: 30:08:100201:1428 | D74: для индивидуального жилищного строительства | E74: 600 | F74: 0
B75: =[1]Лист1!B19 -> Астраханская область, Наримановский район, северо-западнее МЖС "Наримановская" | C75: 30:08:100201:1429 | D75: для индивидуального жилищного строительства | E75: 600 | F75: 0
B76: =[1]Лист1!B190 -> Астраханская область, Наримановский район, северо-западнее МЖС "Наримановская" | C76: 30:08:100201:1432 | D76: для индивидуального жилищного строительства | E76: 600 | F76: 0
B77: =[1]Лист1!B191 -> Астраханская область, Наримановский район, северо-западнее МЖС "Наримановская" | C77: 30:08:100201:1433 | D77: для индивидуального жилищного строительства | E77: 600 | F77: 0
B78: =[1]Лист1!B192 -> Астраханская область, Наримановский район, северо-западнее МЖС "Наримановская" | C78: 30:08:100201:1434 | D78: для индивидуального жилищного строительства | E78: 600 | F78: 0
B79: =[1]Лист1!B194 -> Астраханская область, Наримановский район, северо-западнее МЖС "Наримановская" | C79: 30:08:100201:1436 | D79: для индивидуального жилищного строительства | E79: 600 | F79: 0
B80: =[1]Лист1!B195 -> Астраханская область, Наримановский район, северо-западнее МЖС "Наримановская" | C80: 30:08:100201:1437 | D80: для индивидуального жилищного строительства | E80: 600 | F80: 0
B81: =[1]Лист1!B196 -> Астраханская область, Наримановский район, северо-западнее МЖС "Наримановская" | C81: 30:08:100201:1438 | D81: для индивидуального жилищного строительства | E81: 600 | F81: 0
B82: =[1]Лист1!B2 -> Астраханская область, Наримановский район, северо-западнее МЖС "Наримановская | C82: 30:08:100201:1439 | D82: для индивидуального жилищного строительства | E82: 600 | F82: 0
B83: =[1]Лист1!B20 -> Астраханская область, Наримановский район, северо-западнее МЖС "Наримановская" | C83: 30:08:100201:1440 | D83: для индивидуального жилищного строительства | E83: 600 | F83: 0
B84: =[1]Лист1!B23 -> Астраханская область, Наримановский район, северо-западнее МЖС "Наримановская" | C84: 30:08:100201:1443 | D84: для индивидуального жилищного строительства | E84: 600 | F84: 0
B85: =[1]Лист1!B25 -> Астраханская область, Наримановский район, северо-западнее МЖС "Наримановская" | C85: 30:08:100201:1445 | D85: для индивидуального жилищного строительства | E85: 600 | F85: 0
B86: =[1]Лист1!B26 -> Астраханская область, Наримановский район, северо-западнее МЖС "Наримановская" | C86: 30:08:100201:1446 | D86: для индивидуального жилищного строительства | E86: 600 | F86: 0
B87: =[1]Лист1!B29 -> Астраханская область, Наримановский район, северо-западнее МЖС "Наримановская" | C87: 30:08:100201:1449 | D87: для индивидуального жилищного строительства | E87: 600 | F87: 0
B88: =[1]Лист1!B33 -> Астраханская область, Наримановский район, северо-западнее МЖС "Наримановская" | C88: 30:08:100201:1454 | D88: для индивидуального жилищного строительства | E88: 600 | F88: 0
B89: =[1]Лист1!B36 -> Астраханская область, Наримановский район, северо-западнее МЖС "Наримановская" | C89: 30:08:100201:1457 | D89: для индивидуального жилищного строительства | E89: 600 | F89: 0
B90: =[1]Лист1!B37 -> Астраханская область, Наримановский район, северо-западнее МЖС "Наримановская" | C90: 30:08:100201:1458 | D90: для индивидуального жилищного строительства | E90: 600 | F90: 0
B91: =[1]Лист1!B38 -> Астраханская область, Наримановский район, северо-западнее МЖС "Наримановская" | C91: 30:08:100201:1459 | D91: для индивидуального жилищного строительства | E91: 600 | F91: 0
B92: =[1]Лист1!B39 -> Астраханская область, Наримановский район, северо-западнее МЖС "Наримановская" | C92: 30:08:100201:1460 | D92: для индивидуального жилищного строительства | E92: 600 | F92: 0
B93: =[1]Лист1!B4 -> Астраханская область, Наримановский район, северо-западнее МЖС "Наримановская" | C93: 30:08:100201:1461 | D93: для индивидуального жилищного строительства | E93: 600 | F93: 0
B94: =[1]Лист1!B41 -> Астраханская область, Наримановский район, северо-западнее МЖС "Наримановская" | C94: 30:08:100201:1463 | D94: для индивидуального жилищного строительства | E94: 600 | F94: 0
B95: =[1]Лист1!B42 -> Астраханская область, Наримановский район, северо-западнее МЖС "Наримановская" | C95: 30:08:100201:1464 | D95: для индивидуального жилищного строительства | E95: 600 | F95: 0
B96: =[1]Лист1!B43 -> Астраханская область, Наримановский район, северо-западнее МЖС "Наримановская" | C96: 30:08:100201:1465 | D96: для индивидуального жилищного строительства | E96: 600 | F96: 0
B97: =[1]Лист1!B44 -> Астраханская область, Наримановский район, северо-западнее МЖС "Наримановская" | C97: 30:08:100201:1466 | D97: для индивидуального жилищного строительства | E97: 600 | F97: 0
B98: =[1]Лист1!B46 -> Астраханская область, Наримановский район, северо-западнее МЖС "Наримановская" | C98: 30:08:100201:1468 | D98: для индивидуального жилищного строительства | E98: 600 | F98: 0
B99: =[1]Лист1!B5 -> Астраханская область, Наримановский район, северо-западнее МЖС "Наримановская" | C99: 30:08:100201:1472 | D99: для индивидуального жилищного строительства | E99: 600 | F99: 0
B100: =[1]Лист1!B50 -> Астраханская область, Наримановский район, северо-западнее МЖС "Наримановская" | C100: 30:08:100201:1473 | D100: для индивидуального жилищного строительства | E100: 600 | F100: 0
...
