Workbook

Sheet Export1
A1: № пп | B1: Адрес | C1: Кадастровый номер | D1: Разрешенное использование | E1: Площадь | F1: Номер в реестре | G1: Землепользователь
B2: д. 2а, р.п. Ильинка, ул. Пионерская, 2а | C2: 30:04:020101:22 | D2: Объекты дошкольного, начального и среднего общего образования (для размещения школы) | E2: 14689 | F2: П.1.5.000000490 | G2: МБОУ г.Астрахани "Основная общеобразовательная школа "16"
B3: Астраханская обл., Наримановский р-н, северо-западнее МЖС "Наримановская" | C3: 30:08:000000:1215 | D3: - | E3: 76852 | F3: 0
B4: =[1]Лист1!B197 -> Астраханская область, Наримановский район, северо-западнее МЖС "Наримановская" | C4: 30:08:000000:1395 | D4: для индивидуального жилищного строительства | E4: 600 | F4: 0
B5: =[1]Лист1!B157 -> Астраханская область, Наримановский район, северо-западнее МЖС "Наримановская" | C5: 30:08:000000:1396 | D5: для индивидуального жилищного строительства | E5: 600 | F5: 0
B6: =[1]Лист1!B166 -> Астраханская область, Наримановский район, северо-западнее МЖС "Наримановская" | C6: 30:08:000000:1397 | D6: для индивидуального жилищного строительства | E6: 600 | F6: 0
B7: =[1]Лист1!B148 -> Астраханская область, Наримановский район, северо-западнее МЖС "Наримановская" | C7: 30:08:100104:1325 | D7: для индивидуального жилищного строительства | E7: 600 | F7: 0
B8: =[1]Лист1!B10 -> Астраханская область, Наримановский район, северо-западнее МЖС "Наримановская" | C8: 30:08:100201:1336 | D8: для индивидуального жилищного строительства | E8: 600 | F8: 0
B9: =[1]Лист1!B101 -> Астраханская область, Наримановский район, северо-западнее МЖС "Наримановская" | C9: 30:08:100201:1338 | D9: для индивидуального жилищного строительства | E9: 600 | F9: 0
B10: =[1]Лист1!B102 -> Астраханская область, Наримановский район, северо-западнее МЖС "Наримановская" | C10: 30:08:100201:1339 | D10: для индивидуального жилищного строительства | E10: 600 | F10: 0
B11: =[1]Лист1!B103 -> Астраханская область, Наримановский район, северо-западнее МЖС "Наримановская" | C11: 30:08:100201:1340 | D11: для индивидуального жилищного строительства | E11: 600 | F11: 0
B12: =[1]Лист1!B104 -> Астраханская область, Наримановский район, северо-западнее МЖС "Наримановская" | C12: 30:08:100201:1341 | D12: для индивидуального жилищного строительства | E12: 600 | F12: 0
B13: =[1]Лист1!B106 -> Астраханская область, Наримановский район, северо-западнее МЖС "Наримановская" | C13: 30:08:100201:1343 | D13: для индивидуального жилищного строительства | E13: 600 | F13: 0
B14: =[1]Лист1!B108 -> Астраханская область, Наримановский район, северо-западнее МЖС "Наримановская" | C14: 30:08:100201:1345 | D14: для индивидуального жилищного строительства | E14: 600 | F14: 0
B15: =[1]Лист1!B11 -> Астраханская область, Наримановский район, северо-западнее МЖС "Наримановская" | C15: 30:08:100201:1347 | D15: для индивидуального жилищного строительства | E15: 600 | F15: 0
B16: =[1]Лист1!B110 -> Астраханская область, Наримановский район, северо-западнее МЖС "Наримановская" | C16: 30:08:100201:1348 | D16: для индивидуального жилищного строительства | E16: 600 | F16: 0
B17: =[1]Лист1!B114 -> Астраханская область, Наримановский район, северо-западнее МЖС "Наримановская" | C17: 30:08:100201:1352 | D17: для индивидуального жилищного строительства | E17: 600 | F17: 0
B18: =[1]Лист1!B115 -> Астраханская область, Наримановский район, северо-западнее МЖС "Наримановская" | C18: 30:08:100201:1353 | D18: для индивидуального жилищного строительства | E18: 600 | F18: 0
B19: =[1]Лист1!B118 -> Астраханская область, Наримановский район, северо-западнее МЖС "Наримановская" | C19: 30:08:100201:1356 | D19: для индивидуального жилищного строительства | E19: 600 | F19: 0
B20: =[1]Лист1!B119 -> Астраханская область, Наримановский район, северо-западнее МЖС "Наримановская" | C20: 30:08:100201:1357 | D20: для индивидуального жилищного строительства | E20: 600 | F20: 0
B21: =[1]Лист1!B12 -> Астраханская область, Наримановский район, северо-западнее МЖС "Наримановская" | C21: 30:08:100201:1358 | D21: для индивидуального жилищного строительства | E21: 600 | F21: 0
B22: =[1]Лист1!B121 -> Астраханская область, Наримановский район, северо-западнее МЖС "Наримановская" | C22: 30:08:100201:1360 | D22: для индивидуального жилищного строительства | E22: 600 | F22: 0
B23: =[1]Лист1!B122 -> Астраханская область, Наримановский район, северо-западнее МЖС "Наримановская" | C23: 30:08:100201:1361 | D23: для индивидуального жилищного строительства | E23: 600 | F23: 0
B24: =[1]Лист1!B123 -> Астраханская область, Наримановский район, северо-западнее МЖС "Наримановская" | C24: 30:08:100201:1362 | D24: для индивидуального жилищного строительства | E24: 600 | F24: 0
B25: =[1]Лист1!B124 -> Астраханская область, Наримановский район, северо-западнее МЖС "Наримановская" | C25: 30:08:100201:1363 | D25: для индивидуального жилищного строительства | E25: 600 | F25: 0
B26: =[1]Лист1!B125 -> Астраханская область, Наримановский район, северо-западнее МЖС "Наримановская" | C26: 30:08:100201:1364 | D26: для индивидуального жилищного строительства | E26: 600 | F26: 0
B27: =[1]Лист1!B127 -> Астраханская область, Наримановский район, северо-западнее МЖС "Наримановская" | C27: 30:08:100201:1366 | D27: для индивидуального жилищного строительства | E27: 600 | F27: 0
B28: =[1]Лист1!B128 -> Астраханская область, Наримановский район, северо-западнее МЖС "Наримановская" | C28: 30:08:100201:1367 | D28: для индивидуального жилищного строительства | E28: 600 | F28: 0
B29: =[1]Лист1!B129 -> Астраханская область, Наримановский район, северо-западнее МЖС "Наримановская" | C29: 30:08:100201:1368 | D29: для индивидуального жилищного строительства | E29: 600 | F29: 0
B30: =[1]Лист1!B130 -> Астраханская область, Наримановский район, северо-западнее МЖС "Наримановская" | C30: 30:08:100201:1370 | D30: для индивидуального жилищного строительства | E30: 600 | F30: 0
B31: =[1]Лист1!B132 -> Астраханская область, Наримановский район, северо-западнее МЖС "Наримановская" | C31: 30:08:100201:1372 | D31: для индивидуального жилищного строительства | E31: 600 | F31: 0
B32: =[1]Лист1!B133 -> Астраханская область, Наримановский район, северо-западнее МЖС "Наримановская" | C32: 30:08:100201:1373 | D32: для индивидуального жилищного строительства | E32: 600 | F32: 0
B33: =[1]Лист1!B135 -> Астраханская область, Наримановский район, северо-западнее МЖС "Наримановская" | C33: 30:08:100201:1375 | D33: для индивидуального жилищного строительства | E33: 600 | F33: 0
B34: =[1]Лист1!B136 -> Астраханская область, Наримановский район, северо-западнее МЖС "Наримановская" | C34: 30:08:100201:1376 | D34: для индивидуального жилищного строительства | E34: 600 | F34: 0
B35: =[1]Лист1!B139 -> Астраханская область, Наримановский район, северо-западнее МЖС "Наримановская" | C35: 30:08:100201:1379 | D35: для индивидуального жилищного строительства | E35: 600 | F35: 0
B36: =[1]Лист1!B140 -> Астраханская область, Наримановский район, северо-западнее МЖС "Наримановская" | C36: 30:08:100201:1381 | D36: для индивидуального жилищного строительства | E36: 600 | F36: 0
B37: =[1]Лист1!B141 -> Астраханская область, Наримановский район, северо-западнее МЖС "Наримановская" | C37: 30:08:100201:1382 | D37: для индивидуального жилищного строительства | E37: 600 | F37: 0
B38: =[1]Лист1!B142 -> Астраханская область, Наримановский район, северо-западнее МЖС "Наримановская" | C38: 30:08:100201:1383 | D38: для индивидуального жилищного строительства | E38: 600 | F38: 0
B39: =[1]Лист1!B143 -> Астраханская область, Наримановский район, северо-западнее МЖС "Наримановская" | C39: 30:08:100201:1384 | D39: для индивидуального жилищного строительства | E39: 600 | F39: 0
B40: =[1]Лист1!B145 -> Астраханская область, Наримановский район, северо-западнее МЖС "Наримановская" | C40: 30:08:100201:1386 | D40: для индивидуального жилищного строительства | E40: 600 | F40: 0
...
